BEGIN:VCALENDAR
VERSION:2.0
PRODID:-//The Auld Shebeen - ECPv6.15.20//NONSGML v1.0//EN
CALSCALE:GREGORIAN
METHOD:PUBLISH
X-WR-CALNAME:The Auld Shebeen
X-ORIGINAL-URL:https://theauldshebeenva.com
X-WR-CALDESC:Events for The Auld Shebeen
REFRESH-INTERVAL;VALUE=DURATION:PT1H
X-Robots-Tag:noindex
X-PUBLISHED-TTL:PT1H
BEGIN:VTIMEZONE
TZID:America/New_York
BEGIN:DAYLIGHT
TZOFFSETFROM:-0500
TZOFFSETTO:-0400
TZNAME:EDT
DTSTART:20240310T070000
END:DAYLIGHT
BEGIN:STANDARD
TZOFFSETFROM:-0400
TZOFFSETTO:-0500
TZNAME:EST
DTSTART:20241103T060000
END:STANDARD
BEGIN:DAYLIGHT
TZOFFSETFROM:-0500
TZOFFSETTO:-0400
TZNAME:EDT
DTSTART:20250309T070000
END:DAYLIGHT
BEGIN:STANDARD
TZOFFSETFROM:-0400
TZOFFSETTO:-0500
TZNAME:EST
DTSTART:20251102T060000
END:STANDARD
BEGIN:DAYLIGHT
TZOFFSETFROM:-0500
TZOFFSETTO:-0400
TZNAME:EDT
DTSTART:20260308T070000
END:DAYLIGHT
BEGIN:STANDARD
TZOFFSETFROM:-0400
TZOFFSETTO:-0500
TZNAME:EST
DTSTART:20261101T060000
END:STANDARD
END:VTIMEZONE
BEGIN:VEVENT
DTSTART;TZID=America/New_York:20251118T193000
DTEND;TZID=America/New_York:20251118T213000
DTSTAMP:20260424T041333
CREATED:20240726T161020Z
LAST-MODIFIED:20260225T194609Z
UID:10000749-1763494200-1763501400@theauldshebeenva.com
SUMMARY:Pub Quiz - Trivia Night and Chefs Taco Specials
DESCRIPTION:Enjoy our weekly pub Quiz hosted by Sporcle\, games at 7.30pm and 8.30pm\, win gift cards to the pub! Always a fun night with friends or family!
URL:https://theauldshebeenva.com/event/pub-quiz-trivia-night/2025-11-18/
LOCATION:VA
CATEGORIES:Other Entertainment
ATTACH;FMTTYPE=image/png:https://theauldshebeenva.com/wp-content/uploads/Sporcle-1.png
END:VEVENT
BEGIN:VEVENT
DTSTART;TZID=America/New_York:20251115T190000
DTEND;TZID=America/New_York:20251115T213000
DTSTAMP:20260424T041333
CREATED:20180709T184138Z
LAST-MODIFIED:20251028T151216Z
UID:10001931-1763233200-1763242200@theauldshebeenva.com
SUMMARY:Sean Fleming
DESCRIPTION:Sean Fleming has talent that is as wide and varied as his lifestyle\, from his birth in a Golf Club House (“….it’s no wonder I’m a golf nut\,” says Sean) on the shores of the beautiful Lakes of Killarney to his many\, many appearances in the United States such as in Philadelphia at the Robin Hood Dell where he performed to an audience of 9\,000\, on the Merv Griffin Show and as the Headliner at Carnegie Hall to a sold out house. \nSean began playing traditional Irish music in Irish dance halls and then his ambition as a singer began to take shape and he formed the Rocketeers Irish Showband. The Rocketeers toured through out the U.S. and Canada playing in major cities such as Chicago\, Boston\, New York\, San Francisco and Toronto. Sean’s first big break came through the help of someone that holds a special place in Sean’s memory\, Merv Griffin. Sean was chosen from the audience to perform on Merv’s Show which consequently led to several more appearances over the next couple of years on the Merv Griffin Show. Sean shared the spotlight with such artists as the Beach Boys\, David Soul\, Della Reese and Rodney Dangerfield. The shape of his career was becoming quite definite when he signed with MGM records and MGM motion pictures. However\, it took an abrupt twist when he was called by Uncle Sam. \nAfter serving Uncle Sam\, Sean found himself back in New York starting all over again. His beginnings this time were spent working in small clubs and bars\, which eventually led to many concert performances\, including the one he gave in Philadelphia to 9\,000 people. Other appearances include: the Irish Cultural Center in San Francisco and Southern Florida; Warner Brothers Theatre\, Ohio; Westchester Country Club\, New York; Flanagan’s in New York\, and his own bar in New York City through 1994\, Ireland’s Four Provinces and Cellar Door Productions in Washington D.C.(The Bayou)and Alexandria\, Virginia’s Birchmere\, Music Fest Bethleham\, PA and all over the united states with the Irish Tourist Board . Also to his credit are many radio shows and television appearances (including the PBS  “Out of Ireland” series) throughout the United States\, Ireland\, Japan\, Argentina\, the Philippines and the Czech Republic.
URL:https://theauldshebeenva.com/event/sean-fleming/2025-11-15/
LOCATION:The Auld Shebeen\, 3971 Chain Bridge Road\, Fairfax\, VA\, 22030
CATEGORIES:Live Music,Other Entertainment
ATTACH;FMTTYPE=image/jpeg:https://theauldshebeenva.com/wp-content/uploads/Sean-Fleming-2025.jpeg
END:VEVENT
BEGIN:VEVENT
DTSTART;TZID=America/New_York:20251115T120000
DTEND;TZID=America/New_York:20251115T150000
DTSTAMP:20260424T041333
CREATED:20240726T163428Z
LAST-MODIFIED:20240726T163527Z
UID:10001532-1763208000-1763218800@theauldshebeenva.com
SUMMARY:Ceoltas Ceoltoiri Eireann Session Players
DESCRIPTION:Enjoy brunch or lunch while you listen to a traditional Irish session by local CCE members every Saturday from noon- 3pm.
URL:https://theauldshebeenva.com/event/ceoltas-ceoltoiri-eireann-session-players/2025-11-15/
LOCATION:VA
CATEGORIES:Live Music,Other Entertainment
ATTACH;FMTTYPE=image/jpeg:https://theauldshebeenva.com/wp-content/uploads/003-scaled.jpg
END:VEVENT
BEGIN:VEVENT
DTSTART;TZID=America/New_York:20251114T190000
DTEND;TZID=America/New_York:20251114T213000
DTSTAMP:20260424T041333
CREATED:20180709T184138Z
LAST-MODIFIED:20251028T151216Z
UID:10001930-1763146800-1763155800@theauldshebeenva.com
SUMMARY:Sean Fleming
DESCRIPTION:Sean Fleming has talent that is as wide and varied as his lifestyle\, from his birth in a Golf Club House (“….it’s no wonder I’m a golf nut\,” says Sean) on the shores of the beautiful Lakes of Killarney to his many\, many appearances in the United States such as in Philadelphia at the Robin Hood Dell where he performed to an audience of 9\,000\, on the Merv Griffin Show and as the Headliner at Carnegie Hall to a sold out house. \nSean began playing traditional Irish music in Irish dance halls and then his ambition as a singer began to take shape and he formed the Rocketeers Irish Showband. The Rocketeers toured through out the U.S. and Canada playing in major cities such as Chicago\, Boston\, New York\, San Francisco and Toronto. Sean’s first big break came through the help of someone that holds a special place in Sean’s memory\, Merv Griffin. Sean was chosen from the audience to perform on Merv’s Show which consequently led to several more appearances over the next couple of years on the Merv Griffin Show. Sean shared the spotlight with such artists as the Beach Boys\, David Soul\, Della Reese and Rodney Dangerfield. The shape of his career was becoming quite definite when he signed with MGM records and MGM motion pictures. However\, it took an abrupt twist when he was called by Uncle Sam. \nAfter serving Uncle Sam\, Sean found himself back in New York starting all over again. His beginnings this time were spent working in small clubs and bars\, which eventually led to many concert performances\, including the one he gave in Philadelphia to 9\,000 people. Other appearances include: the Irish Cultural Center in San Francisco and Southern Florida; Warner Brothers Theatre\, Ohio; Westchester Country Club\, New York; Flanagan’s in New York\, and his own bar in New York City through 1994\, Ireland’s Four Provinces and Cellar Door Productions in Washington D.C.(The Bayou)and Alexandria\, Virginia’s Birchmere\, Music Fest Bethleham\, PA and all over the united states with the Irish Tourist Board . Also to his credit are many radio shows and television appearances (including the PBS  “Out of Ireland” series) throughout the United States\, Ireland\, Japan\, Argentina\, the Philippines and the Czech Republic.
URL:https://theauldshebeenva.com/event/sean-fleming/2025-11-14/
LOCATION:The Auld Shebeen\, 3971 Chain Bridge Road\, Fairfax\, VA\, 22030
CATEGORIES:Live Music,Other Entertainment
ATTACH;FMTTYPE=image/jpeg:https://theauldshebeenva.com/wp-content/uploads/Sean-Fleming-2025.jpeg
END:VEVENT
BEGIN:VEVENT
DTSTART;TZID=America/New_York:20251113T160000
DTEND;TZID=America/New_York:20251113T213000
DTSTAMP:20260424T041333
CREATED:20250423T185024Z
LAST-MODIFIED:20250423T185024Z
UID:10002277-1763049600-1763069400@theauldshebeenva.com
SUMMARY:Thursday\, Teres Major Steak Special
DESCRIPTION:Every Thursday enjoy our Teres Major Steak Special for $20.95. \n8oz Teres Major (shoulder tenderloin) cut of beef with chimichurri sauce (South American style sauce with chili flakes\, garlic\, parsley\, olive oil and vinegar). Served with pub fries and a small Shebeen salad. \n 
URL:https://theauldshebeenva.com/event/thursday-teres-major-steak-special/2025-11-13/
LOCATION:The Auld Shebeen\, 3971 Chain Bridge Road\, Fairfax\, VA\, 22030
CATEGORIES:Menu Specials,Special Events
ATTACH;FMTTYPE=image/jpeg:https://theauldshebeenva.com/wp-content/uploads/Teres-Major-1-1.jpg
END:VEVENT
BEGIN:VEVENT
DTSTART;TZID=America/New_York:20251112T210000
DTEND;TZID=America/New_York:20251113T013000
DTSTAMP:20260424T041333
CREATED:20240726T161846Z
LAST-MODIFIED:20240726T162603Z
UID:10001270-1762981200-1762997400@theauldshebeenva.com
SUMMARY:EDM Night hosted by Transit (Cellar Event)
DESCRIPTION:TRANSIT – The longest running dance party in the DMV area. Hear the best of the underground with great DJs in our Cellar.
URL:https://theauldshebeenva.com/event/edm-night-hosted-by-transit-cellar-event/2025-11-12/
LOCATION:VA
CATEGORIES:Other Entertainment
ATTACH;FMTTYPE=image/png:https://theauldshebeenva.com/wp-content/uploads/Transit-final-deluxe-high-res-for-sticker.png
END:VEVENT
BEGIN:VEVENT
DTSTART;TZID=America/New_York:20251112T160000
DTEND;TZID=America/New_York:20251112T220000
DTSTAMP:20260424T041333
CREATED:20250423T181043Z
LAST-MODIFIED:20250423T183539Z
UID:10001981-1762963200-1762984800@theauldshebeenva.com
SUMMARY:Pie and Pint Night $20.95
DESCRIPTION:Enjoy one of our Chicken Pot Pies\, Steak and Mushroom Ale Pie or Shepherd’s Pies and a pint of your choice for $20.95!
URL:https://theauldshebeenva.com/event/pie-and-pint-night/2025-11-12/
LOCATION:VA
CATEGORIES:Menu Specials,Other Entertainment
ATTACH;FMTTYPE=image/jpeg:https://theauldshebeenva.com/wp-content/uploads/Pie-and-Pint.jpg
END:VEVENT
BEGIN:VEVENT
DTSTART;TZID=America/New_York:20251111T193000
DTEND;TZID=America/New_York:20251111T213000
DTSTAMP:20260424T041333
CREATED:20240726T161020Z
LAST-MODIFIED:20260225T194609Z
UID:10000748-1762889400-1762896600@theauldshebeenva.com
SUMMARY:Pub Quiz - Trivia Night and Chefs Taco Specials
DESCRIPTION:Enjoy our weekly pub Quiz hosted by Sporcle\, games at 7.30pm and 8.30pm\, win gift cards to the pub! Always a fun night with friends or family!
URL:https://theauldshebeenva.com/event/pub-quiz-trivia-night/2025-11-11/
LOCATION:VA
CATEGORIES:Other Entertainment
ATTACH;FMTTYPE=image/png:https://theauldshebeenva.com/wp-content/uploads/Sporcle-1.png
END:VEVENT
BEGIN:VEVENT
DTSTART;TZID=America/New_York:20251108T120000
DTEND;TZID=America/New_York:20251108T150000
DTSTAMP:20260424T041333
CREATED:20240726T163428Z
LAST-MODIFIED:20240726T163527Z
UID:10001531-1762603200-1762614000@theauldshebeenva.com
SUMMARY:Ceoltas Ceoltoiri Eireann Session Players
DESCRIPTION:Enjoy brunch or lunch while you listen to a traditional Irish session by local CCE members every Saturday from noon- 3pm.
URL:https://theauldshebeenva.com/event/ceoltas-ceoltoiri-eireann-session-players/2025-11-08/
LOCATION:VA
CATEGORIES:Live Music,Other Entertainment
ATTACH;FMTTYPE=image/jpeg:https://theauldshebeenva.com/wp-content/uploads/003-scaled.jpg
END:VEVENT
BEGIN:VEVENT
DTSTART;TZID=America/New_York:20251106T160000
DTEND;TZID=America/New_York:20251106T213000
DTSTAMP:20260424T041333
CREATED:20250423T185024Z
LAST-MODIFIED:20250423T185024Z
UID:10002276-1762444800-1762464600@theauldshebeenva.com
SUMMARY:Thursday\, Teres Major Steak Special
DESCRIPTION:Every Thursday enjoy our Teres Major Steak Special for $20.95. \n8oz Teres Major (shoulder tenderloin) cut of beef with chimichurri sauce (South American style sauce with chili flakes\, garlic\, parsley\, olive oil and vinegar). Served with pub fries and a small Shebeen salad. \n 
URL:https://theauldshebeenva.com/event/thursday-teres-major-steak-special/2025-11-06/
LOCATION:The Auld Shebeen\, 3971 Chain Bridge Road\, Fairfax\, VA\, 22030
CATEGORIES:Menu Specials,Special Events
ATTACH;FMTTYPE=image/jpeg:https://theauldshebeenva.com/wp-content/uploads/Teres-Major-1-1.jpg
END:VEVENT
BEGIN:VEVENT
DTSTART;TZID=America/New_York:20251105T210000
DTEND;TZID=America/New_York:20251106T013000
DTSTAMP:20260424T041333
CREATED:20240726T161846Z
LAST-MODIFIED:20240726T162603Z
UID:10001269-1762376400-1762392600@theauldshebeenva.com
SUMMARY:EDM Night hosted by Transit (Cellar Event)
DESCRIPTION:TRANSIT – The longest running dance party in the DMV area. Hear the best of the underground with great DJs in our Cellar.
URL:https://theauldshebeenva.com/event/edm-night-hosted-by-transit-cellar-event/2025-11-05/
LOCATION:VA
CATEGORIES:Other Entertainment
ATTACH;FMTTYPE=image/png:https://theauldshebeenva.com/wp-content/uploads/Transit-final-deluxe-high-res-for-sticker.png
END:VEVENT
BEGIN:VEVENT
DTSTART;TZID=America/New_York:20251105T160000
DTEND;TZID=America/New_York:20251105T220000
DTSTAMP:20260424T041333
CREATED:20250423T181043Z
LAST-MODIFIED:20250423T183539Z
UID:10001980-1762358400-1762380000@theauldshebeenva.com
SUMMARY:Pie and Pint Night $20.95
DESCRIPTION:Enjoy one of our Chicken Pot Pies\, Steak and Mushroom Ale Pie or Shepherd’s Pies and a pint of your choice for $20.95!
URL:https://theauldshebeenva.com/event/pie-and-pint-night/2025-11-05/
LOCATION:VA
CATEGORIES:Menu Specials,Other Entertainment
ATTACH;FMTTYPE=image/jpeg:https://theauldshebeenva.com/wp-content/uploads/Pie-and-Pint.jpg
END:VEVENT
BEGIN:VEVENT
DTSTART;TZID=America/New_York:20251104T193000
DTEND;TZID=America/New_York:20251104T213000
DTSTAMP:20260424T041333
CREATED:20240726T161020Z
LAST-MODIFIED:20260225T194609Z
UID:10000747-1762284600-1762291800@theauldshebeenva.com
SUMMARY:Pub Quiz - Trivia Night and Chefs Taco Specials
DESCRIPTION:Enjoy our weekly pub Quiz hosted by Sporcle\, games at 7.30pm and 8.30pm\, win gift cards to the pub! Always a fun night with friends or family!
URL:https://theauldshebeenva.com/event/pub-quiz-trivia-night/2025-11-04/
LOCATION:VA
CATEGORIES:Other Entertainment
ATTACH;FMTTYPE=image/png:https://theauldshebeenva.com/wp-content/uploads/Sporcle-1.png
END:VEVENT
BEGIN:VEVENT
DTSTART;TZID=America/New_York:20251101T190000
DTEND;TZID=America/New_York:20251101T213000
DTSTAMP:20260424T041333
CREATED:20180616T160922Z
LAST-MODIFIED:20251209T175356Z
UID:10001922-1762023600-1762032600@theauldshebeenva.com
SUMMARY:Pat Garvey
DESCRIPTION:Pat Garvey has been playing Irish folk music in the Washington D.C. area since 1978.  A native of Hungry Hill (“Home of the Irish”) in Springfield\, Massachusetts\, he moved to D.C. to join a folk group called “The Gaels”.  Pat began a solo career in 1984 appearing in clubs and festivals throughout the U.S. when in 1994 he signed on with “Brendan’s Voyage”\, a duo with keyboard artist Fergus Kennedy.  After a stint as the owner of Mrs. O’Leary’s Irish Pub in Gaithersburg\, Maryland\, Pat Garvey is back as a full time performer and you can catch him here at The Auld Shebeen most months on a Friday & Saturday evening. Stop in for a pint and be ready to sing along!
URL:https://theauldshebeenva.com/event/pat-garvey-3/2025-11-01/
LOCATION:VA
CATEGORIES:Live Music,Other Entertainment
ATTACH;FMTTYPE=image/jpeg:https://theauldshebeenva.com/wp-content/uploads/Pat-Garvey-2025.jpeg
END:VEVENT
BEGIN:VEVENT
DTSTART;TZID=America/New_York:20251101T120000
DTEND;TZID=America/New_York:20251101T150000
DTSTAMP:20260424T041333
CREATED:20240726T163428Z
LAST-MODIFIED:20240726T163527Z
UID:10001530-1761998400-1762009200@theauldshebeenva.com
SUMMARY:Ceoltas Ceoltoiri Eireann Session Players
DESCRIPTION:Enjoy brunch or lunch while you listen to a traditional Irish session by local CCE members every Saturday from noon- 3pm.
URL:https://theauldshebeenva.com/event/ceoltas-ceoltoiri-eireann-session-players/2025-11-01/
LOCATION:VA
CATEGORIES:Live Music,Other Entertainment
ATTACH;FMTTYPE=image/jpeg:https://theauldshebeenva.com/wp-content/uploads/003-scaled.jpg
END:VEVENT
BEGIN:VEVENT
DTSTART;TZID=America/New_York:20251031T190000
DTEND;TZID=America/New_York:20251031T213000
DTSTAMP:20260424T041333
CREATED:20180616T160922Z
LAST-MODIFIED:20251209T175356Z
UID:10001921-1761937200-1761946200@theauldshebeenva.com
SUMMARY:Pat Garvey
DESCRIPTION:Pat Garvey has been playing Irish folk music in the Washington D.C. area since 1978.  A native of Hungry Hill (“Home of the Irish”) in Springfield\, Massachusetts\, he moved to D.C. to join a folk group called “The Gaels”.  Pat began a solo career in 1984 appearing in clubs and festivals throughout the U.S. when in 1994 he signed on with “Brendan’s Voyage”\, a duo with keyboard artist Fergus Kennedy.  After a stint as the owner of Mrs. O’Leary’s Irish Pub in Gaithersburg\, Maryland\, Pat Garvey is back as a full time performer and you can catch him here at The Auld Shebeen most months on a Friday & Saturday evening. Stop in for a pint and be ready to sing along!
URL:https://theauldshebeenva.com/event/pat-garvey-3/2025-10-31/
LOCATION:VA
CATEGORIES:Live Music,Other Entertainment
ATTACH;FMTTYPE=image/jpeg:https://theauldshebeenva.com/wp-content/uploads/Pat-Garvey-2025.jpeg
END:VEVENT
BEGIN:VEVENT
DTSTART;TZID=America/New_York:20251030T160000
DTEND;TZID=America/New_York:20251030T213000
DTSTAMP:20260424T041333
CREATED:20250423T185024Z
LAST-MODIFIED:20250423T185024Z
UID:10002275-1761840000-1761859800@theauldshebeenva.com
SUMMARY:Thursday\, Teres Major Steak Special
DESCRIPTION:Every Thursday enjoy our Teres Major Steak Special for $20.95. \n8oz Teres Major (shoulder tenderloin) cut of beef with chimichurri sauce (South American style sauce with chili flakes\, garlic\, parsley\, olive oil and vinegar). Served with pub fries and a small Shebeen salad. \n 
URL:https://theauldshebeenva.com/event/thursday-teres-major-steak-special/2025-10-30/
LOCATION:The Auld Shebeen\, 3971 Chain Bridge Road\, Fairfax\, VA\, 22030
CATEGORIES:Menu Specials,Special Events
ATTACH;FMTTYPE=image/jpeg:https://theauldshebeenva.com/wp-content/uploads/Teres-Major-1-1.jpg
END:VEVENT
BEGIN:VEVENT
DTSTART;TZID=America/New_York:20251029T210000
DTEND;TZID=America/New_York:20251030T013000
DTSTAMP:20260424T041333
CREATED:20240726T161846Z
LAST-MODIFIED:20240726T162603Z
UID:10001268-1761771600-1761787800@theauldshebeenva.com
SUMMARY:EDM Night hosted by Transit (Cellar Event)
DESCRIPTION:TRANSIT – The longest running dance party in the DMV area. Hear the best of the underground with great DJs in our Cellar.
URL:https://theauldshebeenva.com/event/edm-night-hosted-by-transit-cellar-event/2025-10-29/
LOCATION:VA
CATEGORIES:Other Entertainment
ATTACH;FMTTYPE=image/png:https://theauldshebeenva.com/wp-content/uploads/Transit-final-deluxe-high-res-for-sticker.png
END:VEVENT
BEGIN:VEVENT
DTSTART;TZID=America/New_York:20251029T160000
DTEND;TZID=America/New_York:20251029T220000
DTSTAMP:20260424T041333
CREATED:20250423T181043Z
LAST-MODIFIED:20250423T183539Z
UID:10001979-1761753600-1761775200@theauldshebeenva.com
SUMMARY:Pie and Pint Night $20.95
DESCRIPTION:Enjoy one of our Chicken Pot Pies\, Steak and Mushroom Ale Pie or Shepherd’s Pies and a pint of your choice for $20.95!
URL:https://theauldshebeenva.com/event/pie-and-pint-night/2025-10-29/
LOCATION:VA
CATEGORIES:Menu Specials,Other Entertainment
ATTACH;FMTTYPE=image/jpeg:https://theauldshebeenva.com/wp-content/uploads/Pie-and-Pint.jpg
END:VEVENT
BEGIN:VEVENT
DTSTART;TZID=America/New_York:20251028T193000
DTEND;TZID=America/New_York:20251028T213000
DTSTAMP:20260424T041333
CREATED:20240726T161020Z
LAST-MODIFIED:20260225T194609Z
UID:10000746-1761679800-1761687000@theauldshebeenva.com
SUMMARY:Pub Quiz - Trivia Night and Chefs Taco Specials
DESCRIPTION:Enjoy our weekly pub Quiz hosted by Sporcle\, games at 7.30pm and 8.30pm\, win gift cards to the pub! Always a fun night with friends or family!
URL:https://theauldshebeenva.com/event/pub-quiz-trivia-night/2025-10-28/
LOCATION:VA
CATEGORIES:Other Entertainment
ATTACH;FMTTYPE=image/png:https://theauldshebeenva.com/wp-content/uploads/Sporcle-1.png
END:VEVENT
BEGIN:VEVENT
DTSTART;TZID=America/New_York:20251025T190000
DTEND;TZID=America/New_York:20251025T213000
DTSTAMP:20260424T041333
CREATED:20180403T180923Z
LAST-MODIFIED:20251003T174330Z
UID:10001937-1761418800-1761427800@theauldshebeenva.com
SUMMARY:The Quietmen
DESCRIPTION:The Quietmen are a New Jersey/Pennsylvania based band that specializes in acoustic and celtic rock/folk music.We play acoustic rock and folk from the 50’s through today. We can do an all-rock/folk show\, all Celtic or some combination of the two. We love to do songs that people know and can sing. \nCome out and sing along with The Quietmen! \nWe’ve added new videos to our youtube account!! Check them out using the link below:\nhttp://www.youtube.com/user/quietmenmusic \nFollow the Quietmen at twitter.com/quietmen\nLike us on Facebook.
URL:https://theauldshebeenva.com/event/the-quietmen-2/2025-10-25/
LOCATION:The Auld Shebeen\, 3971 Chain Bridge Road\, Fairfax\, VA\, 22030
CATEGORIES:Live Music,Other Entertainment
ATTACH;FMTTYPE=image/png:https://theauldshebeenva.com/wp-content/uploads/AuldShebeen_TheQuietman_577x577.png
END:VEVENT
BEGIN:VEVENT
DTSTART;TZID=America/New_York:20251025T120000
DTEND;TZID=America/New_York:20251025T150000
DTSTAMP:20260424T041333
CREATED:20240726T163428Z
LAST-MODIFIED:20240726T163527Z
UID:10001529-1761393600-1761404400@theauldshebeenva.com
SUMMARY:Ceoltas Ceoltoiri Eireann Session Players
DESCRIPTION:Enjoy brunch or lunch while you listen to a traditional Irish session by local CCE members every Saturday from noon- 3pm.
URL:https://theauldshebeenva.com/event/ceoltas-ceoltoiri-eireann-session-players/2025-10-25/
LOCATION:VA
CATEGORIES:Live Music,Other Entertainment
ATTACH;FMTTYPE=image/jpeg:https://theauldshebeenva.com/wp-content/uploads/003-scaled.jpg
END:VEVENT
BEGIN:VEVENT
DTSTART;TZID=America/New_York:20251024T190000
DTEND;TZID=America/New_York:20251024T213000
DTSTAMP:20260424T041333
CREATED:20180403T180923Z
LAST-MODIFIED:20251003T174330Z
UID:10001936-1761332400-1761341400@theauldshebeenva.com
SUMMARY:The Quietmen
DESCRIPTION:The Quietmen are a New Jersey/Pennsylvania based band that specializes in acoustic and celtic rock/folk music.We play acoustic rock and folk from the 50’s through today. We can do an all-rock/folk show\, all Celtic or some combination of the two. We love to do songs that people know and can sing. \nCome out and sing along with The Quietmen! \nWe’ve added new videos to our youtube account!! Check them out using the link below:\nhttp://www.youtube.com/user/quietmenmusic \nFollow the Quietmen at twitter.com/quietmen\nLike us on Facebook.
URL:https://theauldshebeenva.com/event/the-quietmen-2/2025-10-24/
LOCATION:The Auld Shebeen\, 3971 Chain Bridge Road\, Fairfax\, VA\, 22030
CATEGORIES:Live Music,Other Entertainment
ATTACH;FMTTYPE=image/png:https://theauldshebeenva.com/wp-content/uploads/AuldShebeen_TheQuietman_577x577.png
END:VEVENT
BEGIN:VEVENT
DTSTART;TZID=America/New_York:20251023T160000
DTEND;TZID=America/New_York:20251023T213000
DTSTAMP:20260424T041333
CREATED:20250423T185024Z
LAST-MODIFIED:20250423T185024Z
UID:10002274-1761235200-1761255000@theauldshebeenva.com
SUMMARY:Thursday\, Teres Major Steak Special
DESCRIPTION:Every Thursday enjoy our Teres Major Steak Special for $20.95. \n8oz Teres Major (shoulder tenderloin) cut of beef with chimichurri sauce (South American style sauce with chili flakes\, garlic\, parsley\, olive oil and vinegar). Served with pub fries and a small Shebeen salad. \n 
URL:https://theauldshebeenva.com/event/thursday-teres-major-steak-special/2025-10-23/
LOCATION:The Auld Shebeen\, 3971 Chain Bridge Road\, Fairfax\, VA\, 22030
CATEGORIES:Menu Specials,Special Events
ATTACH;FMTTYPE=image/jpeg:https://theauldshebeenva.com/wp-content/uploads/Teres-Major-1-1.jpg
END:VEVENT
END:VCALENDAR