BEGIN:VCALENDAR
VERSION:2.0
PRODID:-//The Auld Shebeen - ECPv6.15.20//NONSGML v1.0//EN
CALSCALE:GREGORIAN
METHOD:PUBLISH
X-WR-CALNAME:The Auld Shebeen
X-ORIGINAL-URL:https://theauldshebeenva.com
X-WR-CALDESC:Events for The Auld Shebeen
REFRESH-INTERVAL;VALUE=DURATION:PT1H
X-Robots-Tag:noindex
X-PUBLISHED-TTL:PT1H
BEGIN:VTIMEZONE
TZID:America/New_York
BEGIN:DAYLIGHT
TZOFFSETFROM:-0500
TZOFFSETTO:-0400
TZNAME:EDT
DTSTART:20270314T070000
END:DAYLIGHT
BEGIN:STANDARD
TZOFFSETFROM:-0400
TZOFFSETTO:-0500
TZNAME:EST
DTSTART:20271107T060000
END:STANDARD
BEGIN:DAYLIGHT
TZOFFSETFROM:-0500
TZOFFSETTO:-0400
TZNAME:EDT
DTSTART:20280312T070000
END:DAYLIGHT
BEGIN:STANDARD
TZOFFSETFROM:-0400
TZOFFSETTO:-0500
TZNAME:EST
DTSTART:20281105T060000
END:STANDARD
BEGIN:DAYLIGHT
TZOFFSETFROM:-0500
TZOFFSETTO:-0400
TZNAME:EDT
DTSTART:20290311T070000
END:DAYLIGHT
BEGIN:STANDARD
TZOFFSETFROM:-0400
TZOFFSETTO:-0500
TZNAME:EST
DTSTART:20291104T060000
END:STANDARD
END:VTIMEZONE
BEGIN:VEVENT
DTSTART;TZID=America/New_York:20280715T120000
DTEND;TZID=America/New_York:20280715T150000
DTSTAMP:20260425T232614
CREATED:20240726T163428Z
LAST-MODIFIED:20240726T163527Z
UID:10001671-1847275200-1847286000@theauldshebeenva.com
SUMMARY:Ceoltas Ceoltoiri Eireann Session Players
DESCRIPTION:Enjoy brunch or lunch while you listen to a traditional Irish session by local CCE members every Saturday from noon- 3pm.
URL:https://theauldshebeenva.com/event/ceoltas-ceoltoiri-eireann-session-players/2028-07-15/
CATEGORIES:Live Music,Other Entertainment
ATTACH;FMTTYPE=image/jpeg:https://theauldshebeenva.com/wp-content/uploads/003-scaled.jpg
END:VEVENT
BEGIN:VEVENT
DTSTART;TZID=America/New_York:20280718T193000
DTEND;TZID=America/New_York:20280718T213000
DTSTAMP:20260425T232614
CREATED:20240726T161020Z
LAST-MODIFIED:20260225T194609Z
UID:10000888-1847561400-1847568600@theauldshebeenva.com
SUMMARY:Pub Quiz - Trivia Night and Chefs Taco Specials
DESCRIPTION:Enjoy our weekly pub Quiz hosted by Sporcle\, games at 7.30pm and 8.30pm\, win gift cards to the pub! Always a fun night with friends or family!
URL:https://theauldshebeenva.com/event/pub-quiz-trivia-night/2028-07-18/
CATEGORIES:Other Entertainment
ATTACH;FMTTYPE=image/png:https://theauldshebeenva.com/wp-content/uploads/Sporcle-1.png
END:VEVENT
BEGIN:VEVENT
DTSTART;TZID=America/New_York:20280719T160000
DTEND;TZID=America/New_York:20280719T220000
DTSTAMP:20260425T232614
CREATED:20250423T181043Z
LAST-MODIFIED:20250423T183539Z
UID:10002121-1847635200-1847656800@theauldshebeenva.com
SUMMARY:Pie and Pint Night $20.95
DESCRIPTION:Enjoy one of our Chicken Pot Pies\, Steak and Mushroom Ale Pie or Shepherd’s Pies and a pint of your choice for $20.95!
URL:https://theauldshebeenva.com/event/pie-and-pint-night/2028-07-19/
CATEGORIES:Menu Specials,Other Entertainment
ATTACH;FMTTYPE=image/jpeg:https://theauldshebeenva.com/wp-content/uploads/Pie-and-Pint.jpg
END:VEVENT
BEGIN:VEVENT
DTSTART;TZID=America/New_York:20280719T210000
DTEND;TZID=America/New_York:20280720T013000
DTSTAMP:20260425T232614
CREATED:20240726T161846Z
LAST-MODIFIED:20240726T162603Z
UID:10001410-1847653200-1847669400@theauldshebeenva.com
SUMMARY:EDM Night hosted by Transit (Cellar Event)
DESCRIPTION:TRANSIT – The longest running dance party in the DMV area. Hear the best of the underground with great DJs in our Cellar.
URL:https://theauldshebeenva.com/event/edm-night-hosted-by-transit-cellar-event/2028-07-19/
CATEGORIES:Other Entertainment
ATTACH;FMTTYPE=image/png:https://theauldshebeenva.com/wp-content/uploads/Transit-final-deluxe-high-res-for-sticker.png
END:VEVENT
BEGIN:VEVENT
DTSTART;TZID=America/New_York:20280720T160000
DTEND;TZID=America/New_York:20280720T213000
DTSTAMP:20260425T232614
CREATED:20250423T185024Z
LAST-MODIFIED:20250423T185024Z
UID:10002417-1847721600-1847741400@theauldshebeenva.com
SUMMARY:Thursday\, Teres Major Steak Special
DESCRIPTION:Every Thursday enjoy our Teres Major Steak Special for $20.95. \n8oz Teres Major (shoulder tenderloin) cut of beef with chimichurri sauce (South American style sauce with chili flakes\, garlic\, parsley\, olive oil and vinegar). Served with pub fries and a small Shebeen salad. \n 
URL:https://theauldshebeenva.com/event/thursday-teres-major-steak-special/2028-07-20/
LOCATION:The Auld Shebeen\, 3971 Chain Bridge Road\, Fairfax\, VA\, 22030
CATEGORIES:Menu Specials,Special Events
ATTACH;FMTTYPE=image/jpeg:https://theauldshebeenva.com/wp-content/uploads/Teres-Major-1-1.jpg
END:VEVENT
BEGIN:VEVENT
DTSTART;TZID=America/New_York:20280722T120000
DTEND;TZID=America/New_York:20280722T150000
DTSTAMP:20260425T232614
CREATED:20240726T163428Z
LAST-MODIFIED:20240726T163527Z
UID:10001672-1847880000-1847890800@theauldshebeenva.com
SUMMARY:Ceoltas Ceoltoiri Eireann Session Players
DESCRIPTION:Enjoy brunch or lunch while you listen to a traditional Irish session by local CCE members every Saturday from noon- 3pm.
URL:https://theauldshebeenva.com/event/ceoltas-ceoltoiri-eireann-session-players/2028-07-22/
CATEGORIES:Live Music,Other Entertainment
ATTACH;FMTTYPE=image/jpeg:https://theauldshebeenva.com/wp-content/uploads/003-scaled.jpg
END:VEVENT
BEGIN:VEVENT
DTSTART;TZID=America/New_York:20280725T193000
DTEND;TZID=America/New_York:20280725T213000
DTSTAMP:20260425T232614
CREATED:20240726T161020Z
LAST-MODIFIED:20260225T194609Z
UID:10000889-1848166200-1848173400@theauldshebeenva.com
SUMMARY:Pub Quiz - Trivia Night and Chefs Taco Specials
DESCRIPTION:Enjoy our weekly pub Quiz hosted by Sporcle\, games at 7.30pm and 8.30pm\, win gift cards to the pub! Always a fun night with friends or family!
URL:https://theauldshebeenva.com/event/pub-quiz-trivia-night/2028-07-25/
CATEGORIES:Other Entertainment
ATTACH;FMTTYPE=image/png:https://theauldshebeenva.com/wp-content/uploads/Sporcle-1.png
END:VEVENT
BEGIN:VEVENT
DTSTART;TZID=America/New_York:20280726T160000
DTEND;TZID=America/New_York:20280726T220000
DTSTAMP:20260425T232614
CREATED:20250423T181043Z
LAST-MODIFIED:20250423T183539Z
UID:10002122-1848240000-1848261600@theauldshebeenva.com
SUMMARY:Pie and Pint Night $20.95
DESCRIPTION:Enjoy one of our Chicken Pot Pies\, Steak and Mushroom Ale Pie or Shepherd’s Pies and a pint of your choice for $20.95!
URL:https://theauldshebeenva.com/event/pie-and-pint-night/2028-07-26/
CATEGORIES:Menu Specials,Other Entertainment
ATTACH;FMTTYPE=image/jpeg:https://theauldshebeenva.com/wp-content/uploads/Pie-and-Pint.jpg
END:VEVENT
BEGIN:VEVENT
DTSTART;TZID=America/New_York:20280726T210000
DTEND;TZID=America/New_York:20280727T013000
DTSTAMP:20260425T232614
CREATED:20240726T161846Z
LAST-MODIFIED:20240726T162603Z
UID:10001411-1848258000-1848274200@theauldshebeenva.com
SUMMARY:EDM Night hosted by Transit (Cellar Event)
DESCRIPTION:TRANSIT – The longest running dance party in the DMV area. Hear the best of the underground with great DJs in our Cellar.
URL:https://theauldshebeenva.com/event/edm-night-hosted-by-transit-cellar-event/2028-07-26/
CATEGORIES:Other Entertainment
ATTACH;FMTTYPE=image/png:https://theauldshebeenva.com/wp-content/uploads/Transit-final-deluxe-high-res-for-sticker.png
END:VEVENT
BEGIN:VEVENT
DTSTART;TZID=America/New_York:20280727T160000
DTEND;TZID=America/New_York:20280727T213000
DTSTAMP:20260425T232614
CREATED:20250423T185024Z
LAST-MODIFIED:20250423T185024Z
UID:10002418-1848326400-1848346200@theauldshebeenva.com
SUMMARY:Thursday\, Teres Major Steak Special
DESCRIPTION:Every Thursday enjoy our Teres Major Steak Special for $20.95. \n8oz Teres Major (shoulder tenderloin) cut of beef with chimichurri sauce (South American style sauce with chili flakes\, garlic\, parsley\, olive oil and vinegar). Served with pub fries and a small Shebeen salad. \n 
URL:https://theauldshebeenva.com/event/thursday-teres-major-steak-special/2028-07-27/
LOCATION:The Auld Shebeen\, 3971 Chain Bridge Road\, Fairfax\, VA\, 22030
CATEGORIES:Menu Specials,Special Events
ATTACH;FMTTYPE=image/jpeg:https://theauldshebeenva.com/wp-content/uploads/Teres-Major-1-1.jpg
END:VEVENT
BEGIN:VEVENT
DTSTART;TZID=America/New_York:20280729T120000
DTEND;TZID=America/New_York:20280729T150000
DTSTAMP:20260425T232614
CREATED:20240726T163428Z
LAST-MODIFIED:20240726T163527Z
UID:10001673-1848484800-1848495600@theauldshebeenva.com
SUMMARY:Ceoltas Ceoltoiri Eireann Session Players
DESCRIPTION:Enjoy brunch or lunch while you listen to a traditional Irish session by local CCE members every Saturday from noon- 3pm.
URL:https://theauldshebeenva.com/event/ceoltas-ceoltoiri-eireann-session-players/2028-07-29/
CATEGORIES:Live Music,Other Entertainment
ATTACH;FMTTYPE=image/jpeg:https://theauldshebeenva.com/wp-content/uploads/003-scaled.jpg
END:VEVENT
BEGIN:VEVENT
DTSTART;TZID=America/New_York:20280801T193000
DTEND;TZID=America/New_York:20280801T213000
DTSTAMP:20260425T232614
CREATED:20240726T161020Z
LAST-MODIFIED:20260225T194609Z
UID:10000890-1848771000-1848778200@theauldshebeenva.com
SUMMARY:Pub Quiz - Trivia Night and Chefs Taco Specials
DESCRIPTION:Enjoy our weekly pub Quiz hosted by Sporcle\, games at 7.30pm and 8.30pm\, win gift cards to the pub! Always a fun night with friends or family!
URL:https://theauldshebeenva.com/event/pub-quiz-trivia-night/2028-08-01/
CATEGORIES:Other Entertainment
ATTACH;FMTTYPE=image/png:https://theauldshebeenva.com/wp-content/uploads/Sporcle-1.png
END:VEVENT
BEGIN:VEVENT
DTSTART;TZID=America/New_York:20280802T160000
DTEND;TZID=America/New_York:20280802T220000
DTSTAMP:20260425T232614
CREATED:20250423T181043Z
LAST-MODIFIED:20250423T183539Z
UID:10002123-1848844800-1848866400@theauldshebeenva.com
SUMMARY:Pie and Pint Night $20.95
DESCRIPTION:Enjoy one of our Chicken Pot Pies\, Steak and Mushroom Ale Pie or Shepherd’s Pies and a pint of your choice for $20.95!
URL:https://theauldshebeenva.com/event/pie-and-pint-night/2028-08-02/
CATEGORIES:Menu Specials,Other Entertainment
ATTACH;FMTTYPE=image/jpeg:https://theauldshebeenva.com/wp-content/uploads/Pie-and-Pint.jpg
END:VEVENT
BEGIN:VEVENT
DTSTART;TZID=America/New_York:20280802T210000
DTEND;TZID=America/New_York:20280803T013000
DTSTAMP:20260425T232614
CREATED:20240726T161846Z
LAST-MODIFIED:20240726T162603Z
UID:10001412-1848862800-1848879000@theauldshebeenva.com
SUMMARY:EDM Night hosted by Transit (Cellar Event)
DESCRIPTION:TRANSIT – The longest running dance party in the DMV area. Hear the best of the underground with great DJs in our Cellar.
URL:https://theauldshebeenva.com/event/edm-night-hosted-by-transit-cellar-event/2028-08-02/
CATEGORIES:Other Entertainment
ATTACH;FMTTYPE=image/png:https://theauldshebeenva.com/wp-content/uploads/Transit-final-deluxe-high-res-for-sticker.png
END:VEVENT
BEGIN:VEVENT
DTSTART;TZID=America/New_York:20280803T160000
DTEND;TZID=America/New_York:20280803T213000
DTSTAMP:20260425T232614
CREATED:20250423T185024Z
LAST-MODIFIED:20250423T185024Z
UID:10002419-1848931200-1848951000@theauldshebeenva.com
SUMMARY:Thursday\, Teres Major Steak Special
DESCRIPTION:Every Thursday enjoy our Teres Major Steak Special for $20.95. \n8oz Teres Major (shoulder tenderloin) cut of beef with chimichurri sauce (South American style sauce with chili flakes\, garlic\, parsley\, olive oil and vinegar). Served with pub fries and a small Shebeen salad. \n 
URL:https://theauldshebeenva.com/event/thursday-teres-major-steak-special/2028-08-03/
LOCATION:The Auld Shebeen\, 3971 Chain Bridge Road\, Fairfax\, VA\, 22030
CATEGORIES:Menu Specials,Special Events
ATTACH;FMTTYPE=image/jpeg:https://theauldshebeenva.com/wp-content/uploads/Teres-Major-1-1.jpg
END:VEVENT
BEGIN:VEVENT
DTSTART;TZID=America/New_York:20280805T120000
DTEND;TZID=America/New_York:20280805T150000
DTSTAMP:20260425T232614
CREATED:20240726T163428Z
LAST-MODIFIED:20240726T163527Z
UID:10001674-1849089600-1849100400@theauldshebeenva.com
SUMMARY:Ceoltas Ceoltoiri Eireann Session Players
DESCRIPTION:Enjoy brunch or lunch while you listen to a traditional Irish session by local CCE members every Saturday from noon- 3pm.
URL:https://theauldshebeenva.com/event/ceoltas-ceoltoiri-eireann-session-players/2028-08-05/
CATEGORIES:Live Music,Other Entertainment
ATTACH;FMTTYPE=image/jpeg:https://theauldshebeenva.com/wp-content/uploads/003-scaled.jpg
END:VEVENT
BEGIN:VEVENT
DTSTART;TZID=America/New_York:20280808T193000
DTEND;TZID=America/New_York:20280808T213000
DTSTAMP:20260425T232614
CREATED:20240726T161020Z
LAST-MODIFIED:20260225T194609Z
UID:10000891-1849375800-1849383000@theauldshebeenva.com
SUMMARY:Pub Quiz - Trivia Night and Chefs Taco Specials
DESCRIPTION:Enjoy our weekly pub Quiz hosted by Sporcle\, games at 7.30pm and 8.30pm\, win gift cards to the pub! Always a fun night with friends or family!
URL:https://theauldshebeenva.com/event/pub-quiz-trivia-night/2028-08-08/
CATEGORIES:Other Entertainment
ATTACH;FMTTYPE=image/png:https://theauldshebeenva.com/wp-content/uploads/Sporcle-1.png
END:VEVENT
BEGIN:VEVENT
DTSTART;TZID=America/New_York:20280809T160000
DTEND;TZID=America/New_York:20280809T220000
DTSTAMP:20260425T232614
CREATED:20250423T181043Z
LAST-MODIFIED:20250423T183539Z
UID:10002124-1849449600-1849471200@theauldshebeenva.com
SUMMARY:Pie and Pint Night $20.95
DESCRIPTION:Enjoy one of our Chicken Pot Pies\, Steak and Mushroom Ale Pie or Shepherd’s Pies and a pint of your choice for $20.95!
URL:https://theauldshebeenva.com/event/pie-and-pint-night/2028-08-09/
CATEGORIES:Menu Specials,Other Entertainment
ATTACH;FMTTYPE=image/jpeg:https://theauldshebeenva.com/wp-content/uploads/Pie-and-Pint.jpg
END:VEVENT
BEGIN:VEVENT
DTSTART;TZID=America/New_York:20280809T210000
DTEND;TZID=America/New_York:20280810T013000
DTSTAMP:20260425T232614
CREATED:20240726T161846Z
LAST-MODIFIED:20240726T162603Z
UID:10001413-1849467600-1849483800@theauldshebeenva.com
SUMMARY:EDM Night hosted by Transit (Cellar Event)
DESCRIPTION:TRANSIT – The longest running dance party in the DMV area. Hear the best of the underground with great DJs in our Cellar.
URL:https://theauldshebeenva.com/event/edm-night-hosted-by-transit-cellar-event/2028-08-09/
CATEGORIES:Other Entertainment
ATTACH;FMTTYPE=image/png:https://theauldshebeenva.com/wp-content/uploads/Transit-final-deluxe-high-res-for-sticker.png
END:VEVENT
BEGIN:VEVENT
DTSTART;TZID=America/New_York:20280810T160000
DTEND;TZID=America/New_York:20280810T213000
DTSTAMP:20260425T232614
CREATED:20250423T185024Z
LAST-MODIFIED:20250423T185024Z
UID:10002420-1849536000-1849555800@theauldshebeenva.com
SUMMARY:Thursday\, Teres Major Steak Special
DESCRIPTION:Every Thursday enjoy our Teres Major Steak Special for $20.95. \n8oz Teres Major (shoulder tenderloin) cut of beef with chimichurri sauce (South American style sauce with chili flakes\, garlic\, parsley\, olive oil and vinegar). Served with pub fries and a small Shebeen salad. \n 
URL:https://theauldshebeenva.com/event/thursday-teres-major-steak-special/2028-08-10/
LOCATION:The Auld Shebeen\, 3971 Chain Bridge Road\, Fairfax\, VA\, 22030
CATEGORIES:Menu Specials,Special Events
ATTACH;FMTTYPE=image/jpeg:https://theauldshebeenva.com/wp-content/uploads/Teres-Major-1-1.jpg
END:VEVENT
BEGIN:VEVENT
DTSTART;TZID=America/New_York:20280812T120000
DTEND;TZID=America/New_York:20280812T150000
DTSTAMP:20260425T232614
CREATED:20240726T163428Z
LAST-MODIFIED:20240726T163527Z
UID:10001675-1849694400-1849705200@theauldshebeenva.com
SUMMARY:Ceoltas Ceoltoiri Eireann Session Players
DESCRIPTION:Enjoy brunch or lunch while you listen to a traditional Irish session by local CCE members every Saturday from noon- 3pm.
URL:https://theauldshebeenva.com/event/ceoltas-ceoltoiri-eireann-session-players/2028-08-12/
CATEGORIES:Live Music,Other Entertainment
ATTACH;FMTTYPE=image/jpeg:https://theauldshebeenva.com/wp-content/uploads/003-scaled.jpg
END:VEVENT
BEGIN:VEVENT
DTSTART;TZID=America/New_York:20280815T193000
DTEND;TZID=America/New_York:20280815T213000
DTSTAMP:20260425T232614
CREATED:20240726T161020Z
LAST-MODIFIED:20260225T194609Z
UID:10000892-1849980600-1849987800@theauldshebeenva.com
SUMMARY:Pub Quiz - Trivia Night and Chefs Taco Specials
DESCRIPTION:Enjoy our weekly pub Quiz hosted by Sporcle\, games at 7.30pm and 8.30pm\, win gift cards to the pub! Always a fun night with friends or family!
URL:https://theauldshebeenva.com/event/pub-quiz-trivia-night/2028-08-15/
CATEGORIES:Other Entertainment
ATTACH;FMTTYPE=image/png:https://theauldshebeenva.com/wp-content/uploads/Sporcle-1.png
END:VEVENT
BEGIN:VEVENT
DTSTART;TZID=America/New_York:20280816T160000
DTEND;TZID=America/New_York:20280816T220000
DTSTAMP:20260425T232614
CREATED:20250423T181043Z
LAST-MODIFIED:20250423T183539Z
UID:10002125-1850054400-1850076000@theauldshebeenva.com
SUMMARY:Pie and Pint Night $20.95
DESCRIPTION:Enjoy one of our Chicken Pot Pies\, Steak and Mushroom Ale Pie or Shepherd’s Pies and a pint of your choice for $20.95!
URL:https://theauldshebeenva.com/event/pie-and-pint-night/2028-08-16/
CATEGORIES:Menu Specials,Other Entertainment
ATTACH;FMTTYPE=image/jpeg:https://theauldshebeenva.com/wp-content/uploads/Pie-and-Pint.jpg
END:VEVENT
BEGIN:VEVENT
DTSTART;TZID=America/New_York:20280816T210000
DTEND;TZID=America/New_York:20280817T013000
DTSTAMP:20260425T232614
CREATED:20240726T161846Z
LAST-MODIFIED:20240726T162603Z
UID:10001414-1850072400-1850088600@theauldshebeenva.com
SUMMARY:EDM Night hosted by Transit (Cellar Event)
DESCRIPTION:TRANSIT – The longest running dance party in the DMV area. Hear the best of the underground with great DJs in our Cellar.
URL:https://theauldshebeenva.com/event/edm-night-hosted-by-transit-cellar-event/2028-08-16/
CATEGORIES:Other Entertainment
ATTACH;FMTTYPE=image/png:https://theauldshebeenva.com/wp-content/uploads/Transit-final-deluxe-high-res-for-sticker.png
END:VEVENT
BEGIN:VEVENT
DTSTART;TZID=America/New_York:20280817T160000
DTEND;TZID=America/New_York:20280817T213000
DTSTAMP:20260425T232614
CREATED:20250423T185024Z
LAST-MODIFIED:20250423T185024Z
UID:10002421-1850140800-1850160600@theauldshebeenva.com
SUMMARY:Thursday\, Teres Major Steak Special
DESCRIPTION:Every Thursday enjoy our Teres Major Steak Special for $20.95. \n8oz Teres Major (shoulder tenderloin) cut of beef with chimichurri sauce (South American style sauce with chili flakes\, garlic\, parsley\, olive oil and vinegar). Served with pub fries and a small Shebeen salad. \n 
URL:https://theauldshebeenva.com/event/thursday-teres-major-steak-special/2028-08-17/
LOCATION:The Auld Shebeen\, 3971 Chain Bridge Road\, Fairfax\, VA\, 22030
CATEGORIES:Menu Specials,Special Events
ATTACH;FMTTYPE=image/jpeg:https://theauldshebeenva.com/wp-content/uploads/Teres-Major-1-1.jpg
END:VEVENT
BEGIN:VEVENT
DTSTART;TZID=America/New_York:20280819T120000
DTEND;TZID=America/New_York:20280819T150000
DTSTAMP:20260425T232614
CREATED:20240726T163428Z
LAST-MODIFIED:20240726T163527Z
UID:10001676-1850299200-1850310000@theauldshebeenva.com
SUMMARY:Ceoltas Ceoltoiri Eireann Session Players
DESCRIPTION:Enjoy brunch or lunch while you listen to a traditional Irish session by local CCE members every Saturday from noon- 3pm.
URL:https://theauldshebeenva.com/event/ceoltas-ceoltoiri-eireann-session-players/2028-08-19/
CATEGORIES:Live Music,Other Entertainment
ATTACH;FMTTYPE=image/jpeg:https://theauldshebeenva.com/wp-content/uploads/003-scaled.jpg
END:VEVENT
BEGIN:VEVENT
DTSTART;TZID=America/New_York:20280822T193000
DTEND;TZID=America/New_York:20280822T213000
DTSTAMP:20260425T232614
CREATED:20240726T161020Z
LAST-MODIFIED:20260225T194609Z
UID:10000893-1850585400-1850592600@theauldshebeenva.com
SUMMARY:Pub Quiz - Trivia Night and Chefs Taco Specials
DESCRIPTION:Enjoy our weekly pub Quiz hosted by Sporcle\, games at 7.30pm and 8.30pm\, win gift cards to the pub! Always a fun night with friends or family!
URL:https://theauldshebeenva.com/event/pub-quiz-trivia-night/2028-08-22/
CATEGORIES:Other Entertainment
ATTACH;FMTTYPE=image/png:https://theauldshebeenva.com/wp-content/uploads/Sporcle-1.png
END:VEVENT
BEGIN:VEVENT
DTSTART;TZID=America/New_York:20280823T160000
DTEND;TZID=America/New_York:20280823T220000
DTSTAMP:20260425T232614
CREATED:20250423T181043Z
LAST-MODIFIED:20250423T183539Z
UID:10002126-1850659200-1850680800@theauldshebeenva.com
SUMMARY:Pie and Pint Night $20.95
DESCRIPTION:Enjoy one of our Chicken Pot Pies\, Steak and Mushroom Ale Pie or Shepherd’s Pies and a pint of your choice for $20.95!
URL:https://theauldshebeenva.com/event/pie-and-pint-night/2028-08-23/
CATEGORIES:Menu Specials,Other Entertainment
ATTACH;FMTTYPE=image/jpeg:https://theauldshebeenva.com/wp-content/uploads/Pie-and-Pint.jpg
END:VEVENT
BEGIN:VEVENT
DTSTART;TZID=America/New_York:20280823T210000
DTEND;TZID=America/New_York:20280824T013000
DTSTAMP:20260425T232614
CREATED:20240726T161846Z
LAST-MODIFIED:20240726T162603Z
UID:10001415-1850677200-1850693400@theauldshebeenva.com
SUMMARY:EDM Night hosted by Transit (Cellar Event)
DESCRIPTION:TRANSIT – The longest running dance party in the DMV area. Hear the best of the underground with great DJs in our Cellar.
URL:https://theauldshebeenva.com/event/edm-night-hosted-by-transit-cellar-event/2028-08-23/
CATEGORIES:Other Entertainment
ATTACH;FMTTYPE=image/png:https://theauldshebeenva.com/wp-content/uploads/Transit-final-deluxe-high-res-for-sticker.png
END:VEVENT
BEGIN:VEVENT
DTSTART;TZID=America/New_York:20280824T160000
DTEND;TZID=America/New_York:20280824T213000
DTSTAMP:20260425T232614
CREATED:20250423T185024Z
LAST-MODIFIED:20250423T185024Z
UID:10002422-1850745600-1850765400@theauldshebeenva.com
SUMMARY:Thursday\, Teres Major Steak Special
DESCRIPTION:Every Thursday enjoy our Teres Major Steak Special for $20.95. \n8oz Teres Major (shoulder tenderloin) cut of beef with chimichurri sauce (South American style sauce with chili flakes\, garlic\, parsley\, olive oil and vinegar). Served with pub fries and a small Shebeen salad. \n 
URL:https://theauldshebeenva.com/event/thursday-teres-major-steak-special/2028-08-24/
LOCATION:The Auld Shebeen\, 3971 Chain Bridge Road\, Fairfax\, VA\, 22030
CATEGORIES:Menu Specials,Special Events
ATTACH;FMTTYPE=image/jpeg:https://theauldshebeenva.com/wp-content/uploads/Teres-Major-1-1.jpg
END:VEVENT
END:VCALENDAR