BEGIN:VCALENDAR
VERSION:2.0
PRODID:-//The Auld Shebeen - ECPv6.15.20//NONSGML v1.0//EN
CALSCALE:GREGORIAN
METHOD:PUBLISH
X-WR-CALNAME:The Auld Shebeen
X-ORIGINAL-URL:https://theauldshebeenva.com
X-WR-CALDESC:Events for The Auld Shebeen
REFRESH-INTERVAL;VALUE=DURATION:PT1H
X-Robots-Tag:noindex
X-PUBLISHED-TTL:PT1H
BEGIN:VTIMEZONE
TZID:America/New_York
BEGIN:DAYLIGHT
TZOFFSETFROM:-0500
TZOFFSETTO:-0400
TZNAME:EDT
DTSTART:20270314T070000
END:DAYLIGHT
BEGIN:STANDARD
TZOFFSETFROM:-0400
TZOFFSETTO:-0500
TZNAME:EST
DTSTART:20271107T060000
END:STANDARD
BEGIN:DAYLIGHT
TZOFFSETFROM:-0500
TZOFFSETTO:-0400
TZNAME:EDT
DTSTART:20280312T070000
END:DAYLIGHT
BEGIN:STANDARD
TZOFFSETFROM:-0400
TZOFFSETTO:-0500
TZNAME:EST
DTSTART:20281105T060000
END:STANDARD
BEGIN:DAYLIGHT
TZOFFSETFROM:-0500
TZOFFSETTO:-0400
TZNAME:EDT
DTSTART:20290311T070000
END:DAYLIGHT
BEGIN:STANDARD
TZOFFSETFROM:-0400
TZOFFSETTO:-0500
TZNAME:EST
DTSTART:20291104T060000
END:STANDARD
END:VTIMEZONE
BEGIN:VEVENT
DTSTART;TZID=America/New_York:20280503T210000
DTEND;TZID=America/New_York:20280504T013000
DTSTAMP:20260425T214801
CREATED:20240726T161846Z
LAST-MODIFIED:20240726T162603Z
UID:10001399-1841000400-1841016600@theauldshebeenva.com
SUMMARY:EDM Night hosted by Transit (Cellar Event)
DESCRIPTION:TRANSIT – The longest running dance party in the DMV area. Hear the best of the underground with great DJs in our Cellar.
URL:https://theauldshebeenva.com/event/edm-night-hosted-by-transit-cellar-event/2028-05-03/
LOCATION:VA
CATEGORIES:Other Entertainment
ATTACH;FMTTYPE=image/png:https://theauldshebeenva.com/wp-content/uploads/Transit-final-deluxe-high-res-for-sticker.png
END:VEVENT
BEGIN:VEVENT
DTSTART;TZID=America/New_York:20280504T160000
DTEND;TZID=America/New_York:20280504T213000
DTSTAMP:20260425T214801
CREATED:20250423T185024Z
LAST-MODIFIED:20250423T185024Z
UID:10002406-1841068800-1841088600@theauldshebeenva.com
SUMMARY:Thursday\, Teres Major Steak Special
DESCRIPTION:Every Thursday enjoy our Teres Major Steak Special for $20.95. \n8oz Teres Major (shoulder tenderloin) cut of beef with chimichurri sauce (South American style sauce with chili flakes\, garlic\, parsley\, olive oil and vinegar). Served with pub fries and a small Shebeen salad. \n 
URL:https://theauldshebeenva.com/event/thursday-teres-major-steak-special/2028-05-04/
LOCATION:The Auld Shebeen\, 3971 Chain Bridge Road\, Fairfax\, VA\, 22030
CATEGORIES:Menu Specials,Special Events
ATTACH;FMTTYPE=image/jpeg:https://theauldshebeenva.com/wp-content/uploads/Teres-Major-1-1.jpg
END:VEVENT
BEGIN:VEVENT
DTSTART;TZID=America/New_York:20280506T120000
DTEND;TZID=America/New_York:20280506T150000
DTSTAMP:20260425T214801
CREATED:20240726T163428Z
LAST-MODIFIED:20240726T163527Z
UID:10001661-1841227200-1841238000@theauldshebeenva.com
SUMMARY:Ceoltas Ceoltoiri Eireann Session Players
DESCRIPTION:Enjoy brunch or lunch while you listen to a traditional Irish session by local CCE members every Saturday from noon- 3pm.
URL:https://theauldshebeenva.com/event/ceoltas-ceoltoiri-eireann-session-players/2028-05-06/
LOCATION:VA
CATEGORIES:Live Music,Other Entertainment
ATTACH;FMTTYPE=image/jpeg:https://theauldshebeenva.com/wp-content/uploads/003-scaled.jpg
END:VEVENT
BEGIN:VEVENT
DTSTART;TZID=America/New_York:20280509T193000
DTEND;TZID=America/New_York:20280509T213000
DTSTAMP:20260425T214801
CREATED:20240726T161020Z
LAST-MODIFIED:20260225T194609Z
UID:10000878-1841513400-1841520600@theauldshebeenva.com
SUMMARY:Pub Quiz - Trivia Night and Chefs Taco Specials
DESCRIPTION:Enjoy our weekly pub Quiz hosted by Sporcle\, games at 7.30pm and 8.30pm\, win gift cards to the pub! Always a fun night with friends or family!
URL:https://theauldshebeenva.com/event/pub-quiz-trivia-night/2028-05-09/
LOCATION:VA
CATEGORIES:Other Entertainment
ATTACH;FMTTYPE=image/png:https://theauldshebeenva.com/wp-content/uploads/Sporcle-1.png
END:VEVENT
BEGIN:VEVENT
DTSTART;TZID=America/New_York:20280510T160000
DTEND;TZID=America/New_York:20280510T220000
DTSTAMP:20260425T214801
CREATED:20250423T181043Z
LAST-MODIFIED:20250423T183539Z
UID:10002111-1841587200-1841608800@theauldshebeenva.com
SUMMARY:Pie and Pint Night $20.95
DESCRIPTION:Enjoy one of our Chicken Pot Pies\, Steak and Mushroom Ale Pie or Shepherd’s Pies and a pint of your choice for $20.95!
URL:https://theauldshebeenva.com/event/pie-and-pint-night/2028-05-10/
LOCATION:VA
CATEGORIES:Menu Specials,Other Entertainment
ATTACH;FMTTYPE=image/jpeg:https://theauldshebeenva.com/wp-content/uploads/Pie-and-Pint.jpg
END:VEVENT
BEGIN:VEVENT
DTSTART;TZID=America/New_York:20280510T210000
DTEND;TZID=America/New_York:20280511T013000
DTSTAMP:20260425T214801
CREATED:20240726T161846Z
LAST-MODIFIED:20240726T162603Z
UID:10001400-1841605200-1841621400@theauldshebeenva.com
SUMMARY:EDM Night hosted by Transit (Cellar Event)
DESCRIPTION:TRANSIT – The longest running dance party in the DMV area. Hear the best of the underground with great DJs in our Cellar.
URL:https://theauldshebeenva.com/event/edm-night-hosted-by-transit-cellar-event/2028-05-10/
LOCATION:VA
CATEGORIES:Other Entertainment
ATTACH;FMTTYPE=image/png:https://theauldshebeenva.com/wp-content/uploads/Transit-final-deluxe-high-res-for-sticker.png
END:VEVENT
BEGIN:VEVENT
DTSTART;TZID=America/New_York:20280511T160000
DTEND;TZID=America/New_York:20280511T213000
DTSTAMP:20260425T214801
CREATED:20250423T185024Z
LAST-MODIFIED:20250423T185024Z
UID:10002407-1841673600-1841693400@theauldshebeenva.com
SUMMARY:Thursday\, Teres Major Steak Special
DESCRIPTION:Every Thursday enjoy our Teres Major Steak Special for $20.95. \n8oz Teres Major (shoulder tenderloin) cut of beef with chimichurri sauce (South American style sauce with chili flakes\, garlic\, parsley\, olive oil and vinegar). Served with pub fries and a small Shebeen salad. \n 
URL:https://theauldshebeenva.com/event/thursday-teres-major-steak-special/2028-05-11/
LOCATION:The Auld Shebeen\, 3971 Chain Bridge Road\, Fairfax\, VA\, 22030
CATEGORIES:Menu Specials,Special Events
ATTACH;FMTTYPE=image/jpeg:https://theauldshebeenva.com/wp-content/uploads/Teres-Major-1-1.jpg
END:VEVENT
BEGIN:VEVENT
DTSTART;TZID=America/New_York:20280513T120000
DTEND;TZID=America/New_York:20280513T150000
DTSTAMP:20260425T214801
CREATED:20240726T163428Z
LAST-MODIFIED:20240726T163527Z
UID:10001662-1841832000-1841842800@theauldshebeenva.com
SUMMARY:Ceoltas Ceoltoiri Eireann Session Players
DESCRIPTION:Enjoy brunch or lunch while you listen to a traditional Irish session by local CCE members every Saturday from noon- 3pm.
URL:https://theauldshebeenva.com/event/ceoltas-ceoltoiri-eireann-session-players/2028-05-13/
LOCATION:VA
CATEGORIES:Live Music,Other Entertainment
ATTACH;FMTTYPE=image/jpeg:https://theauldshebeenva.com/wp-content/uploads/003-scaled.jpg
END:VEVENT
BEGIN:VEVENT
DTSTART;TZID=America/New_York:20280516T193000
DTEND;TZID=America/New_York:20280516T213000
DTSTAMP:20260425T214801
CREATED:20240726T161020Z
LAST-MODIFIED:20260225T194609Z
UID:10000879-1842118200-1842125400@theauldshebeenva.com
SUMMARY:Pub Quiz - Trivia Night and Chefs Taco Specials
DESCRIPTION:Enjoy our weekly pub Quiz hosted by Sporcle\, games at 7.30pm and 8.30pm\, win gift cards to the pub! Always a fun night with friends or family!
URL:https://theauldshebeenva.com/event/pub-quiz-trivia-night/2028-05-16/
LOCATION:VA
CATEGORIES:Other Entertainment
ATTACH;FMTTYPE=image/png:https://theauldshebeenva.com/wp-content/uploads/Sporcle-1.png
END:VEVENT
BEGIN:VEVENT
DTSTART;TZID=America/New_York:20280517T160000
DTEND;TZID=America/New_York:20280517T220000
DTSTAMP:20260425T214801
CREATED:20250423T181043Z
LAST-MODIFIED:20250423T183539Z
UID:10002112-1842192000-1842213600@theauldshebeenva.com
SUMMARY:Pie and Pint Night $20.95
DESCRIPTION:Enjoy one of our Chicken Pot Pies\, Steak and Mushroom Ale Pie or Shepherd’s Pies and a pint of your choice for $20.95!
URL:https://theauldshebeenva.com/event/pie-and-pint-night/2028-05-17/
LOCATION:VA
CATEGORIES:Menu Specials,Other Entertainment
ATTACH;FMTTYPE=image/jpeg:https://theauldshebeenva.com/wp-content/uploads/Pie-and-Pint.jpg
END:VEVENT
BEGIN:VEVENT
DTSTART;TZID=America/New_York:20280517T210000
DTEND;TZID=America/New_York:20280518T013000
DTSTAMP:20260425T214801
CREATED:20240726T161846Z
LAST-MODIFIED:20240726T162603Z
UID:10001401-1842210000-1842226200@theauldshebeenva.com
SUMMARY:EDM Night hosted by Transit (Cellar Event)
DESCRIPTION:TRANSIT – The longest running dance party in the DMV area. Hear the best of the underground with great DJs in our Cellar.
URL:https://theauldshebeenva.com/event/edm-night-hosted-by-transit-cellar-event/2028-05-17/
LOCATION:VA
CATEGORIES:Other Entertainment
ATTACH;FMTTYPE=image/png:https://theauldshebeenva.com/wp-content/uploads/Transit-final-deluxe-high-res-for-sticker.png
END:VEVENT
BEGIN:VEVENT
DTSTART;TZID=America/New_York:20280518T160000
DTEND;TZID=America/New_York:20280518T213000
DTSTAMP:20260425T214801
CREATED:20250423T185024Z
LAST-MODIFIED:20250423T185024Z
UID:10002408-1842278400-1842298200@theauldshebeenva.com
SUMMARY:Thursday\, Teres Major Steak Special
DESCRIPTION:Every Thursday enjoy our Teres Major Steak Special for $20.95. \n8oz Teres Major (shoulder tenderloin) cut of beef with chimichurri sauce (South American style sauce with chili flakes\, garlic\, parsley\, olive oil and vinegar). Served with pub fries and a small Shebeen salad. \n 
URL:https://theauldshebeenva.com/event/thursday-teres-major-steak-special/2028-05-18/
LOCATION:The Auld Shebeen\, 3971 Chain Bridge Road\, Fairfax\, VA\, 22030
CATEGORIES:Menu Specials,Special Events
ATTACH;FMTTYPE=image/jpeg:https://theauldshebeenva.com/wp-content/uploads/Teres-Major-1-1.jpg
END:VEVENT
BEGIN:VEVENT
DTSTART;TZID=America/New_York:20280520T120000
DTEND;TZID=America/New_York:20280520T150000
DTSTAMP:20260425T214801
CREATED:20240726T163428Z
LAST-MODIFIED:20240726T163527Z
UID:10001663-1842436800-1842447600@theauldshebeenva.com
SUMMARY:Ceoltas Ceoltoiri Eireann Session Players
DESCRIPTION:Enjoy brunch or lunch while you listen to a traditional Irish session by local CCE members every Saturday from noon- 3pm.
URL:https://theauldshebeenva.com/event/ceoltas-ceoltoiri-eireann-session-players/2028-05-20/
LOCATION:VA
CATEGORIES:Live Music,Other Entertainment
ATTACH;FMTTYPE=image/jpeg:https://theauldshebeenva.com/wp-content/uploads/003-scaled.jpg
END:VEVENT
BEGIN:VEVENT
DTSTART;TZID=America/New_York:20280523T193000
DTEND;TZID=America/New_York:20280523T213000
DTSTAMP:20260425T214801
CREATED:20240726T161020Z
LAST-MODIFIED:20260225T194609Z
UID:10000880-1842723000-1842730200@theauldshebeenva.com
SUMMARY:Pub Quiz - Trivia Night and Chefs Taco Specials
DESCRIPTION:Enjoy our weekly pub Quiz hosted by Sporcle\, games at 7.30pm and 8.30pm\, win gift cards to the pub! Always a fun night with friends or family!
URL:https://theauldshebeenva.com/event/pub-quiz-trivia-night/2028-05-23/
LOCATION:VA
CATEGORIES:Other Entertainment
ATTACH;FMTTYPE=image/png:https://theauldshebeenva.com/wp-content/uploads/Sporcle-1.png
END:VEVENT
BEGIN:VEVENT
DTSTART;TZID=America/New_York:20280524T160000
DTEND;TZID=America/New_York:20280524T220000
DTSTAMP:20260425T214801
CREATED:20250423T181043Z
LAST-MODIFIED:20250423T183539Z
UID:10002113-1842796800-1842818400@theauldshebeenva.com
SUMMARY:Pie and Pint Night $20.95
DESCRIPTION:Enjoy one of our Chicken Pot Pies\, Steak and Mushroom Ale Pie or Shepherd’s Pies and a pint of your choice for $20.95!
URL:https://theauldshebeenva.com/event/pie-and-pint-night/2028-05-24/
LOCATION:VA
CATEGORIES:Menu Specials,Other Entertainment
ATTACH;FMTTYPE=image/jpeg:https://theauldshebeenva.com/wp-content/uploads/Pie-and-Pint.jpg
END:VEVENT
BEGIN:VEVENT
DTSTART;TZID=America/New_York:20280524T210000
DTEND;TZID=America/New_York:20280525T013000
DTSTAMP:20260425T214801
CREATED:20240726T161846Z
LAST-MODIFIED:20240726T162603Z
UID:10001402-1842814800-1842831000@theauldshebeenva.com
SUMMARY:EDM Night hosted by Transit (Cellar Event)
DESCRIPTION:TRANSIT – The longest running dance party in the DMV area. Hear the best of the underground with great DJs in our Cellar.
URL:https://theauldshebeenva.com/event/edm-night-hosted-by-transit-cellar-event/2028-05-24/
LOCATION:VA
CATEGORIES:Other Entertainment
ATTACH;FMTTYPE=image/png:https://theauldshebeenva.com/wp-content/uploads/Transit-final-deluxe-high-res-for-sticker.png
END:VEVENT
BEGIN:VEVENT
DTSTART;TZID=America/New_York:20280525T160000
DTEND;TZID=America/New_York:20280525T213000
DTSTAMP:20260425T214801
CREATED:20250423T185024Z
LAST-MODIFIED:20250423T185024Z
UID:10002409-1842883200-1842903000@theauldshebeenva.com
SUMMARY:Thursday\, Teres Major Steak Special
DESCRIPTION:Every Thursday enjoy our Teres Major Steak Special for $20.95. \n8oz Teres Major (shoulder tenderloin) cut of beef with chimichurri sauce (South American style sauce with chili flakes\, garlic\, parsley\, olive oil and vinegar). Served with pub fries and a small Shebeen salad. \n 
URL:https://theauldshebeenva.com/event/thursday-teres-major-steak-special/2028-05-25/
LOCATION:The Auld Shebeen\, 3971 Chain Bridge Road\, Fairfax\, VA\, 22030
CATEGORIES:Menu Specials,Special Events
ATTACH;FMTTYPE=image/jpeg:https://theauldshebeenva.com/wp-content/uploads/Teres-Major-1-1.jpg
END:VEVENT
BEGIN:VEVENT
DTSTART;TZID=America/New_York:20280527T120000
DTEND;TZID=America/New_York:20280527T150000
DTSTAMP:20260425T214801
CREATED:20240726T163428Z
LAST-MODIFIED:20240726T163527Z
UID:10001664-1843041600-1843052400@theauldshebeenva.com
SUMMARY:Ceoltas Ceoltoiri Eireann Session Players
DESCRIPTION:Enjoy brunch or lunch while you listen to a traditional Irish session by local CCE members every Saturday from noon- 3pm.
URL:https://theauldshebeenva.com/event/ceoltas-ceoltoiri-eireann-session-players/2028-05-27/
LOCATION:VA
CATEGORIES:Live Music,Other Entertainment
ATTACH;FMTTYPE=image/jpeg:https://theauldshebeenva.com/wp-content/uploads/003-scaled.jpg
END:VEVENT
BEGIN:VEVENT
DTSTART;TZID=America/New_York:20280530T193000
DTEND;TZID=America/New_York:20280530T213000
DTSTAMP:20260425T214801
CREATED:20240726T161020Z
LAST-MODIFIED:20260225T194609Z
UID:10000881-1843327800-1843335000@theauldshebeenva.com
SUMMARY:Pub Quiz - Trivia Night and Chefs Taco Specials
DESCRIPTION:Enjoy our weekly pub Quiz hosted by Sporcle\, games at 7.30pm and 8.30pm\, win gift cards to the pub! Always a fun night with friends or family!
URL:https://theauldshebeenva.com/event/pub-quiz-trivia-night/2028-05-30/
LOCATION:VA
CATEGORIES:Other Entertainment
ATTACH;FMTTYPE=image/png:https://theauldshebeenva.com/wp-content/uploads/Sporcle-1.png
END:VEVENT
BEGIN:VEVENT
DTSTART;TZID=America/New_York:20280531T160000
DTEND;TZID=America/New_York:20280531T220000
DTSTAMP:20260425T214801
CREATED:20250423T181043Z
LAST-MODIFIED:20250423T183539Z
UID:10002114-1843401600-1843423200@theauldshebeenva.com
SUMMARY:Pie and Pint Night $20.95
DESCRIPTION:Enjoy one of our Chicken Pot Pies\, Steak and Mushroom Ale Pie or Shepherd’s Pies and a pint of your choice for $20.95!
URL:https://theauldshebeenva.com/event/pie-and-pint-night/2028-05-31/
LOCATION:VA
CATEGORIES:Menu Specials,Other Entertainment
ATTACH;FMTTYPE=image/jpeg:https://theauldshebeenva.com/wp-content/uploads/Pie-and-Pint.jpg
END:VEVENT
BEGIN:VEVENT
DTSTART;TZID=America/New_York:20280531T210000
DTEND;TZID=America/New_York:20280601T013000
DTSTAMP:20260425T214801
CREATED:20240726T161846Z
LAST-MODIFIED:20240726T162603Z
UID:10001403-1843419600-1843435800@theauldshebeenva.com
SUMMARY:EDM Night hosted by Transit (Cellar Event)
DESCRIPTION:TRANSIT – The longest running dance party in the DMV area. Hear the best of the underground with great DJs in our Cellar.
URL:https://theauldshebeenva.com/event/edm-night-hosted-by-transit-cellar-event/2028-05-31/
LOCATION:VA
CATEGORIES:Other Entertainment
ATTACH;FMTTYPE=image/png:https://theauldshebeenva.com/wp-content/uploads/Transit-final-deluxe-high-res-for-sticker.png
END:VEVENT
BEGIN:VEVENT
DTSTART;TZID=America/New_York:20280601T160000
DTEND;TZID=America/New_York:20280601T213000
DTSTAMP:20260425T214801
CREATED:20250423T185024Z
LAST-MODIFIED:20250423T185024Z
UID:10002410-1843488000-1843507800@theauldshebeenva.com
SUMMARY:Thursday\, Teres Major Steak Special
DESCRIPTION:Every Thursday enjoy our Teres Major Steak Special for $20.95. \n8oz Teres Major (shoulder tenderloin) cut of beef with chimichurri sauce (South American style sauce with chili flakes\, garlic\, parsley\, olive oil and vinegar). Served with pub fries and a small Shebeen salad. \n 
URL:https://theauldshebeenva.com/event/thursday-teres-major-steak-special/2028-06-01/
LOCATION:The Auld Shebeen\, 3971 Chain Bridge Road\, Fairfax\, VA\, 22030
CATEGORIES:Menu Specials,Special Events
ATTACH;FMTTYPE=image/jpeg:https://theauldshebeenva.com/wp-content/uploads/Teres-Major-1-1.jpg
END:VEVENT
BEGIN:VEVENT
DTSTART;TZID=America/New_York:20280603T120000
DTEND;TZID=America/New_York:20280603T150000
DTSTAMP:20260425T214801
CREATED:20240726T163428Z
LAST-MODIFIED:20240726T163527Z
UID:10001665-1843646400-1843657200@theauldshebeenva.com
SUMMARY:Ceoltas Ceoltoiri Eireann Session Players
DESCRIPTION:Enjoy brunch or lunch while you listen to a traditional Irish session by local CCE members every Saturday from noon- 3pm.
URL:https://theauldshebeenva.com/event/ceoltas-ceoltoiri-eireann-session-players/2028-06-03/
LOCATION:VA
CATEGORIES:Live Music,Other Entertainment
ATTACH;FMTTYPE=image/jpeg:https://theauldshebeenva.com/wp-content/uploads/003-scaled.jpg
END:VEVENT
BEGIN:VEVENT
DTSTART;TZID=America/New_York:20280606T193000
DTEND;TZID=America/New_York:20280606T213000
DTSTAMP:20260425T214801
CREATED:20240726T161020Z
LAST-MODIFIED:20260225T194609Z
UID:10000882-1843932600-1843939800@theauldshebeenva.com
SUMMARY:Pub Quiz - Trivia Night and Chefs Taco Specials
DESCRIPTION:Enjoy our weekly pub Quiz hosted by Sporcle\, games at 7.30pm and 8.30pm\, win gift cards to the pub! Always a fun night with friends or family!
URL:https://theauldshebeenva.com/event/pub-quiz-trivia-night/2028-06-06/
LOCATION:VA
CATEGORIES:Other Entertainment
ATTACH;FMTTYPE=image/png:https://theauldshebeenva.com/wp-content/uploads/Sporcle-1.png
END:VEVENT
BEGIN:VEVENT
DTSTART;TZID=America/New_York:20280607T160000
DTEND;TZID=America/New_York:20280607T220000
DTSTAMP:20260425T214801
CREATED:20250423T181043Z
LAST-MODIFIED:20250423T183539Z
UID:10002115-1844006400-1844028000@theauldshebeenva.com
SUMMARY:Pie and Pint Night $20.95
DESCRIPTION:Enjoy one of our Chicken Pot Pies\, Steak and Mushroom Ale Pie or Shepherd’s Pies and a pint of your choice for $20.95!
URL:https://theauldshebeenva.com/event/pie-and-pint-night/2028-06-07/
LOCATION:VA
CATEGORIES:Menu Specials,Other Entertainment
ATTACH;FMTTYPE=image/jpeg:https://theauldshebeenva.com/wp-content/uploads/Pie-and-Pint.jpg
END:VEVENT
BEGIN:VEVENT
DTSTART;TZID=America/New_York:20280607T210000
DTEND;TZID=America/New_York:20280608T013000
DTSTAMP:20260425T214801
CREATED:20240726T161846Z
LAST-MODIFIED:20240726T162603Z
UID:10001404-1844024400-1844040600@theauldshebeenva.com
SUMMARY:EDM Night hosted by Transit (Cellar Event)
DESCRIPTION:TRANSIT – The longest running dance party in the DMV area. Hear the best of the underground with great DJs in our Cellar.
URL:https://theauldshebeenva.com/event/edm-night-hosted-by-transit-cellar-event/2028-06-07/
LOCATION:VA
CATEGORIES:Other Entertainment
ATTACH;FMTTYPE=image/png:https://theauldshebeenva.com/wp-content/uploads/Transit-final-deluxe-high-res-for-sticker.png
END:VEVENT
BEGIN:VEVENT
DTSTART;TZID=America/New_York:20280608T160000
DTEND;TZID=America/New_York:20280608T213000
DTSTAMP:20260425T214801
CREATED:20250423T185024Z
LAST-MODIFIED:20250423T185024Z
UID:10002411-1844092800-1844112600@theauldshebeenva.com
SUMMARY:Thursday\, Teres Major Steak Special
DESCRIPTION:Every Thursday enjoy our Teres Major Steak Special for $20.95. \n8oz Teres Major (shoulder tenderloin) cut of beef with chimichurri sauce (South American style sauce with chili flakes\, garlic\, parsley\, olive oil and vinegar). Served with pub fries and a small Shebeen salad. \n 
URL:https://theauldshebeenva.com/event/thursday-teres-major-steak-special/2028-06-08/
LOCATION:The Auld Shebeen\, 3971 Chain Bridge Road\, Fairfax\, VA\, 22030
CATEGORIES:Menu Specials,Special Events
ATTACH;FMTTYPE=image/jpeg:https://theauldshebeenva.com/wp-content/uploads/Teres-Major-1-1.jpg
END:VEVENT
BEGIN:VEVENT
DTSTART;TZID=America/New_York:20280610T120000
DTEND;TZID=America/New_York:20280610T150000
DTSTAMP:20260425T214801
CREATED:20240726T163428Z
LAST-MODIFIED:20240726T163527Z
UID:10001666-1844251200-1844262000@theauldshebeenva.com
SUMMARY:Ceoltas Ceoltoiri Eireann Session Players
DESCRIPTION:Enjoy brunch or lunch while you listen to a traditional Irish session by local CCE members every Saturday from noon- 3pm.
URL:https://theauldshebeenva.com/event/ceoltas-ceoltoiri-eireann-session-players/2028-06-10/
LOCATION:VA
CATEGORIES:Live Music,Other Entertainment
ATTACH;FMTTYPE=image/jpeg:https://theauldshebeenva.com/wp-content/uploads/003-scaled.jpg
END:VEVENT
BEGIN:VEVENT
DTSTART;TZID=America/New_York:20280613T193000
DTEND;TZID=America/New_York:20280613T213000
DTSTAMP:20260425T214801
CREATED:20240726T161020Z
LAST-MODIFIED:20260225T194609Z
UID:10000883-1844537400-1844544600@theauldshebeenva.com
SUMMARY:Pub Quiz - Trivia Night and Chefs Taco Specials
DESCRIPTION:Enjoy our weekly pub Quiz hosted by Sporcle\, games at 7.30pm and 8.30pm\, win gift cards to the pub! Always a fun night with friends or family!
URL:https://theauldshebeenva.com/event/pub-quiz-trivia-night/2028-06-13/
LOCATION:VA
CATEGORIES:Other Entertainment
ATTACH;FMTTYPE=image/png:https://theauldshebeenva.com/wp-content/uploads/Sporcle-1.png
END:VEVENT
BEGIN:VEVENT
DTSTART;TZID=America/New_York:20280614T160000
DTEND;TZID=America/New_York:20280614T220000
DTSTAMP:20260425T214801
CREATED:20250423T181043Z
LAST-MODIFIED:20250423T183539Z
UID:10002116-1844611200-1844632800@theauldshebeenva.com
SUMMARY:Pie and Pint Night $20.95
DESCRIPTION:Enjoy one of our Chicken Pot Pies\, Steak and Mushroom Ale Pie or Shepherd’s Pies and a pint of your choice for $20.95!
URL:https://theauldshebeenva.com/event/pie-and-pint-night/2028-06-14/
LOCATION:VA
CATEGORIES:Menu Specials,Other Entertainment
ATTACH;FMTTYPE=image/jpeg:https://theauldshebeenva.com/wp-content/uploads/Pie-and-Pint.jpg
END:VEVENT
END:VCALENDAR