BEGIN:VCALENDAR
VERSION:2.0
PRODID:-//The Auld Shebeen - ECPv6.15.20//NONSGML v1.0//EN
CALSCALE:GREGORIAN
METHOD:PUBLISH
X-WR-CALNAME:The Auld Shebeen
X-ORIGINAL-URL:https://theauldshebeenva.com
X-WR-CALDESC:Events for The Auld Shebeen
REFRESH-INTERVAL;VALUE=DURATION:PT1H
X-Robots-Tag:noindex
X-PUBLISHED-TTL:PT1H
BEGIN:VTIMEZONE
TZID:America/New_York
BEGIN:DAYLIGHT
TZOFFSETFROM:-0500
TZOFFSETTO:-0400
TZNAME:EDT
DTSTART:20250309T070000
END:DAYLIGHT
BEGIN:STANDARD
TZOFFSETFROM:-0400
TZOFFSETTO:-0500
TZNAME:EST
DTSTART:20251102T060000
END:STANDARD
BEGIN:DAYLIGHT
TZOFFSETFROM:-0500
TZOFFSETTO:-0400
TZNAME:EDT
DTSTART:20260308T070000
END:DAYLIGHT
BEGIN:STANDARD
TZOFFSETFROM:-0400
TZOFFSETTO:-0500
TZNAME:EST
DTSTART:20261101T060000
END:STANDARD
BEGIN:DAYLIGHT
TZOFFSETFROM:-0500
TZOFFSETTO:-0400
TZNAME:EDT
DTSTART:20270314T070000
END:DAYLIGHT
BEGIN:STANDARD
TZOFFSETFROM:-0400
TZOFFSETTO:-0500
TZNAME:EST
DTSTART:20271107T060000
END:STANDARD
END:VTIMEZONE
BEGIN:VEVENT
DTSTART;TZID=America/New_York:20260728T193000
DTEND;TZID=America/New_York:20260728T213000
DTSTAMP:20260423T194934
CREATED:20240726T161020Z
LAST-MODIFIED:20260225T194609Z
UID:10000785-1785267000-1785274200@theauldshebeenva.com
SUMMARY:Pub Quiz - Trivia Night and Chefs Taco Specials
DESCRIPTION:Enjoy our weekly pub Quiz hosted by Sporcle\, games at 7.30pm and 8.30pm\, win gift cards to the pub! Always a fun night with friends or family!
URL:https://theauldshebeenva.com/event/pub-quiz-trivia-night/2026-07-28/
LOCATION:VA
CATEGORIES:Other Entertainment
ATTACH;FMTTYPE=image/png:https://theauldshebeenva.com/wp-content/uploads/Sporcle-1.png
END:VEVENT
BEGIN:VEVENT
DTSTART;TZID=America/New_York:20260729T160000
DTEND;TZID=America/New_York:20260729T220000
DTSTAMP:20260423T194934
CREATED:20250423T181043Z
LAST-MODIFIED:20250423T183539Z
UID:10002018-1785340800-1785362400@theauldshebeenva.com
SUMMARY:Pie and Pint Night $20.95
DESCRIPTION:Enjoy one of our Chicken Pot Pies\, Steak and Mushroom Ale Pie or Shepherd’s Pies and a pint of your choice for $20.95!
URL:https://theauldshebeenva.com/event/pie-and-pint-night/2026-07-29/
LOCATION:VA
CATEGORIES:Menu Specials,Other Entertainment
ATTACH;FMTTYPE=image/jpeg:https://theauldshebeenva.com/wp-content/uploads/Pie-and-Pint.jpg
END:VEVENT
BEGIN:VEVENT
DTSTART;TZID=America/New_York:20260729T210000
DTEND;TZID=America/New_York:20260730T013000
DTSTAMP:20260423T194934
CREATED:20240726T161846Z
LAST-MODIFIED:20240726T162603Z
UID:10001307-1785358800-1785375000@theauldshebeenva.com
SUMMARY:EDM Night hosted by Transit (Cellar Event)
DESCRIPTION:TRANSIT – The longest running dance party in the DMV area. Hear the best of the underground with great DJs in our Cellar.
URL:https://theauldshebeenva.com/event/edm-night-hosted-by-transit-cellar-event/2026-07-29/
LOCATION:VA
CATEGORIES:Other Entertainment
ATTACH;FMTTYPE=image/png:https://theauldshebeenva.com/wp-content/uploads/Transit-final-deluxe-high-res-for-sticker.png
END:VEVENT
BEGIN:VEVENT
DTSTART;TZID=America/New_York:20260730T160000
DTEND;TZID=America/New_York:20260730T213000
DTSTAMP:20260423T194934
CREATED:20250423T185024Z
LAST-MODIFIED:20250423T185024Z
UID:10002314-1785427200-1785447000@theauldshebeenva.com
SUMMARY:Thursday\, Teres Major Steak Special
DESCRIPTION:Every Thursday enjoy our Teres Major Steak Special for $20.95. \n8oz Teres Major (shoulder tenderloin) cut of beef with chimichurri sauce (South American style sauce with chili flakes\, garlic\, parsley\, olive oil and vinegar). Served with pub fries and a small Shebeen salad. \n 
URL:https://theauldshebeenva.com/event/thursday-teres-major-steak-special/2026-07-30/
LOCATION:The Auld Shebeen\, 3971 Chain Bridge Road\, Fairfax\, VA\, 22030
CATEGORIES:Menu Specials,Special Events
ATTACH;FMTTYPE=image/jpeg:https://theauldshebeenva.com/wp-content/uploads/Teres-Major-1-1.jpg
END:VEVENT
BEGIN:VEVENT
DTSTART;TZID=America/New_York:20260801T120000
DTEND;TZID=America/New_York:20260801T150000
DTSTAMP:20260423T194934
CREATED:20240726T163428Z
LAST-MODIFIED:20240726T163527Z
UID:10001569-1785585600-1785596400@theauldshebeenva.com
SUMMARY:Ceoltas Ceoltoiri Eireann Session Players
DESCRIPTION:Enjoy brunch or lunch while you listen to a traditional Irish session by local CCE members every Saturday from noon- 3pm.
URL:https://theauldshebeenva.com/event/ceoltas-ceoltoiri-eireann-session-players/2026-08-01/
LOCATION:VA
CATEGORIES:Live Music,Other Entertainment
ATTACH;FMTTYPE=image/jpeg:https://theauldshebeenva.com/wp-content/uploads/003-scaled.jpg
END:VEVENT
BEGIN:VEVENT
DTSTART;TZID=America/New_York:20260804T193000
DTEND;TZID=America/New_York:20260804T213000
DTSTAMP:20260423T194934
CREATED:20240726T161020Z
LAST-MODIFIED:20260225T194609Z
UID:10000786-1785871800-1785879000@theauldshebeenva.com
SUMMARY:Pub Quiz - Trivia Night and Chefs Taco Specials
DESCRIPTION:Enjoy our weekly pub Quiz hosted by Sporcle\, games at 7.30pm and 8.30pm\, win gift cards to the pub! Always a fun night with friends or family!
URL:https://theauldshebeenva.com/event/pub-quiz-trivia-night/2026-08-04/
LOCATION:VA
CATEGORIES:Other Entertainment
ATTACH;FMTTYPE=image/png:https://theauldshebeenva.com/wp-content/uploads/Sporcle-1.png
END:VEVENT
BEGIN:VEVENT
DTSTART;TZID=America/New_York:20260805T160000
DTEND;TZID=America/New_York:20260805T220000
DTSTAMP:20260423T194934
CREATED:20250423T181043Z
LAST-MODIFIED:20250423T183539Z
UID:10002019-1785945600-1785967200@theauldshebeenva.com
SUMMARY:Pie and Pint Night $20.95
DESCRIPTION:Enjoy one of our Chicken Pot Pies\, Steak and Mushroom Ale Pie or Shepherd’s Pies and a pint of your choice for $20.95!
URL:https://theauldshebeenva.com/event/pie-and-pint-night/2026-08-05/
LOCATION:VA
CATEGORIES:Menu Specials,Other Entertainment
ATTACH;FMTTYPE=image/jpeg:https://theauldshebeenva.com/wp-content/uploads/Pie-and-Pint.jpg
END:VEVENT
BEGIN:VEVENT
DTSTART;TZID=America/New_York:20260805T210000
DTEND;TZID=America/New_York:20260806T013000
DTSTAMP:20260423T194934
CREATED:20240726T161846Z
LAST-MODIFIED:20240726T162603Z
UID:10001308-1785963600-1785979800@theauldshebeenva.com
SUMMARY:EDM Night hosted by Transit (Cellar Event)
DESCRIPTION:TRANSIT – The longest running dance party in the DMV area. Hear the best of the underground with great DJs in our Cellar.
URL:https://theauldshebeenva.com/event/edm-night-hosted-by-transit-cellar-event/2026-08-05/
LOCATION:VA
CATEGORIES:Other Entertainment
ATTACH;FMTTYPE=image/png:https://theauldshebeenva.com/wp-content/uploads/Transit-final-deluxe-high-res-for-sticker.png
END:VEVENT
BEGIN:VEVENT
DTSTART;TZID=America/New_York:20260806T160000
DTEND;TZID=America/New_York:20260806T213000
DTSTAMP:20260423T194934
CREATED:20250423T185024Z
LAST-MODIFIED:20250423T185024Z
UID:10002315-1786032000-1786051800@theauldshebeenva.com
SUMMARY:Thursday\, Teres Major Steak Special
DESCRIPTION:Every Thursday enjoy our Teres Major Steak Special for $20.95. \n8oz Teres Major (shoulder tenderloin) cut of beef with chimichurri sauce (South American style sauce with chili flakes\, garlic\, parsley\, olive oil and vinegar). Served with pub fries and a small Shebeen salad. \n 
URL:https://theauldshebeenva.com/event/thursday-teres-major-steak-special/2026-08-06/
LOCATION:The Auld Shebeen\, 3971 Chain Bridge Road\, Fairfax\, VA\, 22030
CATEGORIES:Menu Specials,Special Events
ATTACH;FMTTYPE=image/jpeg:https://theauldshebeenva.com/wp-content/uploads/Teres-Major-1-1.jpg
END:VEVENT
BEGIN:VEVENT
DTSTART;TZID=America/New_York:20260808T120000
DTEND;TZID=America/New_York:20260808T150000
DTSTAMP:20260423T194934
CREATED:20240726T163428Z
LAST-MODIFIED:20240726T163527Z
UID:10001570-1786190400-1786201200@theauldshebeenva.com
SUMMARY:Ceoltas Ceoltoiri Eireann Session Players
DESCRIPTION:Enjoy brunch or lunch while you listen to a traditional Irish session by local CCE members every Saturday from noon- 3pm.
URL:https://theauldshebeenva.com/event/ceoltas-ceoltoiri-eireann-session-players/2026-08-08/
LOCATION:VA
CATEGORIES:Live Music,Other Entertainment
ATTACH;FMTTYPE=image/jpeg:https://theauldshebeenva.com/wp-content/uploads/003-scaled.jpg
END:VEVENT
BEGIN:VEVENT
DTSTART;TZID=America/New_York:20260811T193000
DTEND;TZID=America/New_York:20260811T213000
DTSTAMP:20260423T194934
CREATED:20240726T161020Z
LAST-MODIFIED:20260225T194609Z
UID:10000787-1786476600-1786483800@theauldshebeenva.com
SUMMARY:Pub Quiz - Trivia Night and Chefs Taco Specials
DESCRIPTION:Enjoy our weekly pub Quiz hosted by Sporcle\, games at 7.30pm and 8.30pm\, win gift cards to the pub! Always a fun night with friends or family!
URL:https://theauldshebeenva.com/event/pub-quiz-trivia-night/2026-08-11/
LOCATION:VA
CATEGORIES:Other Entertainment
ATTACH;FMTTYPE=image/png:https://theauldshebeenva.com/wp-content/uploads/Sporcle-1.png
END:VEVENT
BEGIN:VEVENT
DTSTART;TZID=America/New_York:20260812T160000
DTEND;TZID=America/New_York:20260812T220000
DTSTAMP:20260423T194934
CREATED:20250423T181043Z
LAST-MODIFIED:20250423T183539Z
UID:10002020-1786550400-1786572000@theauldshebeenva.com
SUMMARY:Pie and Pint Night $20.95
DESCRIPTION:Enjoy one of our Chicken Pot Pies\, Steak and Mushroom Ale Pie or Shepherd’s Pies and a pint of your choice for $20.95!
URL:https://theauldshebeenva.com/event/pie-and-pint-night/2026-08-12/
LOCATION:VA
CATEGORIES:Menu Specials,Other Entertainment
ATTACH;FMTTYPE=image/jpeg:https://theauldshebeenva.com/wp-content/uploads/Pie-and-Pint.jpg
END:VEVENT
BEGIN:VEVENT
DTSTART;TZID=America/New_York:20260812T210000
DTEND;TZID=America/New_York:20260813T013000
DTSTAMP:20260423T194934
CREATED:20240726T161846Z
LAST-MODIFIED:20240726T162603Z
UID:10001309-1786568400-1786584600@theauldshebeenva.com
SUMMARY:EDM Night hosted by Transit (Cellar Event)
DESCRIPTION:TRANSIT – The longest running dance party in the DMV area. Hear the best of the underground with great DJs in our Cellar.
URL:https://theauldshebeenva.com/event/edm-night-hosted-by-transit-cellar-event/2026-08-12/
LOCATION:VA
CATEGORIES:Other Entertainment
ATTACH;FMTTYPE=image/png:https://theauldshebeenva.com/wp-content/uploads/Transit-final-deluxe-high-res-for-sticker.png
END:VEVENT
BEGIN:VEVENT
DTSTART;TZID=America/New_York:20260813T160000
DTEND;TZID=America/New_York:20260813T213000
DTSTAMP:20260423T194934
CREATED:20250423T185024Z
LAST-MODIFIED:20250423T185024Z
UID:10002316-1786636800-1786656600@theauldshebeenva.com
SUMMARY:Thursday\, Teres Major Steak Special
DESCRIPTION:Every Thursday enjoy our Teres Major Steak Special for $20.95. \n8oz Teres Major (shoulder tenderloin) cut of beef with chimichurri sauce (South American style sauce with chili flakes\, garlic\, parsley\, olive oil and vinegar). Served with pub fries and a small Shebeen salad. \n 
URL:https://theauldshebeenva.com/event/thursday-teres-major-steak-special/2026-08-13/
LOCATION:The Auld Shebeen\, 3971 Chain Bridge Road\, Fairfax\, VA\, 22030
CATEGORIES:Menu Specials,Special Events
ATTACH;FMTTYPE=image/jpeg:https://theauldshebeenva.com/wp-content/uploads/Teres-Major-1-1.jpg
END:VEVENT
BEGIN:VEVENT
DTSTART;TZID=America/New_York:20260814T190000
DTEND;TZID=America/New_York:20260814T213000
DTSTAMP:20260423T194934
CREATED:20180616T160922Z
LAST-MODIFIED:20251209T175356Z
UID:10002679-1786734000-1786743000@theauldshebeenva.com
SUMMARY:Pat Garvey
DESCRIPTION:Pat Garvey has been playing Irish folk music in the Washington D.C. area since 1978.  A native of Hungry Hill (“Home of the Irish”) in Springfield\, Massachusetts\, he moved to D.C. to join a folk group called “The Gaels”.  Pat began a solo career in 1984 appearing in clubs and festivals throughout the U.S. when in 1994 he signed on with “Brendan’s Voyage”\, a duo with keyboard artist Fergus Kennedy.  After a stint as the owner of Mrs. O’Leary’s Irish Pub in Gaithersburg\, Maryland\, Pat Garvey is back as a full time performer and you can catch him here at The Auld Shebeen most months on a Friday & Saturday evening. Stop in for a pint and be ready to sing along!
URL:https://theauldshebeenva.com/event/pat-garvey-3/2026-08-14/
LOCATION:VA
CATEGORIES:Live Music,Other Entertainment
ATTACH;FMTTYPE=image/jpeg:https://theauldshebeenva.com/wp-content/uploads/Pat-Garvey-2025.jpeg
END:VEVENT
BEGIN:VEVENT
DTSTART;TZID=America/New_York:20260815T120000
DTEND;TZID=America/New_York:20260815T150000
DTSTAMP:20260423T194934
CREATED:20240726T163428Z
LAST-MODIFIED:20240726T163527Z
UID:10001571-1786795200-1786806000@theauldshebeenva.com
SUMMARY:Ceoltas Ceoltoiri Eireann Session Players
DESCRIPTION:Enjoy brunch or lunch while you listen to a traditional Irish session by local CCE members every Saturday from noon- 3pm.
URL:https://theauldshebeenva.com/event/ceoltas-ceoltoiri-eireann-session-players/2026-08-15/
LOCATION:VA
CATEGORIES:Live Music,Other Entertainment
ATTACH;FMTTYPE=image/jpeg:https://theauldshebeenva.com/wp-content/uploads/003-scaled.jpg
END:VEVENT
BEGIN:VEVENT
DTSTART;TZID=America/New_York:20260815T190000
DTEND;TZID=America/New_York:20260815T213000
DTSTAMP:20260423T194934
CREATED:20180616T160922Z
LAST-MODIFIED:20251209T175356Z
UID:10002680-1786820400-1786829400@theauldshebeenva.com
SUMMARY:Pat Garvey
DESCRIPTION:Pat Garvey has been playing Irish folk music in the Washington D.C. area since 1978.  A native of Hungry Hill (“Home of the Irish”) in Springfield\, Massachusetts\, he moved to D.C. to join a folk group called “The Gaels”.  Pat began a solo career in 1984 appearing in clubs and festivals throughout the U.S. when in 1994 he signed on with “Brendan’s Voyage”\, a duo with keyboard artist Fergus Kennedy.  After a stint as the owner of Mrs. O’Leary’s Irish Pub in Gaithersburg\, Maryland\, Pat Garvey is back as a full time performer and you can catch him here at The Auld Shebeen most months on a Friday & Saturday evening. Stop in for a pint and be ready to sing along!
URL:https://theauldshebeenva.com/event/pat-garvey-3/2026-08-15/
LOCATION:VA
CATEGORIES:Live Music,Other Entertainment
ATTACH;FMTTYPE=image/jpeg:https://theauldshebeenva.com/wp-content/uploads/Pat-Garvey-2025.jpeg
END:VEVENT
BEGIN:VEVENT
DTSTART;TZID=America/New_York:20260818T193000
DTEND;TZID=America/New_York:20260818T213000
DTSTAMP:20260423T194934
CREATED:20240726T161020Z
LAST-MODIFIED:20260225T194609Z
UID:10000788-1787081400-1787088600@theauldshebeenva.com
SUMMARY:Pub Quiz - Trivia Night and Chefs Taco Specials
DESCRIPTION:Enjoy our weekly pub Quiz hosted by Sporcle\, games at 7.30pm and 8.30pm\, win gift cards to the pub! Always a fun night with friends or family!
URL:https://theauldshebeenva.com/event/pub-quiz-trivia-night/2026-08-18/
LOCATION:VA
CATEGORIES:Other Entertainment
ATTACH;FMTTYPE=image/png:https://theauldshebeenva.com/wp-content/uploads/Sporcle-1.png
END:VEVENT
BEGIN:VEVENT
DTSTART;TZID=America/New_York:20260819T160000
DTEND;TZID=America/New_York:20260819T220000
DTSTAMP:20260423T194934
CREATED:20250423T181043Z
LAST-MODIFIED:20250423T183539Z
UID:10002021-1787155200-1787176800@theauldshebeenva.com
SUMMARY:Pie and Pint Night $20.95
DESCRIPTION:Enjoy one of our Chicken Pot Pies\, Steak and Mushroom Ale Pie or Shepherd’s Pies and a pint of your choice for $20.95!
URL:https://theauldshebeenva.com/event/pie-and-pint-night/2026-08-19/
LOCATION:VA
CATEGORIES:Menu Specials,Other Entertainment
ATTACH;FMTTYPE=image/jpeg:https://theauldshebeenva.com/wp-content/uploads/Pie-and-Pint.jpg
END:VEVENT
BEGIN:VEVENT
DTSTART;TZID=America/New_York:20260819T210000
DTEND;TZID=America/New_York:20260820T013000
DTSTAMP:20260423T194934
CREATED:20240726T161846Z
LAST-MODIFIED:20240726T162603Z
UID:10001310-1787173200-1787189400@theauldshebeenva.com
SUMMARY:EDM Night hosted by Transit (Cellar Event)
DESCRIPTION:TRANSIT – The longest running dance party in the DMV area. Hear the best of the underground with great DJs in our Cellar.
URL:https://theauldshebeenva.com/event/edm-night-hosted-by-transit-cellar-event/2026-08-19/
LOCATION:VA
CATEGORIES:Other Entertainment
ATTACH;FMTTYPE=image/png:https://theauldshebeenva.com/wp-content/uploads/Transit-final-deluxe-high-res-for-sticker.png
END:VEVENT
BEGIN:VEVENT
DTSTART;TZID=America/New_York:20260820T160000
DTEND;TZID=America/New_York:20260820T213000
DTSTAMP:20260423T194934
CREATED:20250423T185024Z
LAST-MODIFIED:20250423T185024Z
UID:10002317-1787241600-1787261400@theauldshebeenva.com
SUMMARY:Thursday\, Teres Major Steak Special
DESCRIPTION:Every Thursday enjoy our Teres Major Steak Special for $20.95. \n8oz Teres Major (shoulder tenderloin) cut of beef with chimichurri sauce (South American style sauce with chili flakes\, garlic\, parsley\, olive oil and vinegar). Served with pub fries and a small Shebeen salad. \n 
URL:https://theauldshebeenva.com/event/thursday-teres-major-steak-special/2026-08-20/
LOCATION:The Auld Shebeen\, 3971 Chain Bridge Road\, Fairfax\, VA\, 22030
CATEGORIES:Menu Specials,Special Events
ATTACH;FMTTYPE=image/jpeg:https://theauldshebeenva.com/wp-content/uploads/Teres-Major-1-1.jpg
END:VEVENT
BEGIN:VEVENT
DTSTART;TZID=America/New_York:20260821T190000
DTEND;TZID=America/New_York:20260821T213000
DTSTAMP:20260423T194934
CREATED:20240215T232133Z
LAST-MODIFIED:20260303T190950Z
UID:10002638-1787338800-1787347800@theauldshebeenva.com
SUMMARY:Brian Gaffney
DESCRIPTION:Brian Gaffney singer/songwriter was born in Tralee\, County Kerry.  Youngest of 4 kids\, Brian didn’t take long to pick up a love of music from his older brothers. \nBy age 13\, Brian was playing in pubs around Kerry with accordion player Kevin Cronin.  They formed a band in Christian Brothers School and won the all Ireland “Slogadh” in 1974. \nBrian played all kinds of music\, to include traditional Irish music and rock ‘n roll and found his nitch as a solo performer. \nDuring the late 70’s\, Brian was the resident Saturday night opener at Horan’s Hotel in Tralee where he stayed for 5 years.  Playing at Horan’s gave Brian an opportunity to play with renowned Irish groups such as The Furey’s\, Moving Hearts and the Dubliners\, just to name a few. \nBrian continued to play all over Ireland until 1985 when he immigrated to America.  Brian’s first port of call was Boston\, Mass. where he was immediately snatched up to fill in with the band “Dublin Sound” with Dessie Higgins and Sean Garvey.  In 1986\, Brian partnered up with Alan Loughnane and toured all over America with the group “Claddagh” for 3 1/2 years. \nBrian then joined Fergus Kennedy\, then Steve Morris in the Washington\, DC and Northern Virginia areas in the band “Brendan’s Voyage”.  They toured all over America as well and released 2 very successful albums “In Full Sail” and “Close to the Wind”. \nBrian pursued his passion by playing traditional music.  Brian teamed up with all star fiddle player\, Brendan Mulvihill with whom he performed every Wednesday night at Nanny O’Brien’s.  Brian has also had the opportunity to play with such traditional greats as: Finbar Furey\, Paddy Keenan\, Billy McComiskey\, James Kelly\, Andy Irvine\, Andy M. Stewart in concert and others during is weekly Monday night fireside seisun’s.  Past artists included:  Eileen Ivers\, Matt Molloy (Chieftains)\, Martin Hayes and many others. \nBrian is focused on his music career\, primarily as a solo artist\, but he still features on tours with Finbar Furey\, Brendan Mulvihill\, Patsy Whelan\, Brendan’s Voyage and anyone else who may cross his path!
URL:https://theauldshebeenva.com/event/brian-gaffney/2026-08-21/
LOCATION:VA
CATEGORIES:Live Music,Other Entertainment
ATTACH;FMTTYPE=image/jpeg:https://theauldshebeenva.com/wp-content/uploads/Brian-Gaffney-2025.jpeg
END:VEVENT
BEGIN:VEVENT
DTSTART;TZID=America/New_York:20260822T120000
DTEND;TZID=America/New_York:20260822T150000
DTSTAMP:20260423T194934
CREATED:20240726T163428Z
LAST-MODIFIED:20240726T163527Z
UID:10001572-1787400000-1787410800@theauldshebeenva.com
SUMMARY:Ceoltas Ceoltoiri Eireann Session Players
DESCRIPTION:Enjoy brunch or lunch while you listen to a traditional Irish session by local CCE members every Saturday from noon- 3pm.
URL:https://theauldshebeenva.com/event/ceoltas-ceoltoiri-eireann-session-players/2026-08-22/
LOCATION:VA
CATEGORIES:Live Music,Other Entertainment
ATTACH;FMTTYPE=image/jpeg:https://theauldshebeenva.com/wp-content/uploads/003-scaled.jpg
END:VEVENT
BEGIN:VEVENT
DTSTART;TZID=America/New_York:20260822T190000
DTEND;TZID=America/New_York:20260822T213000
DTSTAMP:20260423T194934
CREATED:20240215T232133Z
LAST-MODIFIED:20260303T190950Z
UID:10002639-1787425200-1787434200@theauldshebeenva.com
SUMMARY:Brian Gaffney
DESCRIPTION:Brian Gaffney singer/songwriter was born in Tralee\, County Kerry.  Youngest of 4 kids\, Brian didn’t take long to pick up a love of music from his older brothers. \nBy age 13\, Brian was playing in pubs around Kerry with accordion player Kevin Cronin.  They formed a band in Christian Brothers School and won the all Ireland “Slogadh” in 1974. \nBrian played all kinds of music\, to include traditional Irish music and rock ‘n roll and found his nitch as a solo performer. \nDuring the late 70’s\, Brian was the resident Saturday night opener at Horan’s Hotel in Tralee where he stayed for 5 years.  Playing at Horan’s gave Brian an opportunity to play with renowned Irish groups such as The Furey’s\, Moving Hearts and the Dubliners\, just to name a few. \nBrian continued to play all over Ireland until 1985 when he immigrated to America.  Brian’s first port of call was Boston\, Mass. where he was immediately snatched up to fill in with the band “Dublin Sound” with Dessie Higgins and Sean Garvey.  In 1986\, Brian partnered up with Alan Loughnane and toured all over America with the group “Claddagh” for 3 1/2 years. \nBrian then joined Fergus Kennedy\, then Steve Morris in the Washington\, DC and Northern Virginia areas in the band “Brendan’s Voyage”.  They toured all over America as well and released 2 very successful albums “In Full Sail” and “Close to the Wind”. \nBrian pursued his passion by playing traditional music.  Brian teamed up with all star fiddle player\, Brendan Mulvihill with whom he performed every Wednesday night at Nanny O’Brien’s.  Brian has also had the opportunity to play with such traditional greats as: Finbar Furey\, Paddy Keenan\, Billy McComiskey\, James Kelly\, Andy Irvine\, Andy M. Stewart in concert and others during is weekly Monday night fireside seisun’s.  Past artists included:  Eileen Ivers\, Matt Molloy (Chieftains)\, Martin Hayes and many others. \nBrian is focused on his music career\, primarily as a solo artist\, but he still features on tours with Finbar Furey\, Brendan Mulvihill\, Patsy Whelan\, Brendan’s Voyage and anyone else who may cross his path!
URL:https://theauldshebeenva.com/event/brian-gaffney/2026-08-22/
LOCATION:VA
CATEGORIES:Live Music,Other Entertainment
ATTACH;FMTTYPE=image/jpeg:https://theauldshebeenva.com/wp-content/uploads/Brian-Gaffney-2025.jpeg
END:VEVENT
BEGIN:VEVENT
DTSTART;TZID=America/New_York:20260825T193000
DTEND;TZID=America/New_York:20260825T213000
DTSTAMP:20260423T194934
CREATED:20240726T161020Z
LAST-MODIFIED:20260225T194609Z
UID:10000789-1787686200-1787693400@theauldshebeenva.com
SUMMARY:Pub Quiz - Trivia Night and Chefs Taco Specials
DESCRIPTION:Enjoy our weekly pub Quiz hosted by Sporcle\, games at 7.30pm and 8.30pm\, win gift cards to the pub! Always a fun night with friends or family!
URL:https://theauldshebeenva.com/event/pub-quiz-trivia-night/2026-08-25/
LOCATION:VA
CATEGORIES:Other Entertainment
ATTACH;FMTTYPE=image/png:https://theauldshebeenva.com/wp-content/uploads/Sporcle-1.png
END:VEVENT
BEGIN:VEVENT
DTSTART;TZID=America/New_York:20260826T160000
DTEND;TZID=America/New_York:20260826T220000
DTSTAMP:20260423T194934
CREATED:20250423T181043Z
LAST-MODIFIED:20250423T183539Z
UID:10002022-1787760000-1787781600@theauldshebeenva.com
SUMMARY:Pie and Pint Night $20.95
DESCRIPTION:Enjoy one of our Chicken Pot Pies\, Steak and Mushroom Ale Pie or Shepherd’s Pies and a pint of your choice for $20.95!
URL:https://theauldshebeenva.com/event/pie-and-pint-night/2026-08-26/
LOCATION:VA
CATEGORIES:Menu Specials,Other Entertainment
ATTACH;FMTTYPE=image/jpeg:https://theauldshebeenva.com/wp-content/uploads/Pie-and-Pint.jpg
END:VEVENT
BEGIN:VEVENT
DTSTART;TZID=America/New_York:20260826T210000
DTEND;TZID=America/New_York:20260827T013000
DTSTAMP:20260423T194934
CREATED:20240726T161846Z
LAST-MODIFIED:20240726T162603Z
UID:10001311-1787778000-1787794200@theauldshebeenva.com
SUMMARY:EDM Night hosted by Transit (Cellar Event)
DESCRIPTION:TRANSIT – The longest running dance party in the DMV area. Hear the best of the underground with great DJs in our Cellar.
URL:https://theauldshebeenva.com/event/edm-night-hosted-by-transit-cellar-event/2026-08-26/
LOCATION:VA
CATEGORIES:Other Entertainment
ATTACH;FMTTYPE=image/png:https://theauldshebeenva.com/wp-content/uploads/Transit-final-deluxe-high-res-for-sticker.png
END:VEVENT
BEGIN:VEVENT
DTSTART;TZID=America/New_York:20260827T160000
DTEND;TZID=America/New_York:20260827T213000
DTSTAMP:20260423T194934
CREATED:20250423T185024Z
LAST-MODIFIED:20250423T185024Z
UID:10002318-1787846400-1787866200@theauldshebeenva.com
SUMMARY:Thursday\, Teres Major Steak Special
DESCRIPTION:Every Thursday enjoy our Teres Major Steak Special for $20.95. \n8oz Teres Major (shoulder tenderloin) cut of beef with chimichurri sauce (South American style sauce with chili flakes\, garlic\, parsley\, olive oil and vinegar). Served with pub fries and a small Shebeen salad. \n 
URL:https://theauldshebeenva.com/event/thursday-teres-major-steak-special/2026-08-27/
LOCATION:The Auld Shebeen\, 3971 Chain Bridge Road\, Fairfax\, VA\, 22030
CATEGORIES:Menu Specials,Special Events
ATTACH;FMTTYPE=image/jpeg:https://theauldshebeenva.com/wp-content/uploads/Teres-Major-1-1.jpg
END:VEVENT
BEGIN:VEVENT
DTSTART;TZID=America/New_York:20260828T190000
DTEND;TZID=America/New_York:20260828T213000
DTSTAMP:20260423T194934
CREATED:20180709T184138Z
LAST-MODIFIED:20251028T151216Z
UID:10002603-1787943600-1787952600@theauldshebeenva.com
SUMMARY:Sean Fleming
DESCRIPTION:Sean Fleming has talent that is as wide and varied as his lifestyle\, from his birth in a Golf Club House (“….it’s no wonder I’m a golf nut\,” says Sean) on the shores of the beautiful Lakes of Killarney to his many\, many appearances in the United States such as in Philadelphia at the Robin Hood Dell where he performed to an audience of 9\,000\, on the Merv Griffin Show and as the Headliner at Carnegie Hall to a sold out house. \nSean began playing traditional Irish music in Irish dance halls and then his ambition as a singer began to take shape and he formed the Rocketeers Irish Showband. The Rocketeers toured through out the U.S. and Canada playing in major cities such as Chicago\, Boston\, New York\, San Francisco and Toronto. Sean’s first big break came through the help of someone that holds a special place in Sean’s memory\, Merv Griffin. Sean was chosen from the audience to perform on Merv’s Show which consequently led to several more appearances over the next couple of years on the Merv Griffin Show. Sean shared the spotlight with such artists as the Beach Boys\, David Soul\, Della Reese and Rodney Dangerfield. The shape of his career was becoming quite definite when he signed with MGM records and MGM motion pictures. However\, it took an abrupt twist when he was called by Uncle Sam. \nAfter serving Uncle Sam\, Sean found himself back in New York starting all over again. His beginnings this time were spent working in small clubs and bars\, which eventually led to many concert performances\, including the one he gave in Philadelphia to 9\,000 people. Other appearances include: the Irish Cultural Center in San Francisco and Southern Florida; Warner Brothers Theatre\, Ohio; Westchester Country Club\, New York; Flanagan’s in New York\, and his own bar in New York City through 1994\, Ireland’s Four Provinces and Cellar Door Productions in Washington D.C.(The Bayou)and Alexandria\, Virginia’s Birchmere\, Music Fest Bethleham\, PA and all over the united states with the Irish Tourist Board . Also to his credit are many radio shows and television appearances (including the PBS  “Out of Ireland” series) throughout the United States\, Ireland\, Japan\, Argentina\, the Philippines and the Czech Republic.
URL:https://theauldshebeenva.com/event/sean-fleming/2026-08-28/
LOCATION:The Auld Shebeen\, 3971 Chain Bridge Road\, Fairfax\, VA\, 22030
CATEGORIES:Live Music,Other Entertainment
ATTACH;FMTTYPE=image/jpeg:https://theauldshebeenva.com/wp-content/uploads/Sean-Fleming-2025.jpeg
END:VEVENT
BEGIN:VEVENT
DTSTART;TZID=America/New_York:20260829T120000
DTEND;TZID=America/New_York:20260829T150000
DTSTAMP:20260423T194934
CREATED:20240726T163428Z
LAST-MODIFIED:20240726T163527Z
UID:10001573-1788004800-1788015600@theauldshebeenva.com
SUMMARY:Ceoltas Ceoltoiri Eireann Session Players
DESCRIPTION:Enjoy brunch or lunch while you listen to a traditional Irish session by local CCE members every Saturday from noon- 3pm.
URL:https://theauldshebeenva.com/event/ceoltas-ceoltoiri-eireann-session-players/2026-08-29/
LOCATION:VA
CATEGORIES:Live Music,Other Entertainment
ATTACH;FMTTYPE=image/jpeg:https://theauldshebeenva.com/wp-content/uploads/003-scaled.jpg
END:VEVENT
END:VCALENDAR