BEGIN:VCALENDAR
VERSION:2.0
PRODID:-//The Auld Shebeen - ECPv6.15.20//NONSGML v1.0//EN
CALSCALE:GREGORIAN
METHOD:PUBLISH
X-WR-CALNAME:The Auld Shebeen
X-ORIGINAL-URL:https://theauldshebeenva.com
X-WR-CALDESC:Events for The Auld Shebeen
REFRESH-INTERVAL;VALUE=DURATION:PT1H
X-Robots-Tag:noindex
X-PUBLISHED-TTL:PT1H
BEGIN:VTIMEZONE
TZID:America/New_York
BEGIN:DAYLIGHT
TZOFFSETFROM:-0500
TZOFFSETTO:-0400
TZNAME:EDT
DTSTART:20250309T070000
END:DAYLIGHT
BEGIN:STANDARD
TZOFFSETFROM:-0400
TZOFFSETTO:-0500
TZNAME:EST
DTSTART:20251102T060000
END:STANDARD
BEGIN:DAYLIGHT
TZOFFSETFROM:-0500
TZOFFSETTO:-0400
TZNAME:EDT
DTSTART:20260308T070000
END:DAYLIGHT
BEGIN:STANDARD
TZOFFSETFROM:-0400
TZOFFSETTO:-0500
TZNAME:EST
DTSTART:20261101T060000
END:STANDARD
BEGIN:DAYLIGHT
TZOFFSETFROM:-0500
TZOFFSETTO:-0400
TZNAME:EDT
DTSTART:20270314T070000
END:DAYLIGHT
BEGIN:STANDARD
TZOFFSETFROM:-0400
TZOFFSETTO:-0500
TZNAME:EST
DTSTART:20271107T060000
END:STANDARD
END:VTIMEZONE
BEGIN:VEVENT
DTSTART;TZID=America/New_York:20260227T110000
DTEND;TZID=America/New_York:20260308T210000
DTSTAMP:20260423T163153
CREATED:20260225T184750Z
LAST-MODIFIED:20260225T185721Z
UID:10002843-1772190000-1773003600@theauldshebeenva.com
SUMMARY:Fairfax City Restaurant Week Winter 2026
DESCRIPTION:The Auld Shebeen is proud to take part in Fairfax City’s restaurant week.\nOur dinner tasting menu includes a choice of a bowl of our Chef’s signature soup or salad\,choose from a selection of our most popular traditional Irish fare and a selection of our\ntraditional Irish desserts. Also included is one of our Irish draft beers\, or our specialtyIrish coffee drinks. $40\nFor lunch enjoy a cup of soup or salad\, choose from a selection of our most popular traditional Irish fare and a selection of our traditional Irish desserts. $25 \nReservations Recommended\, 703 293 9600. \nWe hope you enjoy your visit with us and that we will see you back again soon\, slaintѐ.
URL:https://theauldshebeenva.com/event/fairfax-city-restaurant-week-winter-2026/
LOCATION:The Auld Shebeen\, 3971 Chain Bridge Road\, Fairfax\, VA\, 22030
CATEGORIES:Live Music,Menu Specials,Other Entertainment
ATTACH;FMTTYPE=image/png:https://theauldshebeenva.com/wp-content/uploads/Rest-Week-Winter-2026.png
END:VEVENT
BEGIN:VEVENT
DTSTART;TZID=America/New_York:20260306T190000
DTEND;TZID=America/New_York:20260306T213000
DTSTAMP:20260423T163153
CREATED:20240215T232133Z
LAST-MODIFIED:20260303T190950Z
UID:10002630-1772823600-1772832600@theauldshebeenva.com
SUMMARY:Brian Gaffney
DESCRIPTION:Brian Gaffney singer/songwriter was born in Tralee\, County Kerry.  Youngest of 4 kids\, Brian didn’t take long to pick up a love of music from his older brothers. \nBy age 13\, Brian was playing in pubs around Kerry with accordion player Kevin Cronin.  They formed a band in Christian Brothers School and won the all Ireland “Slogadh” in 1974. \nBrian played all kinds of music\, to include traditional Irish music and rock ‘n roll and found his nitch as a solo performer. \nDuring the late 70’s\, Brian was the resident Saturday night opener at Horan’s Hotel in Tralee where he stayed for 5 years.  Playing at Horan’s gave Brian an opportunity to play with renowned Irish groups such as The Furey’s\, Moving Hearts and the Dubliners\, just to name a few. \nBrian continued to play all over Ireland until 1985 when he immigrated to America.  Brian’s first port of call was Boston\, Mass. where he was immediately snatched up to fill in with the band “Dublin Sound” with Dessie Higgins and Sean Garvey.  In 1986\, Brian partnered up with Alan Loughnane and toured all over America with the group “Claddagh” for 3 1/2 years. \nBrian then joined Fergus Kennedy\, then Steve Morris in the Washington\, DC and Northern Virginia areas in the band “Brendan’s Voyage”.  They toured all over America as well and released 2 very successful albums “In Full Sail” and “Close to the Wind”. \nBrian pursued his passion by playing traditional music.  Brian teamed up with all star fiddle player\, Brendan Mulvihill with whom he performed every Wednesday night at Nanny O’Brien’s.  Brian has also had the opportunity to play with such traditional greats as: Finbar Furey\, Paddy Keenan\, Billy McComiskey\, James Kelly\, Andy Irvine\, Andy M. Stewart in concert and others during is weekly Monday night fireside seisun’s.  Past artists included:  Eileen Ivers\, Matt Molloy (Chieftains)\, Martin Hayes and many others. \nBrian is focused on his music career\, primarily as a solo artist\, but he still features on tours with Finbar Furey\, Brendan Mulvihill\, Patsy Whelan\, Brendan’s Voyage and anyone else who may cross his path!
URL:https://theauldshebeenva.com/event/brian-gaffney/2026-03-06/
LOCATION:VA
CATEGORIES:Live Music,Other Entertainment
ATTACH;FMTTYPE=image/jpeg:https://theauldshebeenva.com/wp-content/uploads/Brian-Gaffney-2025.jpeg
END:VEVENT
BEGIN:VEVENT
DTSTART;TZID=America/New_York:20260307T120000
DTEND;TZID=America/New_York:20260307T150000
DTSTAMP:20260423T163153
CREATED:20240726T163428Z
LAST-MODIFIED:20240726T163527Z
UID:10001548-1772884800-1772895600@theauldshebeenva.com
SUMMARY:Ceoltas Ceoltoiri Eireann Session Players
DESCRIPTION:Enjoy brunch or lunch while you listen to a traditional Irish session by local CCE members every Saturday from noon- 3pm.
URL:https://theauldshebeenva.com/event/ceoltas-ceoltoiri-eireann-session-players/2026-03-07/
LOCATION:VA
CATEGORIES:Live Music,Other Entertainment
ATTACH;FMTTYPE=image/jpeg:https://theauldshebeenva.com/wp-content/uploads/003-scaled.jpg
END:VEVENT
BEGIN:VEVENT
DTSTART;TZID=America/New_York:20260307T190000
DTEND;TZID=America/New_York:20260307T213000
DTSTAMP:20260423T163153
CREATED:20251003T190131Z
LAST-MODIFIED:20260325T215208Z
UID:10002854-1772910000-1772919000@theauldshebeenva.com
SUMMARY:Tim Trant
DESCRIPTION:Over nearly five decades\, Tim Trant has performed popular contemporary and traditional Americana and Irish folk songs\, entertaining appreciative audiences around the world — from Lima\, Peru to Talcahuano\, Chile – from Rio de Janeiro\, Brazil to Port Louis\, Mauritius – from Guantanamo Bay\, Cuba to Rota Spain – and from Galway to Dublin in the Republic of Ireland.  In the 1990s\, he performed at pubs\, restaurants and festivals in the Washington\, DC\, Maryland and Virginia area\, and across New England and the mid-Atlantic region\, in a popular duo headlined by his brother\, Kevin James (Trant)\, during which they opened for the Kingston Trio\, the Clancy Brothers\, Tommy Makem\, Sharon Shannon\, the Wolfe Tones\, The Furey Brothers & Davey Arthur and other major artists. Always a great show!
URL:https://theauldshebeenva.com/event/tim-trant/2026-03-07/
LOCATION:VA
CATEGORIES:Live Music,Other Entertainment
ATTACH;FMTTYPE=image/jpeg:https://theauldshebeenva.com/wp-content/uploads/Tim-Trant-2025.jpeg
END:VEVENT
BEGIN:VEVENT
DTSTART;TZID=America/New_York:20260310T193000
DTEND;TZID=America/New_York:20260310T213000
DTSTAMP:20260423T163153
CREATED:20240726T161020Z
LAST-MODIFIED:20260225T194609Z
UID:10000765-1773171000-1773178200@theauldshebeenva.com
SUMMARY:Pub Quiz - Trivia Night and Chefs Taco Specials
DESCRIPTION:Enjoy our weekly pub Quiz hosted by Sporcle\, games at 7.30pm and 8.30pm\, win gift cards to the pub! Always a fun night with friends or family!
URL:https://theauldshebeenva.com/event/pub-quiz-trivia-night/2026-03-10/
LOCATION:VA
CATEGORIES:Other Entertainment
ATTACH;FMTTYPE=image/png:https://theauldshebeenva.com/wp-content/uploads/Sporcle-1.png
END:VEVENT
BEGIN:VEVENT
DTSTART;TZID=America/New_York:20260311T160000
DTEND;TZID=America/New_York:20260311T220000
DTSTAMP:20260423T163153
CREATED:20250423T181043Z
LAST-MODIFIED:20250423T183539Z
UID:10001998-1773244800-1773266400@theauldshebeenva.com
SUMMARY:Pie and Pint Night $20.95
DESCRIPTION:Enjoy one of our Chicken Pot Pies\, Steak and Mushroom Ale Pie or Shepherd’s Pies and a pint of your choice for $20.95!
URL:https://theauldshebeenva.com/event/pie-and-pint-night/2026-03-11/
LOCATION:VA
CATEGORIES:Menu Specials,Other Entertainment
ATTACH;FMTTYPE=image/jpeg:https://theauldshebeenva.com/wp-content/uploads/Pie-and-Pint.jpg
END:VEVENT
BEGIN:VEVENT
DTSTART;TZID=America/New_York:20260311T210000
DTEND;TZID=America/New_York:20260312T013000
DTSTAMP:20260423T163153
CREATED:20240726T161846Z
LAST-MODIFIED:20240726T162603Z
UID:10001287-1773262800-1773279000@theauldshebeenva.com
SUMMARY:EDM Night hosted by Transit (Cellar Event)
DESCRIPTION:TRANSIT – The longest running dance party in the DMV area. Hear the best of the underground with great DJs in our Cellar.
URL:https://theauldshebeenva.com/event/edm-night-hosted-by-transit-cellar-event/2026-03-11/
LOCATION:VA
CATEGORIES:Other Entertainment
ATTACH;FMTTYPE=image/png:https://theauldshebeenva.com/wp-content/uploads/Transit-final-deluxe-high-res-for-sticker.png
END:VEVENT
BEGIN:VEVENT
DTSTART;TZID=America/New_York:20260312T160000
DTEND;TZID=America/New_York:20260312T213000
DTSTAMP:20260423T163153
CREATED:20250423T185024Z
LAST-MODIFIED:20250423T185024Z
UID:10002294-1773331200-1773351000@theauldshebeenva.com
SUMMARY:Thursday\, Teres Major Steak Special
DESCRIPTION:Every Thursday enjoy our Teres Major Steak Special for $20.95. \n8oz Teres Major (shoulder tenderloin) cut of beef with chimichurri sauce (South American style sauce with chili flakes\, garlic\, parsley\, olive oil and vinegar). Served with pub fries and a small Shebeen salad. \n 
URL:https://theauldshebeenva.com/event/thursday-teres-major-steak-special/2026-03-12/
LOCATION:The Auld Shebeen\, 3971 Chain Bridge Road\, Fairfax\, VA\, 22030
CATEGORIES:Menu Specials,Special Events
ATTACH;FMTTYPE=image/jpeg:https://theauldshebeenva.com/wp-content/uploads/Teres-Major-1-1.jpg
END:VEVENT
BEGIN:VEVENT
DTSTART;TZID=America/New_York:20260313T190000
DTEND;TZID=America/New_York:20260313T213000
DTSTAMP:20260423T163153
CREATED:20260225T195835Z
LAST-MODIFIED:20260225T195835Z
UID:10002845-1773428400-1773437400@theauldshebeenva.com
SUMMARY:The Flying Cows of Ventry
DESCRIPTION:Great Irish entertainment with the Flying Cows of Ventry\, always a great show.
URL:https://theauldshebeenva.com/event/the-flying-cows-of-ventry/2026-03-13/
LOCATION:VA
CATEGORIES:Live Music,Other Entertainment
ATTACH;FMTTYPE=image/jpeg:https://theauldshebeenva.com/wp-content/uploads/Flying-Cows-2.jpg
END:VEVENT
BEGIN:VEVENT
DTSTART;TZID=America/New_York:20260314T120000
DTEND;TZID=America/New_York:20260314T150000
DTSTAMP:20260423T163153
CREATED:20240726T163428Z
LAST-MODIFIED:20240726T163527Z
UID:10001549-1773489600-1773500400@theauldshebeenva.com
SUMMARY:Ceoltas Ceoltoiri Eireann Session Players
DESCRIPTION:Enjoy brunch or lunch while you listen to a traditional Irish session by local CCE members every Saturday from noon- 3pm.
URL:https://theauldshebeenva.com/event/ceoltas-ceoltoiri-eireann-session-players/2026-03-14/
LOCATION:VA
CATEGORIES:Live Music,Other Entertainment
ATTACH;FMTTYPE=image/jpeg:https://theauldshebeenva.com/wp-content/uploads/003-scaled.jpg
END:VEVENT
BEGIN:VEVENT
DTSTART;TZID=America/New_York:20260314T190000
DTEND;TZID=America/New_York:20260314T213000
DTSTAMP:20260423T163153
CREATED:20260225T195835Z
LAST-MODIFIED:20260225T195835Z
UID:10002846-1773514800-1773523800@theauldshebeenva.com
SUMMARY:The Flying Cows of Ventry
DESCRIPTION:Great Irish entertainment with the Flying Cows of Ventry\, always a great show.
URL:https://theauldshebeenva.com/event/the-flying-cows-of-ventry/2026-03-14/
LOCATION:VA
CATEGORIES:Live Music,Other Entertainment
ATTACH;FMTTYPE=image/jpeg:https://theauldshebeenva.com/wp-content/uploads/Flying-Cows-2.jpg
END:VEVENT
BEGIN:VEVENT
DTSTART;TZID=America/New_York:20260314T200000
DTEND;TZID=America/New_York:20260314T200000
DTSTAMP:20260423T163153
CREATED:20260225T203908Z
LAST-MODIFIED:20260225T205100Z
UID:10002848-1773518400-1773518400@theauldshebeenva.com
SUMMARY:Donegal Yanks - Cellar Stage
DESCRIPTION:Donegal Yanks take the stage during our week-long St. Patrick’s Day celebrations. Join us for dancing and singalong to all your favorites – Irish folk\, rock and pop songs – as well as a Paddy’s Irish Whiskey promo. $10 cover charge\, doors open at 8:00PM
URL:https://theauldshebeenva.com/event/donegal-yanks-cellar-stage/
LOCATION:VA
CATEGORIES:Live Music,Other Entertainment
ATTACH;FMTTYPE=image/jpeg:https://theauldshebeenva.com/wp-content/uploads/Donegal-Yanks-3-14.jpeg
END:VEVENT
BEGIN:VEVENT
DTSTART;TZID=America/New_York:20260315T200000
DTEND;TZID=America/New_York:20260315T213000
DTSTAMP:20260423T163153
CREATED:20260225T205543Z
LAST-MODIFIED:20260225T205543Z
UID:10002849-1773604800-1773610200@theauldshebeenva.com
SUMMARY:Leannan-Shi
DESCRIPTION:Ronan and Keaton of Leannan-Shi take the stage on the main floor\, always a great show with original\, covers and modern Irish songs.
URL:https://theauldshebeenva.com/event/leannan-shi/
LOCATION:The Auld Shebeen\, 3971 Chain Bridge Road\, Fairfax\, VA\, 22030
CATEGORIES:Live Music,Other Entertainment
ATTACH;FMTTYPE=image/jpeg:https://theauldshebeenva.com/wp-content/uploads/Leanna-Shi-3-15.jpeg
END:VEVENT
BEGIN:VEVENT
DTSTART;VALUE=DATE:20260317
DTEND;VALUE=DATE:20260319
DTSTAMP:20260423T163153
CREATED:20260225T201551Z
LAST-MODIFIED:20260225T201551Z
UID:10002847-1773712800-1773799199@theauldshebeenva.com
SUMMARY:St. Patrick's Day Celebrations
DESCRIPTION:Celebrate this special day with us here at the pub\, great entertainment all day. \nMain Dining Room Stage – 11.30-3pm Donegal Yanks\, 4-10pm The Flying Cows of Ventry \nCellar Stage – 12-3pm CCE Session Players\, 5-9pm Donegal Yanks \n4.30pm Kristin Butke Irish Dance Performance\, Cellar and Main Dining Room. \n4pm Bushmills’s Irish Whiskey Promotion
URL:https://theauldshebeenva.com/event/st-patricks-day-celebrations/
LOCATION:VA
CATEGORIES:Live Music,Other Entertainment
ATTACH;FMTTYPE=image/png:https://theauldshebeenva.com/wp-content/uploads/AS-Logo.png
END:VEVENT
BEGIN:VEVENT
DTSTART;TZID=America/New_York:20260317T193000
DTEND;TZID=America/New_York:20260317T213000
DTSTAMP:20260423T163153
CREATED:20240726T161020Z
LAST-MODIFIED:20260225T194609Z
UID:10000766-1773775800-1773783000@theauldshebeenva.com
SUMMARY:Pub Quiz - Trivia Night and Chefs Taco Specials
DESCRIPTION:Enjoy our weekly pub Quiz hosted by Sporcle\, games at 7.30pm and 8.30pm\, win gift cards to the pub! Always a fun night with friends or family!
URL:https://theauldshebeenva.com/event/pub-quiz-trivia-night/2026-03-17/
LOCATION:VA
CATEGORIES:Other Entertainment
ATTACH;FMTTYPE=image/png:https://theauldshebeenva.com/wp-content/uploads/Sporcle-1.png
END:VEVENT
BEGIN:VEVENT
DTSTART;TZID=America/New_York:20260318T160000
DTEND;TZID=America/New_York:20260318T220000
DTSTAMP:20260423T163153
CREATED:20250423T181043Z
LAST-MODIFIED:20250423T183539Z
UID:10001999-1773849600-1773871200@theauldshebeenva.com
SUMMARY:Pie and Pint Night $20.95
DESCRIPTION:Enjoy one of our Chicken Pot Pies\, Steak and Mushroom Ale Pie or Shepherd’s Pies and a pint of your choice for $20.95!
URL:https://theauldshebeenva.com/event/pie-and-pint-night/2026-03-18/
LOCATION:VA
CATEGORIES:Menu Specials,Other Entertainment
ATTACH;FMTTYPE=image/jpeg:https://theauldshebeenva.com/wp-content/uploads/Pie-and-Pint.jpg
END:VEVENT
BEGIN:VEVENT
DTSTART;TZID=America/New_York:20260318T210000
DTEND;TZID=America/New_York:20260319T013000
DTSTAMP:20260423T163153
CREATED:20240726T161846Z
LAST-MODIFIED:20240726T162603Z
UID:10001288-1773867600-1773883800@theauldshebeenva.com
SUMMARY:EDM Night hosted by Transit (Cellar Event)
DESCRIPTION:TRANSIT – The longest running dance party in the DMV area. Hear the best of the underground with great DJs in our Cellar.
URL:https://theauldshebeenva.com/event/edm-night-hosted-by-transit-cellar-event/2026-03-18/
LOCATION:VA
CATEGORIES:Other Entertainment
ATTACH;FMTTYPE=image/png:https://theauldshebeenva.com/wp-content/uploads/Transit-final-deluxe-high-res-for-sticker.png
END:VEVENT
BEGIN:VEVENT
DTSTART;TZID=America/New_York:20260319T160000
DTEND;TZID=America/New_York:20260319T213000
DTSTAMP:20260423T163153
CREATED:20250423T185024Z
LAST-MODIFIED:20250423T185024Z
UID:10002295-1773936000-1773955800@theauldshebeenva.com
SUMMARY:Thursday\, Teres Major Steak Special
DESCRIPTION:Every Thursday enjoy our Teres Major Steak Special for $20.95. \n8oz Teres Major (shoulder tenderloin) cut of beef with chimichurri sauce (South American style sauce with chili flakes\, garlic\, parsley\, olive oil and vinegar). Served with pub fries and a small Shebeen salad. \n 
URL:https://theauldshebeenva.com/event/thursday-teres-major-steak-special/2026-03-19/
LOCATION:The Auld Shebeen\, 3971 Chain Bridge Road\, Fairfax\, VA\, 22030
CATEGORIES:Menu Specials,Special Events
ATTACH;FMTTYPE=image/jpeg:https://theauldshebeenva.com/wp-content/uploads/Teres-Major-1-1.jpg
END:VEVENT
BEGIN:VEVENT
DTSTART;TZID=America/New_York:20260320T190000
DTEND;TZID=America/New_York:20260320T213000
DTSTAMP:20260423T163153
CREATED:20240210T170432Z
LAST-MODIFIED:20251003T182122Z
UID:10002649-1774033200-1774042200@theauldshebeenva.com
SUMMARY:Brendan's Voyage
DESCRIPTION:Fergus and Stevie of Brendan’s Voyage join us for an evening of some of the best traditional Irish music\, a show not to be missed!
URL:https://theauldshebeenva.com/event/brendans-voyage/2026-03-20/
LOCATION:The Auld Shebeen\, 3971 Chain Bridge Road\, Fairfax\, VA\, 22030
CATEGORIES:Live Music,Other Entertainment
ATTACH;FMTTYPE=image/jpeg:https://theauldshebeenva.com/wp-content/uploads/Brendans-Voyage-2025.jpeg
END:VEVENT
BEGIN:VEVENT
DTSTART;TZID=America/New_York:20260321T120000
DTEND;TZID=America/New_York:20260321T150000
DTSTAMP:20260423T163153
CREATED:20240726T163428Z
LAST-MODIFIED:20240726T163527Z
UID:10001550-1774094400-1774105200@theauldshebeenva.com
SUMMARY:Ceoltas Ceoltoiri Eireann Session Players
DESCRIPTION:Enjoy brunch or lunch while you listen to a traditional Irish session by local CCE members every Saturday from noon- 3pm.
URL:https://theauldshebeenva.com/event/ceoltas-ceoltoiri-eireann-session-players/2026-03-21/
LOCATION:VA
CATEGORIES:Live Music,Other Entertainment
ATTACH;FMTTYPE=image/jpeg:https://theauldshebeenva.com/wp-content/uploads/003-scaled.jpg
END:VEVENT
BEGIN:VEVENT
DTSTART;TZID=America/New_York:20260321T190000
DTEND;TZID=America/New_York:20260321T213000
DTSTAMP:20260423T163153
CREATED:20240210T170432Z
LAST-MODIFIED:20251003T182122Z
UID:10002650-1774119600-1774128600@theauldshebeenva.com
SUMMARY:Brendan's Voyage
DESCRIPTION:Fergus and Stevie of Brendan’s Voyage join us for an evening of some of the best traditional Irish music\, a show not to be missed!
URL:https://theauldshebeenva.com/event/brendans-voyage/2026-03-21/
LOCATION:The Auld Shebeen\, 3971 Chain Bridge Road\, Fairfax\, VA\, 22030
CATEGORIES:Live Music,Other Entertainment
ATTACH;FMTTYPE=image/jpeg:https://theauldshebeenva.com/wp-content/uploads/Brendans-Voyage-2025.jpeg
END:VEVENT
BEGIN:VEVENT
DTSTART;TZID=America/New_York:20260324T193000
DTEND;TZID=America/New_York:20260324T213000
DTSTAMP:20260423T163153
CREATED:20240726T161020Z
LAST-MODIFIED:20260225T194609Z
UID:10000767-1774380600-1774387800@theauldshebeenva.com
SUMMARY:Pub Quiz - Trivia Night and Chefs Taco Specials
DESCRIPTION:Enjoy our weekly pub Quiz hosted by Sporcle\, games at 7.30pm and 8.30pm\, win gift cards to the pub! Always a fun night with friends or family!
URL:https://theauldshebeenva.com/event/pub-quiz-trivia-night/2026-03-24/
LOCATION:VA
CATEGORIES:Other Entertainment
ATTACH;FMTTYPE=image/png:https://theauldshebeenva.com/wp-content/uploads/Sporcle-1.png
END:VEVENT
BEGIN:VEVENT
DTSTART;TZID=America/New_York:20260325T160000
DTEND;TZID=America/New_York:20260325T220000
DTSTAMP:20260423T163153
CREATED:20250423T181043Z
LAST-MODIFIED:20250423T183539Z
UID:10002000-1774454400-1774476000@theauldshebeenva.com
SUMMARY:Pie and Pint Night $20.95
DESCRIPTION:Enjoy one of our Chicken Pot Pies\, Steak and Mushroom Ale Pie or Shepherd’s Pies and a pint of your choice for $20.95!
URL:https://theauldshebeenva.com/event/pie-and-pint-night/2026-03-25/
LOCATION:VA
CATEGORIES:Menu Specials,Other Entertainment
ATTACH;FMTTYPE=image/jpeg:https://theauldshebeenva.com/wp-content/uploads/Pie-and-Pint.jpg
END:VEVENT
BEGIN:VEVENT
DTSTART;TZID=America/New_York:20260325T210000
DTEND;TZID=America/New_York:20260326T013000
DTSTAMP:20260423T163153
CREATED:20240726T161846Z
LAST-MODIFIED:20240726T162603Z
UID:10001289-1774472400-1774488600@theauldshebeenva.com
SUMMARY:EDM Night hosted by Transit (Cellar Event)
DESCRIPTION:TRANSIT – The longest running dance party in the DMV area. Hear the best of the underground with great DJs in our Cellar.
URL:https://theauldshebeenva.com/event/edm-night-hosted-by-transit-cellar-event/2026-03-25/
LOCATION:VA
CATEGORIES:Other Entertainment
ATTACH;FMTTYPE=image/png:https://theauldshebeenva.com/wp-content/uploads/Transit-final-deluxe-high-res-for-sticker.png
END:VEVENT
BEGIN:VEVENT
DTSTART;TZID=America/New_York:20260326T160000
DTEND;TZID=America/New_York:20260326T213000
DTSTAMP:20260423T163153
CREATED:20250423T185024Z
LAST-MODIFIED:20250423T185024Z
UID:10002296-1774540800-1774560600@theauldshebeenva.com
SUMMARY:Thursday\, Teres Major Steak Special
DESCRIPTION:Every Thursday enjoy our Teres Major Steak Special for $20.95. \n8oz Teres Major (shoulder tenderloin) cut of beef with chimichurri sauce (South American style sauce with chili flakes\, garlic\, parsley\, olive oil and vinegar). Served with pub fries and a small Shebeen salad. \n 
URL:https://theauldshebeenva.com/event/thursday-teres-major-steak-special/2026-03-26/
LOCATION:The Auld Shebeen\, 3971 Chain Bridge Road\, Fairfax\, VA\, 22030
CATEGORIES:Menu Specials,Special Events
ATTACH;FMTTYPE=image/jpeg:https://theauldshebeenva.com/wp-content/uploads/Teres-Major-1-1.jpg
END:VEVENT
BEGIN:VEVENT
DTSTART;TZID=America/New_York:20260327T190000
DTEND;TZID=America/New_York:20260327T213000
DTSTAMP:20260423T163153
CREATED:20180709T184138Z
LAST-MODIFIED:20251028T151216Z
UID:10002593-1774638000-1774647000@theauldshebeenva.com
SUMMARY:Sean Fleming
DESCRIPTION:Sean Fleming has talent that is as wide and varied as his lifestyle\, from his birth in a Golf Club House (“….it’s no wonder I’m a golf nut\,” says Sean) on the shores of the beautiful Lakes of Killarney to his many\, many appearances in the United States such as in Philadelphia at the Robin Hood Dell where he performed to an audience of 9\,000\, on the Merv Griffin Show and as the Headliner at Carnegie Hall to a sold out house. \nSean began playing traditional Irish music in Irish dance halls and then his ambition as a singer began to take shape and he formed the Rocketeers Irish Showband. The Rocketeers toured through out the U.S. and Canada playing in major cities such as Chicago\, Boston\, New York\, San Francisco and Toronto. Sean’s first big break came through the help of someone that holds a special place in Sean’s memory\, Merv Griffin. Sean was chosen from the audience to perform on Merv’s Show which consequently led to several more appearances over the next couple of years on the Merv Griffin Show. Sean shared the spotlight with such artists as the Beach Boys\, David Soul\, Della Reese and Rodney Dangerfield. The shape of his career was becoming quite definite when he signed with MGM records and MGM motion pictures. However\, it took an abrupt twist when he was called by Uncle Sam. \nAfter serving Uncle Sam\, Sean found himself back in New York starting all over again. His beginnings this time were spent working in small clubs and bars\, which eventually led to many concert performances\, including the one he gave in Philadelphia to 9\,000 people. Other appearances include: the Irish Cultural Center in San Francisco and Southern Florida; Warner Brothers Theatre\, Ohio; Westchester Country Club\, New York; Flanagan’s in New York\, and his own bar in New York City through 1994\, Ireland’s Four Provinces and Cellar Door Productions in Washington D.C.(The Bayou)and Alexandria\, Virginia’s Birchmere\, Music Fest Bethleham\, PA and all over the united states with the Irish Tourist Board . Also to his credit are many radio shows and television appearances (including the PBS  “Out of Ireland” series) throughout the United States\, Ireland\, Japan\, Argentina\, the Philippines and the Czech Republic.
URL:https://theauldshebeenva.com/event/sean-fleming/2026-03-27/
LOCATION:The Auld Shebeen\, 3971 Chain Bridge Road\, Fairfax\, VA\, 22030
CATEGORIES:Live Music,Other Entertainment
ATTACH;FMTTYPE=image/jpeg:https://theauldshebeenva.com/wp-content/uploads/Sean-Fleming-2025.jpeg
END:VEVENT
BEGIN:VEVENT
DTSTART;TZID=America/New_York:20260328T120000
DTEND;TZID=America/New_York:20260328T150000
DTSTAMP:20260423T163153
CREATED:20240726T163428Z
LAST-MODIFIED:20240726T163527Z
UID:10001551-1774699200-1774710000@theauldshebeenva.com
SUMMARY:Ceoltas Ceoltoiri Eireann Session Players
DESCRIPTION:Enjoy brunch or lunch while you listen to a traditional Irish session by local CCE members every Saturday from noon- 3pm.
URL:https://theauldshebeenva.com/event/ceoltas-ceoltoiri-eireann-session-players/2026-03-28/
LOCATION:VA
CATEGORIES:Live Music,Other Entertainment
ATTACH;FMTTYPE=image/jpeg:https://theauldshebeenva.com/wp-content/uploads/003-scaled.jpg
END:VEVENT
BEGIN:VEVENT
DTSTART;TZID=America/New_York:20260328T190000
DTEND;TZID=America/New_York:20260328T213000
DTSTAMP:20260423T163153
CREATED:20180709T184138Z
LAST-MODIFIED:20251028T151216Z
UID:10002594-1774724400-1774733400@theauldshebeenva.com
SUMMARY:Sean Fleming
DESCRIPTION:Sean Fleming has talent that is as wide and varied as his lifestyle\, from his birth in a Golf Club House (“….it’s no wonder I’m a golf nut\,” says Sean) on the shores of the beautiful Lakes of Killarney to his many\, many appearances in the United States such as in Philadelphia at the Robin Hood Dell where he performed to an audience of 9\,000\, on the Merv Griffin Show and as the Headliner at Carnegie Hall to a sold out house. \nSean began playing traditional Irish music in Irish dance halls and then his ambition as a singer began to take shape and he formed the Rocketeers Irish Showband. The Rocketeers toured through out the U.S. and Canada playing in major cities such as Chicago\, Boston\, New York\, San Francisco and Toronto. Sean’s first big break came through the help of someone that holds a special place in Sean’s memory\, Merv Griffin. Sean was chosen from the audience to perform on Merv’s Show which consequently led to several more appearances over the next couple of years on the Merv Griffin Show. Sean shared the spotlight with such artists as the Beach Boys\, David Soul\, Della Reese and Rodney Dangerfield. The shape of his career was becoming quite definite when he signed with MGM records and MGM motion pictures. However\, it took an abrupt twist when he was called by Uncle Sam. \nAfter serving Uncle Sam\, Sean found himself back in New York starting all over again. His beginnings this time were spent working in small clubs and bars\, which eventually led to many concert performances\, including the one he gave in Philadelphia to 9\,000 people. Other appearances include: the Irish Cultural Center in San Francisco and Southern Florida; Warner Brothers Theatre\, Ohio; Westchester Country Club\, New York; Flanagan’s in New York\, and his own bar in New York City through 1994\, Ireland’s Four Provinces and Cellar Door Productions in Washington D.C.(The Bayou)and Alexandria\, Virginia’s Birchmere\, Music Fest Bethleham\, PA and all over the united states with the Irish Tourist Board . Also to his credit are many radio shows and television appearances (including the PBS  “Out of Ireland” series) throughout the United States\, Ireland\, Japan\, Argentina\, the Philippines and the Czech Republic.
URL:https://theauldshebeenva.com/event/sean-fleming/2026-03-28/
LOCATION:The Auld Shebeen\, 3971 Chain Bridge Road\, Fairfax\, VA\, 22030
CATEGORIES:Live Music,Other Entertainment
ATTACH;FMTTYPE=image/jpeg:https://theauldshebeenva.com/wp-content/uploads/Sean-Fleming-2025.jpeg
END:VEVENT
BEGIN:VEVENT
DTSTART;TZID=America/New_York:20260331T193000
DTEND;TZID=America/New_York:20260331T213000
DTSTAMP:20260423T163153
CREATED:20240726T161020Z
LAST-MODIFIED:20260225T194609Z
UID:10000768-1774985400-1774992600@theauldshebeenva.com
SUMMARY:Pub Quiz - Trivia Night and Chefs Taco Specials
DESCRIPTION:Enjoy our weekly pub Quiz hosted by Sporcle\, games at 7.30pm and 8.30pm\, win gift cards to the pub! Always a fun night with friends or family!
URL:https://theauldshebeenva.com/event/pub-quiz-trivia-night/2026-03-31/
LOCATION:VA
CATEGORIES:Other Entertainment
ATTACH;FMTTYPE=image/png:https://theauldshebeenva.com/wp-content/uploads/Sporcle-1.png
END:VEVENT
BEGIN:VEVENT
DTSTART;TZID=America/New_York:20260401T160000
DTEND;TZID=America/New_York:20260401T220000
DTSTAMP:20260423T163153
CREATED:20250423T181043Z
LAST-MODIFIED:20250423T183539Z
UID:10002001-1775059200-1775080800@theauldshebeenva.com
SUMMARY:Pie and Pint Night $20.95
DESCRIPTION:Enjoy one of our Chicken Pot Pies\, Steak and Mushroom Ale Pie or Shepherd’s Pies and a pint of your choice for $20.95!
URL:https://theauldshebeenva.com/event/pie-and-pint-night/2026-04-01/
LOCATION:VA
CATEGORIES:Menu Specials,Other Entertainment
ATTACH;FMTTYPE=image/jpeg:https://theauldshebeenva.com/wp-content/uploads/Pie-and-Pint.jpg
END:VEVENT
END:VCALENDAR