BEGIN:VCALENDAR
VERSION:2.0
PRODID:-//The Auld Shebeen - ECPv6.15.20//NONSGML v1.0//EN
CALSCALE:GREGORIAN
METHOD:PUBLISH
X-WR-CALNAME:The Auld Shebeen
X-ORIGINAL-URL:https://theauldshebeenva.com
X-WR-CALDESC:Events for The Auld Shebeen
REFRESH-INTERVAL;VALUE=DURATION:PT1H
X-Robots-Tag:noindex
X-PUBLISHED-TTL:PT1H
BEGIN:VTIMEZONE
TZID:America/New_York
BEGIN:DAYLIGHT
TZOFFSETFROM:-0500
TZOFFSETTO:-0400
TZNAME:EDT
DTSTART:20240310T070000
END:DAYLIGHT
BEGIN:STANDARD
TZOFFSETFROM:-0400
TZOFFSETTO:-0500
TZNAME:EST
DTSTART:20241103T060000
END:STANDARD
BEGIN:DAYLIGHT
TZOFFSETFROM:-0500
TZOFFSETTO:-0400
TZNAME:EDT
DTSTART:20250309T070000
END:DAYLIGHT
BEGIN:STANDARD
TZOFFSETFROM:-0400
TZOFFSETTO:-0500
TZNAME:EST
DTSTART:20251102T060000
END:STANDARD
BEGIN:DAYLIGHT
TZOFFSETFROM:-0500
TZOFFSETTO:-0400
TZNAME:EDT
DTSTART:20260308T070000
END:DAYLIGHT
BEGIN:STANDARD
TZOFFSETFROM:-0400
TZOFFSETTO:-0500
TZNAME:EST
DTSTART:20261101T060000
END:STANDARD
END:VTIMEZONE
BEGIN:VEVENT
DTSTART;TZID=America/New_York:20251202T193000
DTEND;TZID=America/New_York:20251202T213000
DTSTAMP:20260423T194935
CREATED:20240726T161020Z
LAST-MODIFIED:20260225T194609Z
UID:10000751-1764703800-1764711000@theauldshebeenva.com
SUMMARY:Pub Quiz - Trivia Night and Chefs Taco Specials
DESCRIPTION:Enjoy our weekly pub Quiz hosted by Sporcle\, games at 7.30pm and 8.30pm\, win gift cards to the pub! Always a fun night with friends or family!
URL:https://theauldshebeenva.com/event/pub-quiz-trivia-night/2025-12-02/
LOCATION:VA
CATEGORIES:Other Entertainment
ATTACH;FMTTYPE=image/png:https://theauldshebeenva.com/wp-content/uploads/Sporcle-1.png
END:VEVENT
BEGIN:VEVENT
DTSTART;TZID=America/New_York:20251203T160000
DTEND;TZID=America/New_York:20251203T220000
DTSTAMP:20260423T194935
CREATED:20250423T181043Z
LAST-MODIFIED:20250423T183539Z
UID:10001984-1764777600-1764799200@theauldshebeenva.com
SUMMARY:Pie and Pint Night $20.95
DESCRIPTION:Enjoy one of our Chicken Pot Pies\, Steak and Mushroom Ale Pie or Shepherd’s Pies and a pint of your choice for $20.95!
URL:https://theauldshebeenva.com/event/pie-and-pint-night/2025-12-03/
LOCATION:VA
CATEGORIES:Menu Specials,Other Entertainment
ATTACH;FMTTYPE=image/jpeg:https://theauldshebeenva.com/wp-content/uploads/Pie-and-Pint.jpg
END:VEVENT
BEGIN:VEVENT
DTSTART;TZID=America/New_York:20251203T210000
DTEND;TZID=America/New_York:20251204T013000
DTSTAMP:20260423T194935
CREATED:20240726T161846Z
LAST-MODIFIED:20240726T162603Z
UID:10001273-1764795600-1764811800@theauldshebeenva.com
SUMMARY:EDM Night hosted by Transit (Cellar Event)
DESCRIPTION:TRANSIT – The longest running dance party in the DMV area. Hear the best of the underground with great DJs in our Cellar.
URL:https://theauldshebeenva.com/event/edm-night-hosted-by-transit-cellar-event/2025-12-03/
LOCATION:VA
CATEGORIES:Other Entertainment
ATTACH;FMTTYPE=image/png:https://theauldshebeenva.com/wp-content/uploads/Transit-final-deluxe-high-res-for-sticker.png
END:VEVENT
BEGIN:VEVENT
DTSTART;TZID=America/New_York:20251204T160000
DTEND;TZID=America/New_York:20251204T213000
DTSTAMP:20260423T194935
CREATED:20250423T185024Z
LAST-MODIFIED:20250423T185024Z
UID:10002280-1764864000-1764883800@theauldshebeenva.com
SUMMARY:Thursday\, Teres Major Steak Special
DESCRIPTION:Every Thursday enjoy our Teres Major Steak Special for $20.95. \n8oz Teres Major (shoulder tenderloin) cut of beef with chimichurri sauce (South American style sauce with chili flakes\, garlic\, parsley\, olive oil and vinegar). Served with pub fries and a small Shebeen salad. \n 
URL:https://theauldshebeenva.com/event/thursday-teres-major-steak-special/2025-12-04/
LOCATION:The Auld Shebeen\, 3971 Chain Bridge Road\, Fairfax\, VA\, 22030
CATEGORIES:Menu Specials,Special Events
ATTACH;FMTTYPE=image/jpeg:https://theauldshebeenva.com/wp-content/uploads/Teres-Major-1-1.jpg
END:VEVENT
BEGIN:VEVENT
DTSTART;TZID=America/New_York:20251205T190000
DTEND;TZID=America/New_York:20251205T213000
DTSTAMP:20260423T194935
CREATED:20180403T180923Z
LAST-MODIFIED:20251003T174330Z
UID:10001938-1764961200-1764970200@theauldshebeenva.com
SUMMARY:The Quietmen
DESCRIPTION:The Quietmen are a New Jersey/Pennsylvania based band that specializes in acoustic and celtic rock/folk music.We play acoustic rock and folk from the 50’s through today. We can do an all-rock/folk show\, all Celtic or some combination of the two. We love to do songs that people know and can sing. \nCome out and sing along with The Quietmen! \nWe’ve added new videos to our youtube account!! Check them out using the link below:\nhttp://www.youtube.com/user/quietmenmusic \nFollow the Quietmen at twitter.com/quietmen\nLike us on Facebook.
URL:https://theauldshebeenva.com/event/the-quietmen-2/2025-12-05/
LOCATION:The Auld Shebeen\, 3971 Chain Bridge Road\, Fairfax\, VA\, 22030
CATEGORIES:Live Music,Other Entertainment
ATTACH;FMTTYPE=image/png:https://theauldshebeenva.com/wp-content/uploads/AuldShebeen_TheQuietman_577x577.png
END:VEVENT
BEGIN:VEVENT
DTSTART;TZID=America/New_York:20251206T120000
DTEND;TZID=America/New_York:20251206T150000
DTSTAMP:20260423T194935
CREATED:20240726T163428Z
LAST-MODIFIED:20240726T163527Z
UID:10001535-1765022400-1765033200@theauldshebeenva.com
SUMMARY:Ceoltas Ceoltoiri Eireann Session Players
DESCRIPTION:Enjoy brunch or lunch while you listen to a traditional Irish session by local CCE members every Saturday from noon- 3pm.
URL:https://theauldshebeenva.com/event/ceoltas-ceoltoiri-eireann-session-players/2025-12-06/
LOCATION:VA
CATEGORIES:Live Music,Other Entertainment
ATTACH;FMTTYPE=image/jpeg:https://theauldshebeenva.com/wp-content/uploads/003-scaled.jpg
END:VEVENT
BEGIN:VEVENT
DTSTART;TZID=America/New_York:20251206T190000
DTEND;TZID=America/New_York:20251206T213000
DTSTAMP:20260423T194935
CREATED:20180403T180923Z
LAST-MODIFIED:20251003T174330Z
UID:10001939-1765047600-1765056600@theauldshebeenva.com
SUMMARY:The Quietmen
DESCRIPTION:The Quietmen are a New Jersey/Pennsylvania based band that specializes in acoustic and celtic rock/folk music.We play acoustic rock and folk from the 50’s through today. We can do an all-rock/folk show\, all Celtic or some combination of the two. We love to do songs that people know and can sing. \nCome out and sing along with The Quietmen! \nWe’ve added new videos to our youtube account!! Check them out using the link below:\nhttp://www.youtube.com/user/quietmenmusic \nFollow the Quietmen at twitter.com/quietmen\nLike us on Facebook.
URL:https://theauldshebeenva.com/event/the-quietmen-2/2025-12-06/
LOCATION:The Auld Shebeen\, 3971 Chain Bridge Road\, Fairfax\, VA\, 22030
CATEGORIES:Live Music,Other Entertainment
ATTACH;FMTTYPE=image/png:https://theauldshebeenva.com/wp-content/uploads/AuldShebeen_TheQuietman_577x577.png
END:VEVENT
BEGIN:VEVENT
DTSTART;TZID=America/New_York:20251209T193000
DTEND;TZID=America/New_York:20251209T213000
DTSTAMP:20260423T194935
CREATED:20240726T161020Z
LAST-MODIFIED:20260225T194609Z
UID:10000752-1765308600-1765315800@theauldshebeenva.com
SUMMARY:Pub Quiz - Trivia Night and Chefs Taco Specials
DESCRIPTION:Enjoy our weekly pub Quiz hosted by Sporcle\, games at 7.30pm and 8.30pm\, win gift cards to the pub! Always a fun night with friends or family!
URL:https://theauldshebeenva.com/event/pub-quiz-trivia-night/2025-12-09/
LOCATION:VA
CATEGORIES:Other Entertainment
ATTACH;FMTTYPE=image/png:https://theauldshebeenva.com/wp-content/uploads/Sporcle-1.png
END:VEVENT
BEGIN:VEVENT
DTSTART;TZID=America/New_York:20251210T160000
DTEND;TZID=America/New_York:20251210T220000
DTSTAMP:20260423T194935
CREATED:20250423T181043Z
LAST-MODIFIED:20250423T183539Z
UID:10001985-1765382400-1765404000@theauldshebeenva.com
SUMMARY:Pie and Pint Night $20.95
DESCRIPTION:Enjoy one of our Chicken Pot Pies\, Steak and Mushroom Ale Pie or Shepherd’s Pies and a pint of your choice for $20.95!
URL:https://theauldshebeenva.com/event/pie-and-pint-night/2025-12-10/
LOCATION:VA
CATEGORIES:Menu Specials,Other Entertainment
ATTACH;FMTTYPE=image/jpeg:https://theauldshebeenva.com/wp-content/uploads/Pie-and-Pint.jpg
END:VEVENT
BEGIN:VEVENT
DTSTART;TZID=America/New_York:20251210T210000
DTEND;TZID=America/New_York:20251211T013000
DTSTAMP:20260423T194935
CREATED:20240726T161846Z
LAST-MODIFIED:20240726T162603Z
UID:10001274-1765400400-1765416600@theauldshebeenva.com
SUMMARY:EDM Night hosted by Transit (Cellar Event)
DESCRIPTION:TRANSIT – The longest running dance party in the DMV area. Hear the best of the underground with great DJs in our Cellar.
URL:https://theauldshebeenva.com/event/edm-night-hosted-by-transit-cellar-event/2025-12-10/
LOCATION:VA
CATEGORIES:Other Entertainment
ATTACH;FMTTYPE=image/png:https://theauldshebeenva.com/wp-content/uploads/Transit-final-deluxe-high-res-for-sticker.png
END:VEVENT
BEGIN:VEVENT
DTSTART;TZID=America/New_York:20251211T160000
DTEND;TZID=America/New_York:20251211T213000
DTSTAMP:20260423T194935
CREATED:20250423T185024Z
LAST-MODIFIED:20250423T185024Z
UID:10002281-1765468800-1765488600@theauldshebeenva.com
SUMMARY:Thursday\, Teres Major Steak Special
DESCRIPTION:Every Thursday enjoy our Teres Major Steak Special for $20.95. \n8oz Teres Major (shoulder tenderloin) cut of beef with chimichurri sauce (South American style sauce with chili flakes\, garlic\, parsley\, olive oil and vinegar). Served with pub fries and a small Shebeen salad. \n 
URL:https://theauldshebeenva.com/event/thursday-teres-major-steak-special/2025-12-11/
LOCATION:The Auld Shebeen\, 3971 Chain Bridge Road\, Fairfax\, VA\, 22030
CATEGORIES:Menu Specials,Special Events
ATTACH;FMTTYPE=image/jpeg:https://theauldshebeenva.com/wp-content/uploads/Teres-Major-1-1.jpg
END:VEVENT
BEGIN:VEVENT
DTSTART;TZID=America/New_York:20251212T190000
DTEND;TZID=America/New_York:20251212T213000
DTSTAMP:20260423T194935
CREATED:20240210T170432Z
LAST-MODIFIED:20251003T182122Z
UID:10001915-1765566000-1765575000@theauldshebeenva.com
SUMMARY:Brendan's Voyage
DESCRIPTION:Fergus and Stevie of Brendan’s Voyage join us for an evening of some of the best traditional Irish music\, a show not to be missed!
URL:https://theauldshebeenva.com/event/brendans-voyage/2025-12-12/
LOCATION:The Auld Shebeen\, 3971 Chain Bridge Road\, Fairfax\, VA\, 22030
CATEGORIES:Live Music,Other Entertainment
ATTACH;FMTTYPE=image/jpeg:https://theauldshebeenva.com/wp-content/uploads/Brendans-Voyage-2025.jpeg
END:VEVENT
BEGIN:VEVENT
DTSTART;TZID=America/New_York:20251213T120000
DTEND;TZID=America/New_York:20251213T150000
DTSTAMP:20260423T194935
CREATED:20240726T163428Z
LAST-MODIFIED:20240726T163527Z
UID:10001536-1765627200-1765638000@theauldshebeenva.com
SUMMARY:Ceoltas Ceoltoiri Eireann Session Players
DESCRIPTION:Enjoy brunch or lunch while you listen to a traditional Irish session by local CCE members every Saturday from noon- 3pm.
URL:https://theauldshebeenva.com/event/ceoltas-ceoltoiri-eireann-session-players/2025-12-13/
LOCATION:VA
CATEGORIES:Live Music,Other Entertainment
ATTACH;FMTTYPE=image/jpeg:https://theauldshebeenva.com/wp-content/uploads/003-scaled.jpg
END:VEVENT
BEGIN:VEVENT
DTSTART;TZID=America/New_York:20251213T190000
DTEND;TZID=America/New_York:20251213T213000
DTSTAMP:20260423T194935
CREATED:20240210T170432Z
LAST-MODIFIED:20251003T182122Z
UID:10001916-1765652400-1765661400@theauldshebeenva.com
SUMMARY:Brendan's Voyage
DESCRIPTION:Fergus and Stevie of Brendan’s Voyage join us for an evening of some of the best traditional Irish music\, a show not to be missed!
URL:https://theauldshebeenva.com/event/brendans-voyage/2025-12-13/
LOCATION:The Auld Shebeen\, 3971 Chain Bridge Road\, Fairfax\, VA\, 22030
CATEGORIES:Live Music,Other Entertainment
ATTACH;FMTTYPE=image/jpeg:https://theauldshebeenva.com/wp-content/uploads/Brendans-Voyage-2025.jpeg
END:VEVENT
BEGIN:VEVENT
DTSTART;TZID=America/New_York:20251215T180000
DTEND;TZID=America/New_York:20251215T203000
DTSTAMP:20260423T194935
CREATED:20251209T171456Z
LAST-MODIFIED:20251209T171456Z
UID:10002785-1765821600-1765830600@theauldshebeenva.com
SUMMARY:West Potomac High School Choir
DESCRIPTION:We are very excited to welcome back this year our awesome former staff member Nelly Solares and her choir from West Potomac High School to provide an evening of caroling\, we hope you can join us in supporting them!! Reservations are recommended.
URL:https://theauldshebeenva.com/event/west-potomac-high-school-choir/
LOCATION:VA
CATEGORIES:Live Music,Other Entertainment
ATTACH;FMTTYPE=application/pdf:https://theauldshebeenva.com/wp-content/uploads/WPHS-Auld-Shebeen.pdf
END:VEVENT
BEGIN:VEVENT
DTSTART;TZID=America/New_York:20251216T193000
DTEND;TZID=America/New_York:20251216T213000
DTSTAMP:20260423T194935
CREATED:20240726T161020Z
LAST-MODIFIED:20260225T194609Z
UID:10000753-1765913400-1765920600@theauldshebeenva.com
SUMMARY:Pub Quiz - Trivia Night and Chefs Taco Specials
DESCRIPTION:Enjoy our weekly pub Quiz hosted by Sporcle\, games at 7.30pm and 8.30pm\, win gift cards to the pub! Always a fun night with friends or family!
URL:https://theauldshebeenva.com/event/pub-quiz-trivia-night/2025-12-16/
LOCATION:VA
CATEGORIES:Other Entertainment
ATTACH;FMTTYPE=image/png:https://theauldshebeenva.com/wp-content/uploads/Sporcle-1.png
END:VEVENT
BEGIN:VEVENT
DTSTART;TZID=America/New_York:20251217T160000
DTEND;TZID=America/New_York:20251217T220000
DTSTAMP:20260423T194935
CREATED:20250423T181043Z
LAST-MODIFIED:20250423T183539Z
UID:10001986-1765987200-1766008800@theauldshebeenva.com
SUMMARY:Pie and Pint Night $20.95
DESCRIPTION:Enjoy one of our Chicken Pot Pies\, Steak and Mushroom Ale Pie or Shepherd’s Pies and a pint of your choice for $20.95!
URL:https://theauldshebeenva.com/event/pie-and-pint-night/2025-12-17/
LOCATION:VA
CATEGORIES:Menu Specials,Other Entertainment
ATTACH;FMTTYPE=image/jpeg:https://theauldshebeenva.com/wp-content/uploads/Pie-and-Pint.jpg
END:VEVENT
BEGIN:VEVENT
DTSTART;TZID=America/New_York:20251217T210000
DTEND;TZID=America/New_York:20251218T013000
DTSTAMP:20260423T194935
CREATED:20240726T161846Z
LAST-MODIFIED:20240726T162603Z
UID:10001275-1766005200-1766021400@theauldshebeenva.com
SUMMARY:EDM Night hosted by Transit (Cellar Event)
DESCRIPTION:TRANSIT – The longest running dance party in the DMV area. Hear the best of the underground with great DJs in our Cellar.
URL:https://theauldshebeenva.com/event/edm-night-hosted-by-transit-cellar-event/2025-12-17/
LOCATION:VA
CATEGORIES:Other Entertainment
ATTACH;FMTTYPE=image/png:https://theauldshebeenva.com/wp-content/uploads/Transit-final-deluxe-high-res-for-sticker.png
END:VEVENT
BEGIN:VEVENT
DTSTART;TZID=America/New_York:20251218T160000
DTEND;TZID=America/New_York:20251218T213000
DTSTAMP:20260423T194935
CREATED:20250423T185024Z
LAST-MODIFIED:20250423T185024Z
UID:10002282-1766073600-1766093400@theauldshebeenva.com
SUMMARY:Thursday\, Teres Major Steak Special
DESCRIPTION:Every Thursday enjoy our Teres Major Steak Special for $20.95. \n8oz Teres Major (shoulder tenderloin) cut of beef with chimichurri sauce (South American style sauce with chili flakes\, garlic\, parsley\, olive oil and vinegar). Served with pub fries and a small Shebeen salad. \n 
URL:https://theauldshebeenva.com/event/thursday-teres-major-steak-special/2025-12-18/
LOCATION:The Auld Shebeen\, 3971 Chain Bridge Road\, Fairfax\, VA\, 22030
CATEGORIES:Menu Specials,Special Events
ATTACH;FMTTYPE=image/jpeg:https://theauldshebeenva.com/wp-content/uploads/Teres-Major-1-1.jpg
END:VEVENT
BEGIN:VEVENT
DTSTART;TZID=America/New_York:20251219T190000
DTEND;TZID=America/New_York:20251219T213000
DTSTAMP:20260423T194935
CREATED:20240215T232133Z
LAST-MODIFIED:20260303T190950Z
UID:10001907-1766170800-1766179800@theauldshebeenva.com
SUMMARY:Brian Gaffney
DESCRIPTION:Brian Gaffney singer/songwriter was born in Tralee\, County Kerry.  Youngest of 4 kids\, Brian didn’t take long to pick up a love of music from his older brothers. \nBy age 13\, Brian was playing in pubs around Kerry with accordion player Kevin Cronin.  They formed a band in Christian Brothers School and won the all Ireland “Slogadh” in 1974. \nBrian played all kinds of music\, to include traditional Irish music and rock ‘n roll and found his nitch as a solo performer. \nDuring the late 70’s\, Brian was the resident Saturday night opener at Horan’s Hotel in Tralee where he stayed for 5 years.  Playing at Horan’s gave Brian an opportunity to play with renowned Irish groups such as The Furey’s\, Moving Hearts and the Dubliners\, just to name a few. \nBrian continued to play all over Ireland until 1985 when he immigrated to America.  Brian’s first port of call was Boston\, Mass. where he was immediately snatched up to fill in with the band “Dublin Sound” with Dessie Higgins and Sean Garvey.  In 1986\, Brian partnered up with Alan Loughnane and toured all over America with the group “Claddagh” for 3 1/2 years. \nBrian then joined Fergus Kennedy\, then Steve Morris in the Washington\, DC and Northern Virginia areas in the band “Brendan’s Voyage”.  They toured all over America as well and released 2 very successful albums “In Full Sail” and “Close to the Wind”. \nBrian pursued his passion by playing traditional music.  Brian teamed up with all star fiddle player\, Brendan Mulvihill with whom he performed every Wednesday night at Nanny O’Brien’s.  Brian has also had the opportunity to play with such traditional greats as: Finbar Furey\, Paddy Keenan\, Billy McComiskey\, James Kelly\, Andy Irvine\, Andy M. Stewart in concert and others during is weekly Monday night fireside seisun’s.  Past artists included:  Eileen Ivers\, Matt Molloy (Chieftains)\, Martin Hayes and many others. \nBrian is focused on his music career\, primarily as a solo artist\, but he still features on tours with Finbar Furey\, Brendan Mulvihill\, Patsy Whelan\, Brendan’s Voyage and anyone else who may cross his path!
URL:https://theauldshebeenva.com/event/brian-gaffney/2025-12-19/
LOCATION:VA
CATEGORIES:Live Music,Other Entertainment
ATTACH;FMTTYPE=image/jpeg:https://theauldshebeenva.com/wp-content/uploads/Brian-Gaffney-2025.jpeg
END:VEVENT
BEGIN:VEVENT
DTSTART;TZID=America/New_York:20251220T120000
DTEND;TZID=America/New_York:20251220T150000
DTSTAMP:20260423T194935
CREATED:20240726T163428Z
LAST-MODIFIED:20240726T163527Z
UID:10001537-1766232000-1766242800@theauldshebeenva.com
SUMMARY:Ceoltas Ceoltoiri Eireann Session Players
DESCRIPTION:Enjoy brunch or lunch while you listen to a traditional Irish session by local CCE members every Saturday from noon- 3pm.
URL:https://theauldshebeenva.com/event/ceoltas-ceoltoiri-eireann-session-players/2025-12-20/
LOCATION:VA
CATEGORIES:Live Music,Other Entertainment
ATTACH;FMTTYPE=image/jpeg:https://theauldshebeenva.com/wp-content/uploads/003-scaled.jpg
END:VEVENT
BEGIN:VEVENT
DTSTART;TZID=America/New_York:20251220T190000
DTEND;TZID=America/New_York:20251220T213000
DTSTAMP:20260423T194935
CREATED:20240215T232133Z
LAST-MODIFIED:20260303T190950Z
UID:10001908-1766257200-1766266200@theauldshebeenva.com
SUMMARY:Brian Gaffney
DESCRIPTION:Brian Gaffney singer/songwriter was born in Tralee\, County Kerry.  Youngest of 4 kids\, Brian didn’t take long to pick up a love of music from his older brothers. \nBy age 13\, Brian was playing in pubs around Kerry with accordion player Kevin Cronin.  They formed a band in Christian Brothers School and won the all Ireland “Slogadh” in 1974. \nBrian played all kinds of music\, to include traditional Irish music and rock ‘n roll and found his nitch as a solo performer. \nDuring the late 70’s\, Brian was the resident Saturday night opener at Horan’s Hotel in Tralee where he stayed for 5 years.  Playing at Horan’s gave Brian an opportunity to play with renowned Irish groups such as The Furey’s\, Moving Hearts and the Dubliners\, just to name a few. \nBrian continued to play all over Ireland until 1985 when he immigrated to America.  Brian’s first port of call was Boston\, Mass. where he was immediately snatched up to fill in with the band “Dublin Sound” with Dessie Higgins and Sean Garvey.  In 1986\, Brian partnered up with Alan Loughnane and toured all over America with the group “Claddagh” for 3 1/2 years. \nBrian then joined Fergus Kennedy\, then Steve Morris in the Washington\, DC and Northern Virginia areas in the band “Brendan’s Voyage”.  They toured all over America as well and released 2 very successful albums “In Full Sail” and “Close to the Wind”. \nBrian pursued his passion by playing traditional music.  Brian teamed up with all star fiddle player\, Brendan Mulvihill with whom he performed every Wednesday night at Nanny O’Brien’s.  Brian has also had the opportunity to play with such traditional greats as: Finbar Furey\, Paddy Keenan\, Billy McComiskey\, James Kelly\, Andy Irvine\, Andy M. Stewart in concert and others during is weekly Monday night fireside seisun’s.  Past artists included:  Eileen Ivers\, Matt Molloy (Chieftains)\, Martin Hayes and many others. \nBrian is focused on his music career\, primarily as a solo artist\, but he still features on tours with Finbar Furey\, Brendan Mulvihill\, Patsy Whelan\, Brendan’s Voyage and anyone else who may cross his path!
URL:https://theauldshebeenva.com/event/brian-gaffney/2025-12-20/
LOCATION:VA
CATEGORIES:Live Music,Other Entertainment
ATTACH;FMTTYPE=image/jpeg:https://theauldshebeenva.com/wp-content/uploads/Brian-Gaffney-2025.jpeg
END:VEVENT
BEGIN:VEVENT
DTSTART;TZID=America/New_York:20251223T193000
DTEND;TZID=America/New_York:20251223T213000
DTSTAMP:20260423T194935
CREATED:20240726T161020Z
LAST-MODIFIED:20260225T194609Z
UID:10000754-1766518200-1766525400@theauldshebeenva.com
SUMMARY:Pub Quiz - Trivia Night and Chefs Taco Specials
DESCRIPTION:Enjoy our weekly pub Quiz hosted by Sporcle\, games at 7.30pm and 8.30pm\, win gift cards to the pub! Always a fun night with friends or family!
URL:https://theauldshebeenva.com/event/pub-quiz-trivia-night/2025-12-23/
LOCATION:VA
CATEGORIES:Other Entertainment
ATTACH;FMTTYPE=image/png:https://theauldshebeenva.com/wp-content/uploads/Sporcle-1.png
END:VEVENT
BEGIN:VEVENT
DTSTART;TZID=America/New_York:20251224T160000
DTEND;TZID=America/New_York:20251224T220000
DTSTAMP:20260423T194935
CREATED:20250423T181043Z
LAST-MODIFIED:20250423T183539Z
UID:10001987-1766592000-1766613600@theauldshebeenva.com
SUMMARY:Pie and Pint Night $20.95
DESCRIPTION:Enjoy one of our Chicken Pot Pies\, Steak and Mushroom Ale Pie or Shepherd’s Pies and a pint of your choice for $20.95!
URL:https://theauldshebeenva.com/event/pie-and-pint-night/2025-12-24/
LOCATION:VA
CATEGORIES:Menu Specials,Other Entertainment
ATTACH;FMTTYPE=image/jpeg:https://theauldshebeenva.com/wp-content/uploads/Pie-and-Pint.jpg
END:VEVENT
BEGIN:VEVENT
DTSTART;TZID=America/New_York:20251224T210000
DTEND;TZID=America/New_York:20251225T013000
DTSTAMP:20260423T194935
CREATED:20240726T161846Z
LAST-MODIFIED:20240726T162603Z
UID:10001276-1766610000-1766626200@theauldshebeenva.com
SUMMARY:EDM Night hosted by Transit (Cellar Event)
DESCRIPTION:TRANSIT – The longest running dance party in the DMV area. Hear the best of the underground with great DJs in our Cellar.
URL:https://theauldshebeenva.com/event/edm-night-hosted-by-transit-cellar-event/2025-12-24/
LOCATION:VA
CATEGORIES:Other Entertainment
ATTACH;FMTTYPE=image/png:https://theauldshebeenva.com/wp-content/uploads/Transit-final-deluxe-high-res-for-sticker.png
END:VEVENT
BEGIN:VEVENT
DTSTART;TZID=America/New_York:20251225T160000
DTEND;TZID=America/New_York:20251225T213000
DTSTAMP:20260423T194935
CREATED:20250423T185024Z
LAST-MODIFIED:20250423T185024Z
UID:10002283-1766678400-1766698200@theauldshebeenva.com
SUMMARY:Thursday\, Teres Major Steak Special
DESCRIPTION:Every Thursday enjoy our Teres Major Steak Special for $20.95. \n8oz Teres Major (shoulder tenderloin) cut of beef with chimichurri sauce (South American style sauce with chili flakes\, garlic\, parsley\, olive oil and vinegar). Served with pub fries and a small Shebeen salad. \n 
URL:https://theauldshebeenva.com/event/thursday-teres-major-steak-special/2025-12-25/
LOCATION:The Auld Shebeen\, 3971 Chain Bridge Road\, Fairfax\, VA\, 22030
CATEGORIES:Menu Specials,Special Events
ATTACH;FMTTYPE=image/jpeg:https://theauldshebeenva.com/wp-content/uploads/Teres-Major-1-1.jpg
END:VEVENT
BEGIN:VEVENT
DTSTART;TZID=America/New_York:20251227T120000
DTEND;TZID=America/New_York:20251227T150000
DTSTAMP:20260423T194935
CREATED:20240726T163428Z
LAST-MODIFIED:20240726T163527Z
UID:10001538-1766836800-1766847600@theauldshebeenva.com
SUMMARY:Ceoltas Ceoltoiri Eireann Session Players
DESCRIPTION:Enjoy brunch or lunch while you listen to a traditional Irish session by local CCE members every Saturday from noon- 3pm.
URL:https://theauldshebeenva.com/event/ceoltas-ceoltoiri-eireann-session-players/2025-12-27/
LOCATION:VA
CATEGORIES:Live Music,Other Entertainment
ATTACH;FMTTYPE=image/jpeg:https://theauldshebeenva.com/wp-content/uploads/003-scaled.jpg
END:VEVENT
BEGIN:VEVENT
DTSTART;TZID=America/New_York:20251230T193000
DTEND;TZID=America/New_York:20251230T213000
DTSTAMP:20260423T194935
CREATED:20240726T161020Z
LAST-MODIFIED:20260225T194609Z
UID:10000755-1767123000-1767130200@theauldshebeenva.com
SUMMARY:Pub Quiz - Trivia Night and Chefs Taco Specials
DESCRIPTION:Enjoy our weekly pub Quiz hosted by Sporcle\, games at 7.30pm and 8.30pm\, win gift cards to the pub! Always a fun night with friends or family!
URL:https://theauldshebeenva.com/event/pub-quiz-trivia-night/2025-12-30/
LOCATION:VA
CATEGORIES:Other Entertainment
ATTACH;FMTTYPE=image/png:https://theauldshebeenva.com/wp-content/uploads/Sporcle-1.png
END:VEVENT
BEGIN:VEVENT
DTSTART;TZID=America/New_York:20251231T160000
DTEND;TZID=America/New_York:20251231T220000
DTSTAMP:20260423T194935
CREATED:20250423T181043Z
LAST-MODIFIED:20250423T183539Z
UID:10001988-1767196800-1767218400@theauldshebeenva.com
SUMMARY:Pie and Pint Night $20.95
DESCRIPTION:Enjoy one of our Chicken Pot Pies\, Steak and Mushroom Ale Pie or Shepherd’s Pies and a pint of your choice for $20.95!
URL:https://theauldshebeenva.com/event/pie-and-pint-night/2025-12-31/
LOCATION:VA
CATEGORIES:Menu Specials,Other Entertainment
ATTACH;FMTTYPE=image/jpeg:https://theauldshebeenva.com/wp-content/uploads/Pie-and-Pint.jpg
END:VEVENT
BEGIN:VEVENT
DTSTART;TZID=America/New_York:20251231T180000
DTEND;TZID=America/New_York:20251231T213000
DTSTAMP:20260423T194935
CREATED:20251209T172620Z
LAST-MODIFIED:20251209T172620Z
UID:10002786-1767204000-1767216600@theauldshebeenva.com
SUMMARY:Irish New Year's Celebration with Pat Garvey
DESCRIPTION:Help is ring in the Irish New Year at 7pm! Enjoy a 3-course dinner\, party favors\, and a champagne toast at 7pm\, midnight in Ireland with entertainment by Pat Garvey! Reservations required.
URL:https://theauldshebeenva.com/event/irish-new-years-celebration-with-pat-garvey/
LOCATION:VA
CATEGORIES:Live Music,Other Entertainment
ATTACH;FMTTYPE=image/jpeg:https://theauldshebeenva.com/wp-content/uploads/Pat-Garvey-resized.jpg
END:VEVENT
END:VCALENDAR