BEGIN:VCALENDAR
VERSION:2.0
PRODID:-//The Auld Shebeen - ECPv6.15.20//NONSGML v1.0//EN
CALSCALE:GREGORIAN
METHOD:PUBLISH
X-ORIGINAL-URL:https://theauldshebeenva.com
X-WR-CALDESC:Events for The Auld Shebeen
REFRESH-INTERVAL;VALUE=DURATION:PT1H
X-Robots-Tag:noindex
X-PUBLISHED-TTL:PT1H
BEGIN:VTIMEZONE
TZID:America/New_York
BEGIN:DAYLIGHT
TZOFFSETFROM:-0500
TZOFFSETTO:-0400
TZNAME:EDT
DTSTART:20300310T070000
END:DAYLIGHT
BEGIN:STANDARD
TZOFFSETFROM:-0400
TZOFFSETTO:-0500
TZNAME:EST
DTSTART:20301103T060000
END:STANDARD
BEGIN:DAYLIGHT
TZOFFSETFROM:-0500
TZOFFSETTO:-0400
TZNAME:EDT
DTSTART:20310309T070000
END:DAYLIGHT
BEGIN:STANDARD
TZOFFSETFROM:-0400
TZOFFSETTO:-0500
TZNAME:EST
DTSTART:20311102T060000
END:STANDARD
BEGIN:DAYLIGHT
TZOFFSETFROM:-0500
TZOFFSETTO:-0400
TZNAME:EDT
DTSTART:20320314T070000
END:DAYLIGHT
BEGIN:STANDARD
TZOFFSETFROM:-0400
TZOFFSETTO:-0500
TZNAME:EST
DTSTART:20321107T060000
END:STANDARD
END:VTIMEZONE
BEGIN:VEVENT
DTSTART;TZID=America/New_York:20310130T160000
DTEND;TZID=America/New_York:20310130T213000
DTSTAMP:20260425T215535
CREATED:20250423T185024Z
LAST-MODIFIED:20250423T185024Z
UID:10002826-1927555200-1927575000@theauldshebeenva.com
SUMMARY:Thursday\, Teres Major Steak Special
DESCRIPTION:Every Thursday enjoy our Teres Major Steak Special for $20.95. \n8oz Teres Major (shoulder tenderloin) cut of beef with chimichurri sauce (South American style sauce with chili flakes\, garlic\, parsley\, olive oil and vinegar). Served with pub fries and a small Shebeen salad. \n 
URL:https://theauldshebeenva.com/event/thursday-teres-major-steak-special/2031-01-30/
LOCATION:The Auld Shebeen\, 3971 Chain Bridge Road\, Fairfax\, VA\, 22030
CATEGORIES:Menu Specials,Special Events
ATTACH;FMTTYPE=image/jpeg:https://theauldshebeenva.com/wp-content/uploads/Teres-Major-1-1.jpg
END:VEVENT
BEGIN:VEVENT
DTSTART;TZID=America/New_York:20310206T160000
DTEND;TZID=America/New_York:20310206T213000
DTSTAMP:20260425T215535
CREATED:20250423T185024Z
LAST-MODIFIED:20250423T185024Z
UID:10002831-1928160000-1928179800@theauldshebeenva.com
SUMMARY:Thursday\, Teres Major Steak Special
DESCRIPTION:Every Thursday enjoy our Teres Major Steak Special for $20.95. \n8oz Teres Major (shoulder tenderloin) cut of beef with chimichurri sauce (South American style sauce with chili flakes\, garlic\, parsley\, olive oil and vinegar). Served with pub fries and a small Shebeen salad. \n 
URL:https://theauldshebeenva.com/event/thursday-teres-major-steak-special/2031-02-06/
LOCATION:The Auld Shebeen\, 3971 Chain Bridge Road\, Fairfax\, VA\, 22030
CATEGORIES:Menu Specials,Special Events
ATTACH;FMTTYPE=image/jpeg:https://theauldshebeenva.com/wp-content/uploads/Teres-Major-1-1.jpg
END:VEVENT
BEGIN:VEVENT
DTSTART;TZID=America/New_York:20310213T160000
DTEND;TZID=America/New_York:20310213T213000
DTSTAMP:20260425T215535
CREATED:20250423T185024Z
LAST-MODIFIED:20250423T185024Z
UID:10002836-1928764800-1928784600@theauldshebeenva.com
SUMMARY:Thursday\, Teres Major Steak Special
DESCRIPTION:Every Thursday enjoy our Teres Major Steak Special for $20.95. \n8oz Teres Major (shoulder tenderloin) cut of beef with chimichurri sauce (South American style sauce with chili flakes\, garlic\, parsley\, olive oil and vinegar). Served with pub fries and a small Shebeen salad. \n 
URL:https://theauldshebeenva.com/event/thursday-teres-major-steak-special/2031-02-13/
LOCATION:The Auld Shebeen\, 3971 Chain Bridge Road\, Fairfax\, VA\, 22030
CATEGORIES:Menu Specials,Special Events
ATTACH;FMTTYPE=image/jpeg:https://theauldshebeenva.com/wp-content/uploads/Teres-Major-1-1.jpg
END:VEVENT
BEGIN:VEVENT
DTSTART;TZID=America/New_York:20310220T160000
DTEND;TZID=America/New_York:20310220T213000
DTSTAMP:20260425T215535
CREATED:20250423T185024Z
LAST-MODIFIED:20250423T185024Z
UID:10002841-1929369600-1929389400@theauldshebeenva.com
SUMMARY:Thursday\, Teres Major Steak Special
DESCRIPTION:Every Thursday enjoy our Teres Major Steak Special for $20.95. \n8oz Teres Major (shoulder tenderloin) cut of beef with chimichurri sauce (South American style sauce with chili flakes\, garlic\, parsley\, olive oil and vinegar). Served with pub fries and a small Shebeen salad. \n 
URL:https://theauldshebeenva.com/event/thursday-teres-major-steak-special/2031-02-20/
LOCATION:The Auld Shebeen\, 3971 Chain Bridge Road\, Fairfax\, VA\, 22030
CATEGORIES:Menu Specials,Special Events
ATTACH;FMTTYPE=image/jpeg:https://theauldshebeenva.com/wp-content/uploads/Teres-Major-1-1.jpg
END:VEVENT
BEGIN:VEVENT
DTSTART;TZID=America/New_York:20310227T160000
DTEND;TZID=America/New_York:20310227T213000
DTSTAMP:20260425T215535
CREATED:20250423T185024Z
LAST-MODIFIED:20250423T185024Z
UID:10002852-1929974400-1929994200@theauldshebeenva.com
SUMMARY:Thursday\, Teres Major Steak Special
DESCRIPTION:Every Thursday enjoy our Teres Major Steak Special for $20.95. \n8oz Teres Major (shoulder tenderloin) cut of beef with chimichurri sauce (South American style sauce with chili flakes\, garlic\, parsley\, olive oil and vinegar). Served with pub fries and a small Shebeen salad. \n 
URL:https://theauldshebeenva.com/event/thursday-teres-major-steak-special/2031-02-27/
LOCATION:The Auld Shebeen\, 3971 Chain Bridge Road\, Fairfax\, VA\, 22030
CATEGORIES:Menu Specials,Special Events
ATTACH;FMTTYPE=image/jpeg:https://theauldshebeenva.com/wp-content/uploads/Teres-Major-1-1.jpg
END:VEVENT
BEGIN:VEVENT
DTSTART;TZID=America/New_York:20310306T160000
DTEND;TZID=America/New_York:20310306T213000
DTSTAMP:20260425T215535
CREATED:20250423T185024Z
LAST-MODIFIED:20250423T185024Z
UID:10002858-1930579200-1930599000@theauldshebeenva.com
SUMMARY:Thursday\, Teres Major Steak Special
DESCRIPTION:Every Thursday enjoy our Teres Major Steak Special for $20.95. \n8oz Teres Major (shoulder tenderloin) cut of beef with chimichurri sauce (South American style sauce with chili flakes\, garlic\, parsley\, olive oil and vinegar). Served with pub fries and a small Shebeen salad. \n 
URL:https://theauldshebeenva.com/event/thursday-teres-major-steak-special/2031-03-06/
LOCATION:The Auld Shebeen\, 3971 Chain Bridge Road\, Fairfax\, VA\, 22030
CATEGORIES:Menu Specials,Special Events
ATTACH;FMTTYPE=image/jpeg:https://theauldshebeenva.com/wp-content/uploads/Teres-Major-1-1.jpg
END:VEVENT
BEGIN:VEVENT
DTSTART;TZID=America/New_York:20310313T160000
DTEND;TZID=America/New_York:20310313T213000
DTSTAMP:20260425T215535
CREATED:20250423T185024Z
LAST-MODIFIED:20250423T185024Z
UID:10002863-1931184000-1931203800@theauldshebeenva.com
SUMMARY:Thursday\, Teres Major Steak Special
DESCRIPTION:Every Thursday enjoy our Teres Major Steak Special for $20.95. \n8oz Teres Major (shoulder tenderloin) cut of beef with chimichurri sauce (South American style sauce with chili flakes\, garlic\, parsley\, olive oil and vinegar). Served with pub fries and a small Shebeen salad. \n 
URL:https://theauldshebeenva.com/event/thursday-teres-major-steak-special/2031-03-13/
LOCATION:The Auld Shebeen\, 3971 Chain Bridge Road\, Fairfax\, VA\, 22030
CATEGORIES:Menu Specials,Special Events
ATTACH;FMTTYPE=image/jpeg:https://theauldshebeenva.com/wp-content/uploads/Teres-Major-1-1.jpg
END:VEVENT
BEGIN:VEVENT
DTSTART;TZID=America/New_York:20310320T160000
DTEND;TZID=America/New_York:20310320T213000
DTSTAMP:20260425T215535
CREATED:20250423T185024Z
LAST-MODIFIED:20250423T185024Z
UID:10002870-1931788800-1931808600@theauldshebeenva.com
SUMMARY:Thursday\, Teres Major Steak Special
DESCRIPTION:Every Thursday enjoy our Teres Major Steak Special for $20.95. \n8oz Teres Major (shoulder tenderloin) cut of beef with chimichurri sauce (South American style sauce with chili flakes\, garlic\, parsley\, olive oil and vinegar). Served with pub fries and a small Shebeen salad. \n 
URL:https://theauldshebeenva.com/event/thursday-teres-major-steak-special/2031-03-20/
LOCATION:The Auld Shebeen\, 3971 Chain Bridge Road\, Fairfax\, VA\, 22030
CATEGORIES:Menu Specials,Special Events
ATTACH;FMTTYPE=image/jpeg:https://theauldshebeenva.com/wp-content/uploads/Teres-Major-1-1.jpg
END:VEVENT
BEGIN:VEVENT
DTSTART;TZID=America/New_York:20310327T160000
DTEND;TZID=America/New_York:20310327T213000
DTSTAMP:20260425T215535
CREATED:20250423T185024Z
LAST-MODIFIED:20250423T185024Z
UID:10002878-1932393600-1932413400@theauldshebeenva.com
SUMMARY:Thursday\, Teres Major Steak Special
DESCRIPTION:Every Thursday enjoy our Teres Major Steak Special for $20.95. \n8oz Teres Major (shoulder tenderloin) cut of beef with chimichurri sauce (South American style sauce with chili flakes\, garlic\, parsley\, olive oil and vinegar). Served with pub fries and a small Shebeen salad. \n 
URL:https://theauldshebeenva.com/event/thursday-teres-major-steak-special/2031-03-27/
LOCATION:The Auld Shebeen\, 3971 Chain Bridge Road\, Fairfax\, VA\, 22030
CATEGORIES:Menu Specials,Special Events
ATTACH;FMTTYPE=image/jpeg:https://theauldshebeenva.com/wp-content/uploads/Teres-Major-1-1.jpg
END:VEVENT
BEGIN:VEVENT
DTSTART;TZID=America/New_York:20310403T160000
DTEND;TZID=America/New_York:20310403T213000
DTSTAMP:20260425T215535
CREATED:20250423T185024Z
LAST-MODIFIED:20250423T185024Z
UID:10002879-1932998400-1933018200@theauldshebeenva.com
SUMMARY:Thursday\, Teres Major Steak Special
DESCRIPTION:Every Thursday enjoy our Teres Major Steak Special for $20.95. \n8oz Teres Major (shoulder tenderloin) cut of beef with chimichurri sauce (South American style sauce with chili flakes\, garlic\, parsley\, olive oil and vinegar). Served with pub fries and a small Shebeen salad. \n 
URL:https://theauldshebeenva.com/event/thursday-teres-major-steak-special/2031-04-03/
LOCATION:The Auld Shebeen\, 3971 Chain Bridge Road\, Fairfax\, VA\, 22030
CATEGORIES:Menu Specials,Special Events
ATTACH;FMTTYPE=image/jpeg:https://theauldshebeenva.com/wp-content/uploads/Teres-Major-1-1.jpg
END:VEVENT
BEGIN:VEVENT
DTSTART;TZID=America/New_York:20310410T160000
DTEND;TZID=America/New_York:20310410T213000
DTSTAMP:20260425T215535
CREATED:20250423T185024Z
LAST-MODIFIED:20250423T185024Z
UID:10002887-1933603200-1933623000@theauldshebeenva.com
SUMMARY:Thursday\, Teres Major Steak Special
DESCRIPTION:Every Thursday enjoy our Teres Major Steak Special for $20.95. \n8oz Teres Major (shoulder tenderloin) cut of beef with chimichurri sauce (South American style sauce with chili flakes\, garlic\, parsley\, olive oil and vinegar). Served with pub fries and a small Shebeen salad. \n 
URL:https://theauldshebeenva.com/event/thursday-teres-major-steak-special/2031-04-10/
LOCATION:The Auld Shebeen\, 3971 Chain Bridge Road\, Fairfax\, VA\, 22030
CATEGORIES:Menu Specials,Special Events
ATTACH;FMTTYPE=image/jpeg:https://theauldshebeenva.com/wp-content/uploads/Teres-Major-1-1.jpg
END:VEVENT
BEGIN:VEVENT
DTSTART;TZID=America/New_York:20310417T160000
DTEND;TZID=America/New_York:20310417T213000
DTSTAMP:20260425T215535
CREATED:20250423T185024Z
LAST-MODIFIED:20250423T185024Z
UID:10002892-1934208000-1934227800@theauldshebeenva.com
SUMMARY:Thursday\, Teres Major Steak Special
DESCRIPTION:Every Thursday enjoy our Teres Major Steak Special for $20.95. \n8oz Teres Major (shoulder tenderloin) cut of beef with chimichurri sauce (South American style sauce with chili flakes\, garlic\, parsley\, olive oil and vinegar). Served with pub fries and a small Shebeen salad. \n 
URL:https://theauldshebeenva.com/event/thursday-teres-major-steak-special/2031-04-17/
LOCATION:The Auld Shebeen\, 3971 Chain Bridge Road\, Fairfax\, VA\, 22030
CATEGORIES:Menu Specials,Special Events
ATTACH;FMTTYPE=image/jpeg:https://theauldshebeenva.com/wp-content/uploads/Teres-Major-1-1.jpg
END:VEVENT
BEGIN:VEVENT
DTSTART;TZID=America/New_York:20310424T160000
DTEND;TZID=America/New_York:20310424T213000
DTSTAMP:20260425T215535
CREATED:20250423T185024Z
LAST-MODIFIED:20250423T185024Z
UID:10002897-1934812800-1934832600@theauldshebeenva.com
SUMMARY:Thursday\, Teres Major Steak Special
DESCRIPTION:Every Thursday enjoy our Teres Major Steak Special for $20.95. \n8oz Teres Major (shoulder tenderloin) cut of beef with chimichurri sauce (South American style sauce with chili flakes\, garlic\, parsley\, olive oil and vinegar). Served with pub fries and a small Shebeen salad. \n 
URL:https://theauldshebeenva.com/event/thursday-teres-major-steak-special/2031-04-24/
LOCATION:The Auld Shebeen\, 3971 Chain Bridge Road\, Fairfax\, VA\, 22030
CATEGORIES:Menu Specials,Special Events
ATTACH;FMTTYPE=image/jpeg:https://theauldshebeenva.com/wp-content/uploads/Teres-Major-1-1.jpg
END:VEVENT
END:VCALENDAR