BEGIN:VCALENDAR
VERSION:2.0
PRODID:-//The Auld Shebeen - ECPv6.15.20//NONSGML v1.0//EN
CALSCALE:GREGORIAN
METHOD:PUBLISH
X-ORIGINAL-URL:https://theauldshebeenva.com
X-WR-CALDESC:Events for The Auld Shebeen
REFRESH-INTERVAL;VALUE=DURATION:PT1H
X-Robots-Tag:noindex
X-PUBLISHED-TTL:PT1H
BEGIN:VTIMEZONE
TZID:America/New_York
BEGIN:DAYLIGHT
TZOFFSETFROM:-0500
TZOFFSETTO:-0400
TZNAME:EDT
DTSTART:20250309T070000
END:DAYLIGHT
BEGIN:STANDARD
TZOFFSETFROM:-0400
TZOFFSETTO:-0500
TZNAME:EST
DTSTART:20251102T060000
END:STANDARD
BEGIN:DAYLIGHT
TZOFFSETFROM:-0500
TZOFFSETTO:-0400
TZNAME:EDT
DTSTART:20260308T070000
END:DAYLIGHT
BEGIN:STANDARD
TZOFFSETFROM:-0400
TZOFFSETTO:-0500
TZNAME:EST
DTSTART:20261101T060000
END:STANDARD
BEGIN:DAYLIGHT
TZOFFSETFROM:-0500
TZOFFSETTO:-0400
TZNAME:EDT
DTSTART:20270314T070000
END:DAYLIGHT
BEGIN:STANDARD
TZOFFSETFROM:-0400
TZOFFSETTO:-0500
TZNAME:EST
DTSTART:20271107T060000
END:STANDARD
END:VTIMEZONE
BEGIN:VEVENT
DTSTART;TZID=America/New_York:20260418T190000
DTEND;TZID=America/New_York:20260418T213000
DTSTAMP:20260423T174504
CREATED:20260409T172831Z
LAST-MODIFIED:20260409T172831Z
UID:10002886-1776538800-1776547800@theauldshebeenva.com
SUMMARY:Tom McCuin
DESCRIPTION:Tom McCuin has been singing songs of love\, whiskey\, and rebellion – but not necessarily in that order – from Maine to Miami since 1993. Starting with the Florida-based acoustic trio James’s Gate\, and later as a co-founder of the acclaimed Boston Celtic rock outfit Hiring Fair\, he has shared the stage with some of the best modern Irish and Irish-American acts including The Wolfe Tones\, Cherish the Ladies\, The Prodigals\, and Black 47. \nWar and fatherhood – also not necessarily in that order – took him offstage for a time\, but encouraged by several gigs in Peggy’s backyard\, a few pandemic livestreams\, and some recent appearances pinch-hitting for the area’s more established Irish acts\, he’s in the midst of his musical comeback here in the National Capital Region.
URL:https://theauldshebeenva.com/event/tom-mccuin/2026-04-18/
LOCATION:The Auld Shebeen\, 3971 Chain Bridge Road\, Fairfax\, VA\, 22030
CATEGORIES:Live Music,Other Entertainment
ATTACH;FMTTYPE=image/jpeg:https://theauldshebeenva.com/wp-content/uploads/Tom-McCuin-Fri-Sat.jpeg
END:VEVENT
BEGIN:VEVENT
DTSTART;TZID=America/New_York:20260421T193000
DTEND;TZID=America/New_York:20260421T213000
DTSTAMP:20260423T174504
CREATED:20240726T161020Z
LAST-MODIFIED:20260225T194609Z
UID:10000771-1776799800-1776807000@theauldshebeenva.com
SUMMARY:Pub Quiz - Trivia Night and Chefs Taco Specials
DESCRIPTION:Enjoy our weekly pub Quiz hosted by Sporcle\, games at 7.30pm and 8.30pm\, win gift cards to the pub! Always a fun night with friends or family!
URL:https://theauldshebeenva.com/event/pub-quiz-trivia-night/2026-04-21/
CATEGORIES:Other Entertainment
ATTACH;FMTTYPE=image/png:https://theauldshebeenva.com/wp-content/uploads/Sporcle-1.png
END:VEVENT
BEGIN:VEVENT
DTSTART;TZID=America/New_York:20260422T160000
DTEND;TZID=America/New_York:20260422T220000
DTSTAMP:20260423T174504
CREATED:20250423T181043Z
LAST-MODIFIED:20250423T183539Z
UID:10002004-1776873600-1776895200@theauldshebeenva.com
SUMMARY:Pie and Pint Night $20.95
DESCRIPTION:Enjoy one of our Chicken Pot Pies\, Steak and Mushroom Ale Pie or Shepherd’s Pies and a pint of your choice for $20.95!
URL:https://theauldshebeenva.com/event/pie-and-pint-night/2026-04-22/
CATEGORIES:Menu Specials,Other Entertainment
ATTACH;FMTTYPE=image/jpeg:https://theauldshebeenva.com/wp-content/uploads/Pie-and-Pint.jpg
END:VEVENT
BEGIN:VEVENT
DTSTART;TZID=America/New_York:20260422T210000
DTEND;TZID=America/New_York:20260423T013000
DTSTAMP:20260423T174504
CREATED:20240726T161846Z
LAST-MODIFIED:20240726T162603Z
UID:10001293-1776891600-1776907800@theauldshebeenva.com
SUMMARY:EDM Night hosted by Transit (Cellar Event)
DESCRIPTION:TRANSIT – The longest running dance party in the DMV area. Hear the best of the underground with great DJs in our Cellar.
URL:https://theauldshebeenva.com/event/edm-night-hosted-by-transit-cellar-event/2026-04-22/
CATEGORIES:Other Entertainment
ATTACH;FMTTYPE=image/png:https://theauldshebeenva.com/wp-content/uploads/Transit-final-deluxe-high-res-for-sticker.png
END:VEVENT
BEGIN:VEVENT
DTSTART;TZID=America/New_York:20260424T190000
DTEND;TZID=America/New_York:20260424T213000
DTSTAMP:20260423T174504
CREATED:20180616T160922Z
LAST-MODIFIED:20251209T175356Z
UID:10002677-1777057200-1777066200@theauldshebeenva.com
SUMMARY:Pat Garvey
DESCRIPTION:Pat Garvey has been playing Irish folk music in the Washington D.C. area since 1978.  A native of Hungry Hill (“Home of the Irish”) in Springfield\, Massachusetts\, he moved to D.C. to join a folk group called “The Gaels”.  Pat began a solo career in 1984 appearing in clubs and festivals throughout the U.S. when in 1994 he signed on with “Brendan’s Voyage”\, a duo with keyboard artist Fergus Kennedy.  After a stint as the owner of Mrs. O’Leary’s Irish Pub in Gaithersburg\, Maryland\, Pat Garvey is back as a full time performer and you can catch him here at The Auld Shebeen most months on a Friday & Saturday evening. Stop in for a pint and be ready to sing along!
URL:https://theauldshebeenva.com/event/pat-garvey-3/2026-04-24/
CATEGORIES:Live Music,Other Entertainment
ATTACH;FMTTYPE=image/jpeg:https://theauldshebeenva.com/wp-content/uploads/Pat-Garvey-2025.jpeg
END:VEVENT
BEGIN:VEVENT
DTSTART;TZID=America/New_York:20260425T120000
DTEND;TZID=America/New_York:20260425T150000
DTSTAMP:20260423T174504
CREATED:20240726T163428Z
LAST-MODIFIED:20240726T163527Z
UID:10001555-1777118400-1777129200@theauldshebeenva.com
SUMMARY:Ceoltas Ceoltoiri Eireann Session Players
DESCRIPTION:Enjoy brunch or lunch while you listen to a traditional Irish session by local CCE members every Saturday from noon- 3pm.
URL:https://theauldshebeenva.com/event/ceoltas-ceoltoiri-eireann-session-players/2026-04-25/
CATEGORIES:Live Music,Other Entertainment
ATTACH;FMTTYPE=image/jpeg:https://theauldshebeenva.com/wp-content/uploads/003-scaled.jpg
END:VEVENT
BEGIN:VEVENT
DTSTART;TZID=America/New_York:20260425T190000
DTEND;TZID=America/New_York:20260425T213000
DTSTAMP:20260423T174504
CREATED:20180616T160922Z
LAST-MODIFIED:20251209T175356Z
UID:10002678-1777143600-1777152600@theauldshebeenva.com
SUMMARY:Pat Garvey
DESCRIPTION:Pat Garvey has been playing Irish folk music in the Washington D.C. area since 1978.  A native of Hungry Hill (“Home of the Irish”) in Springfield\, Massachusetts\, he moved to D.C. to join a folk group called “The Gaels”.  Pat began a solo career in 1984 appearing in clubs and festivals throughout the U.S. when in 1994 he signed on with “Brendan’s Voyage”\, a duo with keyboard artist Fergus Kennedy.  After a stint as the owner of Mrs. O’Leary’s Irish Pub in Gaithersburg\, Maryland\, Pat Garvey is back as a full time performer and you can catch him here at The Auld Shebeen most months on a Friday & Saturday evening. Stop in for a pint and be ready to sing along!
URL:https://theauldshebeenva.com/event/pat-garvey-3/2026-04-25/
CATEGORIES:Live Music,Other Entertainment
ATTACH;FMTTYPE=image/jpeg:https://theauldshebeenva.com/wp-content/uploads/Pat-Garvey-2025.jpeg
END:VEVENT
BEGIN:VEVENT
DTSTART;TZID=America/New_York:20260428T193000
DTEND;TZID=America/New_York:20260428T213000
DTSTAMP:20260423T174504
CREATED:20240726T161020Z
LAST-MODIFIED:20260225T194609Z
UID:10000772-1777404600-1777411800@theauldshebeenva.com
SUMMARY:Pub Quiz - Trivia Night and Chefs Taco Specials
DESCRIPTION:Enjoy our weekly pub Quiz hosted by Sporcle\, games at 7.30pm and 8.30pm\, win gift cards to the pub! Always a fun night with friends or family!
URL:https://theauldshebeenva.com/event/pub-quiz-trivia-night/2026-04-28/
CATEGORIES:Other Entertainment
ATTACH;FMTTYPE=image/png:https://theauldshebeenva.com/wp-content/uploads/Sporcle-1.png
END:VEVENT
BEGIN:VEVENT
DTSTART;TZID=America/New_York:20260429T160000
DTEND;TZID=America/New_York:20260429T220000
DTSTAMP:20260423T174504
CREATED:20250423T181043Z
LAST-MODIFIED:20250423T183539Z
UID:10002005-1777478400-1777500000@theauldshebeenva.com
SUMMARY:Pie and Pint Night $20.95
DESCRIPTION:Enjoy one of our Chicken Pot Pies\, Steak and Mushroom Ale Pie or Shepherd’s Pies and a pint of your choice for $20.95!
URL:https://theauldshebeenva.com/event/pie-and-pint-night/2026-04-29/
CATEGORIES:Menu Specials,Other Entertainment
ATTACH;FMTTYPE=image/jpeg:https://theauldshebeenva.com/wp-content/uploads/Pie-and-Pint.jpg
END:VEVENT
BEGIN:VEVENT
DTSTART;TZID=America/New_York:20260429T210000
DTEND;TZID=America/New_York:20260430T013000
DTSTAMP:20260423T174504
CREATED:20240726T161846Z
LAST-MODIFIED:20240726T162603Z
UID:10001294-1777496400-1777512600@theauldshebeenva.com
SUMMARY:EDM Night hosted by Transit (Cellar Event)
DESCRIPTION:TRANSIT – The longest running dance party in the DMV area. Hear the best of the underground with great DJs in our Cellar.
URL:https://theauldshebeenva.com/event/edm-night-hosted-by-transit-cellar-event/2026-04-29/
CATEGORIES:Other Entertainment
ATTACH;FMTTYPE=image/png:https://theauldshebeenva.com/wp-content/uploads/Transit-final-deluxe-high-res-for-sticker.png
END:VEVENT
BEGIN:VEVENT
DTSTART;TZID=America/New_York:20260501T190000
DTEND;TZID=America/New_York:20260501T213000
DTSTAMP:20260423T174504
CREATED:20180403T180923Z
LAST-MODIFIED:20251003T174330Z
UID:10002618-1777662000-1777671000@theauldshebeenva.com
SUMMARY:The Quietmen
DESCRIPTION:The Quietmen are a New Jersey/Pennsylvania based band that specializes in acoustic and celtic rock/folk music.We play acoustic rock and folk from the 50’s through today. We can do an all-rock/folk show\, all Celtic or some combination of the two. We love to do songs that people know and can sing. \nCome out and sing along with The Quietmen! \nWe’ve added new videos to our youtube account!! Check them out using the link below:\nhttp://www.youtube.com/user/quietmenmusic \nFollow the Quietmen at twitter.com/quietmen\nLike us on Facebook.
URL:https://theauldshebeenva.com/event/the-quietmen-2/2026-05-01/
LOCATION:The Auld Shebeen\, 3971 Chain Bridge Road\, Fairfax\, VA\, 22030
CATEGORIES:Live Music,Other Entertainment
ATTACH;FMTTYPE=image/png:https://theauldshebeenva.com/wp-content/uploads/AuldShebeen_TheQuietman_577x577.png
END:VEVENT
BEGIN:VEVENT
DTSTART;TZID=America/New_York:20260502T120000
DTEND;TZID=America/New_York:20260502T150000
DTSTAMP:20260423T174504
CREATED:20240726T163428Z
LAST-MODIFIED:20240726T163527Z
UID:10001556-1777723200-1777734000@theauldshebeenva.com
SUMMARY:Ceoltas Ceoltoiri Eireann Session Players
DESCRIPTION:Enjoy brunch or lunch while you listen to a traditional Irish session by local CCE members every Saturday from noon- 3pm.
URL:https://theauldshebeenva.com/event/ceoltas-ceoltoiri-eireann-session-players/2026-05-02/
CATEGORIES:Live Music,Other Entertainment
ATTACH;FMTTYPE=image/jpeg:https://theauldshebeenva.com/wp-content/uploads/003-scaled.jpg
END:VEVENT
BEGIN:VEVENT
DTSTART;TZID=America/New_York:20260502T190000
DTEND;TZID=America/New_York:20260502T213000
DTSTAMP:20260423T174504
CREATED:20180403T180923Z
LAST-MODIFIED:20251003T174330Z
UID:10002619-1777748400-1777757400@theauldshebeenva.com
SUMMARY:The Quietmen
DESCRIPTION:The Quietmen are a New Jersey/Pennsylvania based band that specializes in acoustic and celtic rock/folk music.We play acoustic rock and folk from the 50’s through today. We can do an all-rock/folk show\, all Celtic or some combination of the two. We love to do songs that people know and can sing. \nCome out and sing along with The Quietmen! \nWe’ve added new videos to our youtube account!! Check them out using the link below:\nhttp://www.youtube.com/user/quietmenmusic \nFollow the Quietmen at twitter.com/quietmen\nLike us on Facebook.
URL:https://theauldshebeenva.com/event/the-quietmen-2/2026-05-02/
LOCATION:The Auld Shebeen\, 3971 Chain Bridge Road\, Fairfax\, VA\, 22030
CATEGORIES:Live Music,Other Entertainment
ATTACH;FMTTYPE=image/png:https://theauldshebeenva.com/wp-content/uploads/AuldShebeen_TheQuietman_577x577.png
END:VEVENT
BEGIN:VEVENT
DTSTART;TZID=America/New_York:20260505T193000
DTEND;TZID=America/New_York:20260505T213000
DTSTAMP:20260423T174504
CREATED:20240726T161020Z
LAST-MODIFIED:20260225T194609Z
UID:10000773-1778009400-1778016600@theauldshebeenva.com
SUMMARY:Pub Quiz - Trivia Night and Chefs Taco Specials
DESCRIPTION:Enjoy our weekly pub Quiz hosted by Sporcle\, games at 7.30pm and 8.30pm\, win gift cards to the pub! Always a fun night with friends or family!
URL:https://theauldshebeenva.com/event/pub-quiz-trivia-night/2026-05-05/
CATEGORIES:Other Entertainment
ATTACH;FMTTYPE=image/png:https://theauldshebeenva.com/wp-content/uploads/Sporcle-1.png
END:VEVENT
BEGIN:VEVENT
DTSTART;TZID=America/New_York:20260506T160000
DTEND;TZID=America/New_York:20260506T220000
DTSTAMP:20260423T174504
CREATED:20250423T181043Z
LAST-MODIFIED:20250423T183539Z
UID:10002006-1778083200-1778104800@theauldshebeenva.com
SUMMARY:Pie and Pint Night $20.95
DESCRIPTION:Enjoy one of our Chicken Pot Pies\, Steak and Mushroom Ale Pie or Shepherd’s Pies and a pint of your choice for $20.95!
URL:https://theauldshebeenva.com/event/pie-and-pint-night/2026-05-06/
CATEGORIES:Menu Specials,Other Entertainment
ATTACH;FMTTYPE=image/jpeg:https://theauldshebeenva.com/wp-content/uploads/Pie-and-Pint.jpg
END:VEVENT
BEGIN:VEVENT
DTSTART;TZID=America/New_York:20260506T210000
DTEND;TZID=America/New_York:20260507T013000
DTSTAMP:20260423T174504
CREATED:20240726T161846Z
LAST-MODIFIED:20240726T162603Z
UID:10001295-1778101200-1778117400@theauldshebeenva.com
SUMMARY:EDM Night hosted by Transit (Cellar Event)
DESCRIPTION:TRANSIT – The longest running dance party in the DMV area. Hear the best of the underground with great DJs in our Cellar.
URL:https://theauldshebeenva.com/event/edm-night-hosted-by-transit-cellar-event/2026-05-06/
CATEGORIES:Other Entertainment
ATTACH;FMTTYPE=image/png:https://theauldshebeenva.com/wp-content/uploads/Transit-final-deluxe-high-res-for-sticker.png
END:VEVENT
BEGIN:VEVENT
DTSTART;TZID=America/New_York:20260508T190000
DTEND;TZID=America/New_York:20260508T213000
DTSTAMP:20260423T174504
CREATED:20240215T232133Z
LAST-MODIFIED:20260303T190950Z
UID:10002632-1778266800-1778275800@theauldshebeenva.com
SUMMARY:Brian Gaffney
DESCRIPTION:Brian Gaffney singer/songwriter was born in Tralee\, County Kerry.  Youngest of 4 kids\, Brian didn’t take long to pick up a love of music from his older brothers. \nBy age 13\, Brian was playing in pubs around Kerry with accordion player Kevin Cronin.  They formed a band in Christian Brothers School and won the all Ireland “Slogadh” in 1974. \nBrian played all kinds of music\, to include traditional Irish music and rock ‘n roll and found his nitch as a solo performer. \nDuring the late 70’s\, Brian was the resident Saturday night opener at Horan’s Hotel in Tralee where he stayed for 5 years.  Playing at Horan’s gave Brian an opportunity to play with renowned Irish groups such as The Furey’s\, Moving Hearts and the Dubliners\, just to name a few. \nBrian continued to play all over Ireland until 1985 when he immigrated to America.  Brian’s first port of call was Boston\, Mass. where he was immediately snatched up to fill in with the band “Dublin Sound” with Dessie Higgins and Sean Garvey.  In 1986\, Brian partnered up with Alan Loughnane and toured all over America with the group “Claddagh” for 3 1/2 years. \nBrian then joined Fergus Kennedy\, then Steve Morris in the Washington\, DC and Northern Virginia areas in the band “Brendan’s Voyage”.  They toured all over America as well and released 2 very successful albums “In Full Sail” and “Close to the Wind”. \nBrian pursued his passion by playing traditional music.  Brian teamed up with all star fiddle player\, Brendan Mulvihill with whom he performed every Wednesday night at Nanny O’Brien’s.  Brian has also had the opportunity to play with such traditional greats as: Finbar Furey\, Paddy Keenan\, Billy McComiskey\, James Kelly\, Andy Irvine\, Andy M. Stewart in concert and others during is weekly Monday night fireside seisun’s.  Past artists included:  Eileen Ivers\, Matt Molloy (Chieftains)\, Martin Hayes and many others. \nBrian is focused on his music career\, primarily as a solo artist\, but he still features on tours with Finbar Furey\, Brendan Mulvihill\, Patsy Whelan\, Brendan’s Voyage and anyone else who may cross his path!
URL:https://theauldshebeenva.com/event/brian-gaffney/2026-05-08/
CATEGORIES:Live Music,Other Entertainment
ATTACH;FMTTYPE=image/jpeg:https://theauldshebeenva.com/wp-content/uploads/Brian-Gaffney-2025.jpeg
END:VEVENT
BEGIN:VEVENT
DTSTART;TZID=America/New_York:20260509T120000
DTEND;TZID=America/New_York:20260509T150000
DTSTAMP:20260423T174504
CREATED:20240726T163428Z
LAST-MODIFIED:20240726T163527Z
UID:10001557-1778328000-1778338800@theauldshebeenva.com
SUMMARY:Ceoltas Ceoltoiri Eireann Session Players
DESCRIPTION:Enjoy brunch or lunch while you listen to a traditional Irish session by local CCE members every Saturday from noon- 3pm.
URL:https://theauldshebeenva.com/event/ceoltas-ceoltoiri-eireann-session-players/2026-05-09/
CATEGORIES:Live Music,Other Entertainment
ATTACH;FMTTYPE=image/jpeg:https://theauldshebeenva.com/wp-content/uploads/003-scaled.jpg
END:VEVENT
BEGIN:VEVENT
DTSTART;TZID=America/New_York:20260509T190000
DTEND;TZID=America/New_York:20260509T213000
DTSTAMP:20260423T174504
CREATED:20240215T232133Z
LAST-MODIFIED:20260303T190950Z
UID:10002633-1778353200-1778362200@theauldshebeenva.com
SUMMARY:Brian Gaffney
DESCRIPTION:Brian Gaffney singer/songwriter was born in Tralee\, County Kerry.  Youngest of 4 kids\, Brian didn’t take long to pick up a love of music from his older brothers. \nBy age 13\, Brian was playing in pubs around Kerry with accordion player Kevin Cronin.  They formed a band in Christian Brothers School and won the all Ireland “Slogadh” in 1974. \nBrian played all kinds of music\, to include traditional Irish music and rock ‘n roll and found his nitch as a solo performer. \nDuring the late 70’s\, Brian was the resident Saturday night opener at Horan’s Hotel in Tralee where he stayed for 5 years.  Playing at Horan’s gave Brian an opportunity to play with renowned Irish groups such as The Furey’s\, Moving Hearts and the Dubliners\, just to name a few. \nBrian continued to play all over Ireland until 1985 when he immigrated to America.  Brian’s first port of call was Boston\, Mass. where he was immediately snatched up to fill in with the band “Dublin Sound” with Dessie Higgins and Sean Garvey.  In 1986\, Brian partnered up with Alan Loughnane and toured all over America with the group “Claddagh” for 3 1/2 years. \nBrian then joined Fergus Kennedy\, then Steve Morris in the Washington\, DC and Northern Virginia areas in the band “Brendan’s Voyage”.  They toured all over America as well and released 2 very successful albums “In Full Sail” and “Close to the Wind”. \nBrian pursued his passion by playing traditional music.  Brian teamed up with all star fiddle player\, Brendan Mulvihill with whom he performed every Wednesday night at Nanny O’Brien’s.  Brian has also had the opportunity to play with such traditional greats as: Finbar Furey\, Paddy Keenan\, Billy McComiskey\, James Kelly\, Andy Irvine\, Andy M. Stewart in concert and others during is weekly Monday night fireside seisun’s.  Past artists included:  Eileen Ivers\, Matt Molloy (Chieftains)\, Martin Hayes and many others. \nBrian is focused on his music career\, primarily as a solo artist\, but he still features on tours with Finbar Furey\, Brendan Mulvihill\, Patsy Whelan\, Brendan’s Voyage and anyone else who may cross his path!
URL:https://theauldshebeenva.com/event/brian-gaffney/2026-05-09/
CATEGORIES:Live Music,Other Entertainment
ATTACH;FMTTYPE=image/jpeg:https://theauldshebeenva.com/wp-content/uploads/Brian-Gaffney-2025.jpeg
END:VEVENT
BEGIN:VEVENT
DTSTART;TZID=America/New_York:20260512T193000
DTEND;TZID=America/New_York:20260512T213000
DTSTAMP:20260423T174504
CREATED:20240726T161020Z
LAST-MODIFIED:20260225T194609Z
UID:10000774-1778614200-1778621400@theauldshebeenva.com
SUMMARY:Pub Quiz - Trivia Night and Chefs Taco Specials
DESCRIPTION:Enjoy our weekly pub Quiz hosted by Sporcle\, games at 7.30pm and 8.30pm\, win gift cards to the pub! Always a fun night with friends or family!
URL:https://theauldshebeenva.com/event/pub-quiz-trivia-night/2026-05-12/
CATEGORIES:Other Entertainment
ATTACH;FMTTYPE=image/png:https://theauldshebeenva.com/wp-content/uploads/Sporcle-1.png
END:VEVENT
BEGIN:VEVENT
DTSTART;TZID=America/New_York:20260513T160000
DTEND;TZID=America/New_York:20260513T220000
DTSTAMP:20260423T174504
CREATED:20250423T181043Z
LAST-MODIFIED:20250423T183539Z
UID:10002007-1778688000-1778709600@theauldshebeenva.com
SUMMARY:Pie and Pint Night $20.95
DESCRIPTION:Enjoy one of our Chicken Pot Pies\, Steak and Mushroom Ale Pie or Shepherd’s Pies and a pint of your choice for $20.95!
URL:https://theauldshebeenva.com/event/pie-and-pint-night/2026-05-13/
CATEGORIES:Menu Specials,Other Entertainment
ATTACH;FMTTYPE=image/jpeg:https://theauldshebeenva.com/wp-content/uploads/Pie-and-Pint.jpg
END:VEVENT
BEGIN:VEVENT
DTSTART;TZID=America/New_York:20260513T210000
DTEND;TZID=America/New_York:20260514T013000
DTSTAMP:20260423T174504
CREATED:20240726T161846Z
LAST-MODIFIED:20240726T162603Z
UID:10001296-1778706000-1778722200@theauldshebeenva.com
SUMMARY:EDM Night hosted by Transit (Cellar Event)
DESCRIPTION:TRANSIT – The longest running dance party in the DMV area. Hear the best of the underground with great DJs in our Cellar.
URL:https://theauldshebeenva.com/event/edm-night-hosted-by-transit-cellar-event/2026-05-13/
CATEGORIES:Other Entertainment
ATTACH;FMTTYPE=image/png:https://theauldshebeenva.com/wp-content/uploads/Transit-final-deluxe-high-res-for-sticker.png
END:VEVENT
BEGIN:VEVENT
DTSTART;TZID=America/New_York:20260515T190000
DTEND;TZID=America/New_York:20260515T213000
DTSTAMP:20260423T174504
CREATED:20240210T170432Z
LAST-MODIFIED:20251003T182122Z
UID:10002651-1778871600-1778880600@theauldshebeenva.com
SUMMARY:Brendan's Voyage
DESCRIPTION:Fergus and Stevie of Brendan’s Voyage join us for an evening of some of the best traditional Irish music\, a show not to be missed!
URL:https://theauldshebeenva.com/event/brendans-voyage/2026-05-15/
LOCATION:The Auld Shebeen\, 3971 Chain Bridge Road\, Fairfax\, VA\, 22030
CATEGORIES:Live Music,Other Entertainment
ATTACH;FMTTYPE=image/jpeg:https://theauldshebeenva.com/wp-content/uploads/Brendans-Voyage-2025.jpeg
END:VEVENT
BEGIN:VEVENT
DTSTART;TZID=America/New_York:20260516T120000
DTEND;TZID=America/New_York:20260516T150000
DTSTAMP:20260423T174504
CREATED:20240726T163428Z
LAST-MODIFIED:20240726T163527Z
UID:10001558-1778932800-1778943600@theauldshebeenva.com
SUMMARY:Ceoltas Ceoltoiri Eireann Session Players
DESCRIPTION:Enjoy brunch or lunch while you listen to a traditional Irish session by local CCE members every Saturday from noon- 3pm.
URL:https://theauldshebeenva.com/event/ceoltas-ceoltoiri-eireann-session-players/2026-05-16/
CATEGORIES:Live Music,Other Entertainment
ATTACH;FMTTYPE=image/jpeg:https://theauldshebeenva.com/wp-content/uploads/003-scaled.jpg
END:VEVENT
BEGIN:VEVENT
DTSTART;TZID=America/New_York:20260516T190000
DTEND;TZID=America/New_York:20260516T213000
DTSTAMP:20260423T174504
CREATED:20240210T170432Z
LAST-MODIFIED:20251003T182122Z
UID:10002652-1778958000-1778967000@theauldshebeenva.com
SUMMARY:Brendan's Voyage
DESCRIPTION:Fergus and Stevie of Brendan’s Voyage join us for an evening of some of the best traditional Irish music\, a show not to be missed!
URL:https://theauldshebeenva.com/event/brendans-voyage/2026-05-16/
LOCATION:The Auld Shebeen\, 3971 Chain Bridge Road\, Fairfax\, VA\, 22030
CATEGORIES:Live Music,Other Entertainment
ATTACH;FMTTYPE=image/jpeg:https://theauldshebeenva.com/wp-content/uploads/Brendans-Voyage-2025.jpeg
END:VEVENT
BEGIN:VEVENT
DTSTART;TZID=America/New_York:20260519T193000
DTEND;TZID=America/New_York:20260519T213000
DTSTAMP:20260423T174504
CREATED:20240726T161020Z
LAST-MODIFIED:20260225T194609Z
UID:10000775-1779219000-1779226200@theauldshebeenva.com
SUMMARY:Pub Quiz - Trivia Night and Chefs Taco Specials
DESCRIPTION:Enjoy our weekly pub Quiz hosted by Sporcle\, games at 7.30pm and 8.30pm\, win gift cards to the pub! Always a fun night with friends or family!
URL:https://theauldshebeenva.com/event/pub-quiz-trivia-night/2026-05-19/
CATEGORIES:Other Entertainment
ATTACH;FMTTYPE=image/png:https://theauldshebeenva.com/wp-content/uploads/Sporcle-1.png
END:VEVENT
BEGIN:VEVENT
DTSTART;TZID=America/New_York:20260520T160000
DTEND;TZID=America/New_York:20260520T220000
DTSTAMP:20260423T174504
CREATED:20250423T181043Z
LAST-MODIFIED:20250423T183539Z
UID:10002008-1779292800-1779314400@theauldshebeenva.com
SUMMARY:Pie and Pint Night $20.95
DESCRIPTION:Enjoy one of our Chicken Pot Pies\, Steak and Mushroom Ale Pie or Shepherd’s Pies and a pint of your choice for $20.95!
URL:https://theauldshebeenva.com/event/pie-and-pint-night/2026-05-20/
CATEGORIES:Menu Specials,Other Entertainment
ATTACH;FMTTYPE=image/jpeg:https://theauldshebeenva.com/wp-content/uploads/Pie-and-Pint.jpg
END:VEVENT
BEGIN:VEVENT
DTSTART;TZID=America/New_York:20260520T210000
DTEND;TZID=America/New_York:20260521T013000
DTSTAMP:20260423T174504
CREATED:20240726T161846Z
LAST-MODIFIED:20240726T162603Z
UID:10001297-1779310800-1779327000@theauldshebeenva.com
SUMMARY:EDM Night hosted by Transit (Cellar Event)
DESCRIPTION:TRANSIT – The longest running dance party in the DMV area. Hear the best of the underground with great DJs in our Cellar.
URL:https://theauldshebeenva.com/event/edm-night-hosted-by-transit-cellar-event/2026-05-20/
CATEGORIES:Other Entertainment
ATTACH;FMTTYPE=image/png:https://theauldshebeenva.com/wp-content/uploads/Transit-final-deluxe-high-res-for-sticker.png
END:VEVENT
BEGIN:VEVENT
DTSTART;TZID=America/New_York:20260522T190000
DTEND;TZID=America/New_York:20260522T213000
DTSTAMP:20260423T174504
CREATED:20251003T185713Z
LAST-MODIFIED:20260323T201719Z
UID:10002665-1779476400-1779485400@theauldshebeenva.com
SUMMARY:Steve Morris
DESCRIPTION:From Strabane Co Tyrone in Ireland Steve thanks to his father\, started playing the violin when he was seven years old. Local bars embraced Steve’s expanded repertoire of vocals and guitar playing\, he was just eleven! Word spread further and he appeared a year later on the Tommy James show (UTV).\nThe Bluebirds\, a nationally known show band engaged Steve to play with them – his first professional gig- at the tender age of sixteen. They recorded successful albums and toured Ireland\, England Scotland\, and the US. Playing support gigs in the US\, Tulsa (Oakridge Boy’s\, Roy Clarke\, Charlie Rich\nDon Williams). Shortly after this\, he was reunited in this line up on a Merle Haggard Show\nafter winning a national competition. It was at the televised Wembley Country Music Festival in London where he shared the stage with Johnny Cash\, George Jones\, Dolly Parton\, and Don Williams to name but a few! The show reached audiences in Europe\, Canada\, and the US. Audiences and musicians alike\, in Scotland England and Ireland kept Steve busy through the late seventies with gigs\, studio sessions and TV appearances.\nSteve toured and preformed with the comic Billy Connolly on his acclaimed national tour\nof Ireland (Dublin\, Derry\, Belfast). 1981 Armagh (not the place!) a loved Canadian\nshowband\, courted Steve and as the new immigrant member\, they played for 4 years to packed houses in local hotels and venues nationally.\nSettling in Vancouver\, he was a resident musician at a number of venues (The Blarney Stone Spinning Wheel Funky Winker Beans) while popping up on occasion on Canadian television/radio and at local music festivals (Expo 86 with the Irish Rovers).
URL:https://theauldshebeenva.com/event/steve-morris/2026-05-22/
LOCATION:The Auld Shebeen\, 3971 Chain Bridge Road\, Fairfax\, VA\, 22030
CATEGORIES:Live Music,Other Entertainment
ATTACH;FMTTYPE=image/jpeg:https://theauldshebeenva.com/wp-content/uploads/Steve-Morris-2025.jpeg
END:VEVENT
BEGIN:VEVENT
DTSTART;TZID=America/New_York:20260523T120000
DTEND;TZID=America/New_York:20260523T150000
DTSTAMP:20260423T174504
CREATED:20240726T163428Z
LAST-MODIFIED:20240726T163527Z
UID:10001559-1779537600-1779548400@theauldshebeenva.com
SUMMARY:Ceoltas Ceoltoiri Eireann Session Players
DESCRIPTION:Enjoy brunch or lunch while you listen to a traditional Irish session by local CCE members every Saturday from noon- 3pm.
URL:https://theauldshebeenva.com/event/ceoltas-ceoltoiri-eireann-session-players/2026-05-23/
CATEGORIES:Live Music,Other Entertainment
ATTACH;FMTTYPE=image/jpeg:https://theauldshebeenva.com/wp-content/uploads/003-scaled.jpg
END:VEVENT
END:VCALENDAR