BEGIN:VCALENDAR
VERSION:2.0
PRODID:-//The Auld Shebeen - ECPv6.15.20//NONSGML v1.0//EN
CALSCALE:GREGORIAN
METHOD:PUBLISH
X-ORIGINAL-URL:https://theauldshebeenva.com
X-WR-CALDESC:Events for The Auld Shebeen
REFRESH-INTERVAL;VALUE=DURATION:PT1H
X-Robots-Tag:noindex
X-PUBLISHED-TTL:PT1H
BEGIN:VTIMEZONE
TZID:America/New_York
BEGIN:DAYLIGHT
TZOFFSETFROM:-0500
TZOFFSETTO:-0400
TZNAME:EDT
DTSTART:20250309T070000
END:DAYLIGHT
BEGIN:STANDARD
TZOFFSETFROM:-0400
TZOFFSETTO:-0500
TZNAME:EST
DTSTART:20251102T060000
END:STANDARD
BEGIN:DAYLIGHT
TZOFFSETFROM:-0500
TZOFFSETTO:-0400
TZNAME:EDT
DTSTART:20260308T070000
END:DAYLIGHT
BEGIN:STANDARD
TZOFFSETFROM:-0400
TZOFFSETTO:-0500
TZNAME:EST
DTSTART:20261101T060000
END:STANDARD
BEGIN:DAYLIGHT
TZOFFSETFROM:-0500
TZOFFSETTO:-0400
TZNAME:EDT
DTSTART:20270314T070000
END:DAYLIGHT
BEGIN:STANDARD
TZOFFSETFROM:-0400
TZOFFSETTO:-0500
TZNAME:EST
DTSTART:20271107T060000
END:STANDARD
END:VTIMEZONE
BEGIN:VEVENT
DTSTART;TZID=America/New_York:20260213T190000
DTEND;TZID=America/New_York:20260213T213000
DTSTAMP:20260423T172056
CREATED:20240215T232133Z
LAST-MODIFIED:20260303T190950Z
UID:10002628-1771009200-1771018200@theauldshebeenva.com
SUMMARY:Brian Gaffney
DESCRIPTION:Brian Gaffney singer/songwriter was born in Tralee\, County Kerry.  Youngest of 4 kids\, Brian didn’t take long to pick up a love of music from his older brothers. \nBy age 13\, Brian was playing in pubs around Kerry with accordion player Kevin Cronin.  They formed a band in Christian Brothers School and won the all Ireland “Slogadh” in 1974. \nBrian played all kinds of music\, to include traditional Irish music and rock ‘n roll and found his nitch as a solo performer. \nDuring the late 70’s\, Brian was the resident Saturday night opener at Horan’s Hotel in Tralee where he stayed for 5 years.  Playing at Horan’s gave Brian an opportunity to play with renowned Irish groups such as The Furey’s\, Moving Hearts and the Dubliners\, just to name a few. \nBrian continued to play all over Ireland until 1985 when he immigrated to America.  Brian’s first port of call was Boston\, Mass. where he was immediately snatched up to fill in with the band “Dublin Sound” with Dessie Higgins and Sean Garvey.  In 1986\, Brian partnered up with Alan Loughnane and toured all over America with the group “Claddagh” for 3 1/2 years. \nBrian then joined Fergus Kennedy\, then Steve Morris in the Washington\, DC and Northern Virginia areas in the band “Brendan’s Voyage”.  They toured all over America as well and released 2 very successful albums “In Full Sail” and “Close to the Wind”. \nBrian pursued his passion by playing traditional music.  Brian teamed up with all star fiddle player\, Brendan Mulvihill with whom he performed every Wednesday night at Nanny O’Brien’s.  Brian has also had the opportunity to play with such traditional greats as: Finbar Furey\, Paddy Keenan\, Billy McComiskey\, James Kelly\, Andy Irvine\, Andy M. Stewart in concert and others during is weekly Monday night fireside seisun’s.  Past artists included:  Eileen Ivers\, Matt Molloy (Chieftains)\, Martin Hayes and many others. \nBrian is focused on his music career\, primarily as a solo artist\, but he still features on tours with Finbar Furey\, Brendan Mulvihill\, Patsy Whelan\, Brendan’s Voyage and anyone else who may cross his path!
URL:https://theauldshebeenva.com/event/brian-gaffney/2026-02-13/
LOCATION:VA
CATEGORIES:Live Music,Other Entertainment
ATTACH;FMTTYPE=image/jpeg:https://theauldshebeenva.com/wp-content/uploads/Brian-Gaffney-2025.jpeg
END:VEVENT
END:VCALENDAR