BEGIN:VCALENDAR
VERSION:2.0
PRODID:-//The Auld Shebeen - ECPv6.15.20//NONSGML v1.0//EN
CALSCALE:GREGORIAN
METHOD:PUBLISH
X-ORIGINAL-URL:https://theauldshebeenva.com
X-WR-CALDESC:Events for The Auld Shebeen
REFRESH-INTERVAL;VALUE=DURATION:PT1H
X-Robots-Tag:noindex
X-PUBLISHED-TTL:PT1H
BEGIN:VTIMEZONE
TZID:America/New_York
BEGIN:DAYLIGHT
TZOFFSETFROM:-0500
TZOFFSETTO:-0400
TZNAME:EDT
DTSTART:20240310T070000
END:DAYLIGHT
BEGIN:STANDARD
TZOFFSETFROM:-0400
TZOFFSETTO:-0500
TZNAME:EST
DTSTART:20241103T060000
END:STANDARD
BEGIN:DAYLIGHT
TZOFFSETFROM:-0500
TZOFFSETTO:-0400
TZNAME:EDT
DTSTART:20250309T070000
END:DAYLIGHT
BEGIN:STANDARD
TZOFFSETFROM:-0400
TZOFFSETTO:-0500
TZNAME:EST
DTSTART:20251102T060000
END:STANDARD
BEGIN:DAYLIGHT
TZOFFSETFROM:-0500
TZOFFSETTO:-0400
TZNAME:EDT
DTSTART:20260308T070000
END:DAYLIGHT
BEGIN:STANDARD
TZOFFSETFROM:-0400
TZOFFSETTO:-0500
TZNAME:EST
DTSTART:20261101T060000
END:STANDARD
END:VTIMEZONE
BEGIN:VEVENT
DTSTART;TZID=America/New_York:20251122T120000
DTEND;TZID=America/New_York:20251122T150000
DTSTAMP:20260423T223948
CREATED:20240726T163428Z
LAST-MODIFIED:20240726T163527Z
UID:10001533-1763812800-1763823600@theauldshebeenva.com
SUMMARY:Ceoltas Ceoltoiri Eireann Session Players
DESCRIPTION:Enjoy brunch or lunch while you listen to a traditional Irish session by local CCE members every Saturday from noon- 3pm.
URL:https://theauldshebeenva.com/event/ceoltas-ceoltoiri-eireann-session-players/2025-11-22/
LOCATION:VA
CATEGORIES:Live Music,Other Entertainment
ATTACH;FMTTYPE=image/jpeg:https://theauldshebeenva.com/wp-content/uploads/003-scaled.jpg
END:VEVENT
BEGIN:VEVENT
DTSTART;TZID=America/New_York:20251122T190000
DTEND;TZID=America/New_York:20251122T213000
DTSTAMP:20260423T223948
CREATED:20240215T232441Z
LAST-MODIFIED:20250423T175523Z
UID:10001951-1763838000-1763847000@theauldshebeenva.com
SUMMARY:Conor Malone
DESCRIPTION:Conor was born in Ennis\, County Clare\, Ireland.  He’s second to the oldest in a family of 5 kids (2 girls and 3 boys).  His first introduction into music came at the early age of 5 in his grandfather’s pub\, “Jack Conolly’s” in Ennis.  His grandfather used to give him a shot of black currant and Guinness then put him on the counter to sing “Spancil Hill” and “Sullivan John”.  His reward for a great performance was always Tayto’s and chocolate! \nConor began playing the tin whistle at age 7 with the school band.  At age 10\, his father taught him how to play guitar and he started playing seisuins and feis’s locally in Clare until he was 16.  He also played in the Gael Teach summer camps for Irish Culture and language. \nFrom the age of 13 to 18\, Conor formed and starred in a local band called “The Blessed” with 4 school friends of the same age.  Then he moved on and formed a new band called “The Makings” with 3 of the original school friends.  “The Makings” moved to Dublin and played all over Ireland in pubs\, concerts and festivals to include touring in Liverpool\, Manchester\, London and France for the next 3 years. \nFollowing his successful tour with “The Makings”\, Conor met Dave Fanning (independent new music DJ for RTE 2 Ireland\, credited for putting U2 on the map) and appeared many times on Irish TV with his band. As luck would have it in 1990\, the director Alan Parker saw Conor by chance as asked Conor to make a cameo appearance in the movie “The Commitments”.  Parker even wrote a song for Conor to sing in the movie called “The Protest Song”.   Check out Conor’s performance in the movie! \nIn 1991 while busking in downtown Ennis\, Conor was playing some Neil Young and Bob Dylan songs when a passerby stopped and started singing the songs along with Conor\, knowing all of the lyrics.  The bearded middle aged\, heavy set man claimed to be personal friends with Young and Dylan and left Conor a $100 tip in his guitar case.  Making an impression on Conor\, he thought he would never forget his face and later that year\, while looking at an American friend’s album collection\, Conor saw this generous tipper’s picture.  It was non other than Jerry Garcia from the “Grateful Dead”! \nConor moved to the United States in 1992 where his son Lua was born and performed in the Washington\, DC area for a year.   He then moved back to Ireland and performed with various artists in Ireland and France. \nIn 1994\, Conor moved back to the US again and settled in Washington\, DC where he currently plays locally in the Washington metro area and along the east coast in Irish pubs and festivals.  Conor’s son Lua who lives in Maryland\, also plays music\, following along in his Dad’s footsteps. \nConor also jams with the popular DC classic rock and Irish music band “Smoke and Mirrors” with fellow artists Justin Jordan\, Jimmy Carr\, and John Thiel. \nIn late 2006\, to his fan’s long awaited requests\, Conor recorded his first solo album called “Conor Malone” with artists Justin Jordan\, Steve Holley\, Jimmy Carr\, John Thiel and Steve Morris.  Conor writes alot of his own songs\, one of which “Sacred” is recorded on his new album.  He is also working on another album to be released within the next year. \nSo\, if you’re in the Washington DC metro area\, check out one of Conor’s performances for an unforgettable evening of great music.  Check back often for new tour dates and some planned tour surprises.
URL:https://theauldshebeenva.com/event/conor-malone/2025-11-22/
LOCATION:VA
CATEGORIES:Live Music,Other Entertainment
ATTACH;FMTTYPE=image/jpeg:https://theauldshebeenva.com/wp-content/uploads/Conor-malone.jpg
END:VEVENT
END:VCALENDAR