BEGIN:VCALENDAR
VERSION:2.0
PRODID:-//The Auld Shebeen - ECPv6.15.20//NONSGML v1.0//EN
CALSCALE:GREGORIAN
METHOD:PUBLISH
X-WR-CALNAME:The Auld Shebeen
X-ORIGINAL-URL:https://theauldshebeenva.com
X-WR-CALDESC:Events for The Auld Shebeen
REFRESH-INTERVAL;VALUE=DURATION:PT1H
X-Robots-Tag:noindex
X-PUBLISHED-TTL:PT1H
BEGIN:VTIMEZONE
TZID:America/New_York
BEGIN:DAYLIGHT
TZOFFSETFROM:-0500
TZOFFSETTO:-0400
TZNAME:EDT
DTSTART:20270314T070000
END:DAYLIGHT
BEGIN:STANDARD
TZOFFSETFROM:-0400
TZOFFSETTO:-0500
TZNAME:EST
DTSTART:20271107T060000
END:STANDARD
BEGIN:DAYLIGHT
TZOFFSETFROM:-0500
TZOFFSETTO:-0400
TZNAME:EDT
DTSTART:20280312T070000
END:DAYLIGHT
BEGIN:STANDARD
TZOFFSETFROM:-0400
TZOFFSETTO:-0500
TZNAME:EST
DTSTART:20281105T060000
END:STANDARD
BEGIN:DAYLIGHT
TZOFFSETFROM:-0500
TZOFFSETTO:-0400
TZNAME:EDT
DTSTART:20290311T070000
END:DAYLIGHT
BEGIN:STANDARD
TZOFFSETFROM:-0400
TZOFFSETTO:-0500
TZNAME:EST
DTSTART:20291104T060000
END:STANDARD
END:VTIMEZONE
BEGIN:VEVENT
DTSTART;TZID=America/New_York:20280101T120000
DTEND;TZID=America/New_York:20280101T150000
DTSTAMP:20260425T113541
CREATED:20240726T163428Z
LAST-MODIFIED:20240726T163527Z
UID:10001643-1830340800-1830351600@theauldshebeenva.com
SUMMARY:Ceoltas Ceoltoiri Eireann Session Players
DESCRIPTION:Enjoy brunch or lunch while you listen to a traditional Irish session by local CCE members every Saturday from noon- 3pm.
URL:https://theauldshebeenva.com/event/ceoltas-ceoltoiri-eireann-session-players/2028-01-01/
LOCATION:VA
CATEGORIES:Live Music,Other Entertainment
ATTACH;FMTTYPE=image/jpeg:https://theauldshebeenva.com/wp-content/uploads/003-scaled.jpg
END:VEVENT
BEGIN:VEVENT
DTSTART;TZID=America/New_York:20280104T193000
DTEND;TZID=America/New_York:20280104T213000
DTSTAMP:20260425T113541
CREATED:20240726T161020Z
LAST-MODIFIED:20260225T194609Z
UID:10000860-1830627000-1830634200@theauldshebeenva.com
SUMMARY:Pub Quiz - Trivia Night and Chefs Taco Specials
DESCRIPTION:Enjoy our weekly pub Quiz hosted by Sporcle\, games at 7.30pm and 8.30pm\, win gift cards to the pub! Always a fun night with friends or family!
URL:https://theauldshebeenva.com/event/pub-quiz-trivia-night/2028-01-04/
LOCATION:VA
CATEGORIES:Other Entertainment
ATTACH;FMTTYPE=image/png:https://theauldshebeenva.com/wp-content/uploads/Sporcle-1.png
END:VEVENT
BEGIN:VEVENT
DTSTART;TZID=America/New_York:20280105T160000
DTEND;TZID=America/New_York:20280105T220000
DTSTAMP:20260425T113541
CREATED:20250423T181043Z
LAST-MODIFIED:20250423T183539Z
UID:10002093-1830700800-1830722400@theauldshebeenva.com
SUMMARY:Pie and Pint Night $20.95
DESCRIPTION:Enjoy one of our Chicken Pot Pies\, Steak and Mushroom Ale Pie or Shepherd’s Pies and a pint of your choice for $20.95!
URL:https://theauldshebeenva.com/event/pie-and-pint-night/2028-01-05/
LOCATION:VA
CATEGORIES:Menu Specials,Other Entertainment
ATTACH;FMTTYPE=image/jpeg:https://theauldshebeenva.com/wp-content/uploads/Pie-and-Pint.jpg
END:VEVENT
BEGIN:VEVENT
DTSTART;TZID=America/New_York:20280105T210000
DTEND;TZID=America/New_York:20280106T013000
DTSTAMP:20260425T113541
CREATED:20240726T161846Z
LAST-MODIFIED:20240726T162603Z
UID:10001382-1830718800-1830735000@theauldshebeenva.com
SUMMARY:EDM Night hosted by Transit (Cellar Event)
DESCRIPTION:TRANSIT – The longest running dance party in the DMV area. Hear the best of the underground with great DJs in our Cellar.
URL:https://theauldshebeenva.com/event/edm-night-hosted-by-transit-cellar-event/2028-01-05/
LOCATION:VA
CATEGORIES:Other Entertainment
ATTACH;FMTTYPE=image/png:https://theauldshebeenva.com/wp-content/uploads/Transit-final-deluxe-high-res-for-sticker.png
END:VEVENT
BEGIN:VEVENT
DTSTART;TZID=America/New_York:20280108T120000
DTEND;TZID=America/New_York:20280108T150000
DTSTAMP:20260425T113541
CREATED:20240726T163428Z
LAST-MODIFIED:20240726T163527Z
UID:10001644-1830945600-1830956400@theauldshebeenva.com
SUMMARY:Ceoltas Ceoltoiri Eireann Session Players
DESCRIPTION:Enjoy brunch or lunch while you listen to a traditional Irish session by local CCE members every Saturday from noon- 3pm.
URL:https://theauldshebeenva.com/event/ceoltas-ceoltoiri-eireann-session-players/2028-01-08/
LOCATION:VA
CATEGORIES:Live Music,Other Entertainment
ATTACH;FMTTYPE=image/jpeg:https://theauldshebeenva.com/wp-content/uploads/003-scaled.jpg
END:VEVENT
BEGIN:VEVENT
DTSTART;TZID=America/New_York:20280111T193000
DTEND;TZID=America/New_York:20280111T213000
DTSTAMP:20260425T113541
CREATED:20240726T161020Z
LAST-MODIFIED:20260225T194609Z
UID:10000861-1831231800-1831239000@theauldshebeenva.com
SUMMARY:Pub Quiz - Trivia Night and Chefs Taco Specials
DESCRIPTION:Enjoy our weekly pub Quiz hosted by Sporcle\, games at 7.30pm and 8.30pm\, win gift cards to the pub! Always a fun night with friends or family!
URL:https://theauldshebeenva.com/event/pub-quiz-trivia-night/2028-01-11/
LOCATION:VA
CATEGORIES:Other Entertainment
ATTACH;FMTTYPE=image/png:https://theauldshebeenva.com/wp-content/uploads/Sporcle-1.png
END:VEVENT
BEGIN:VEVENT
DTSTART;TZID=America/New_York:20280112T160000
DTEND;TZID=America/New_York:20280112T220000
DTSTAMP:20260425T113541
CREATED:20250423T181043Z
LAST-MODIFIED:20250423T183539Z
UID:10002094-1831305600-1831327200@theauldshebeenva.com
SUMMARY:Pie and Pint Night $20.95
DESCRIPTION:Enjoy one of our Chicken Pot Pies\, Steak and Mushroom Ale Pie or Shepherd’s Pies and a pint of your choice for $20.95!
URL:https://theauldshebeenva.com/event/pie-and-pint-night/2028-01-12/
LOCATION:VA
CATEGORIES:Menu Specials,Other Entertainment
ATTACH;FMTTYPE=image/jpeg:https://theauldshebeenva.com/wp-content/uploads/Pie-and-Pint.jpg
END:VEVENT
BEGIN:VEVENT
DTSTART;TZID=America/New_York:20280112T210000
DTEND;TZID=America/New_York:20280113T013000
DTSTAMP:20260425T113541
CREATED:20240726T161846Z
LAST-MODIFIED:20240726T162603Z
UID:10001383-1831323600-1831339800@theauldshebeenva.com
SUMMARY:EDM Night hosted by Transit (Cellar Event)
DESCRIPTION:TRANSIT – The longest running dance party in the DMV area. Hear the best of the underground with great DJs in our Cellar.
URL:https://theauldshebeenva.com/event/edm-night-hosted-by-transit-cellar-event/2028-01-12/
LOCATION:VA
CATEGORIES:Other Entertainment
ATTACH;FMTTYPE=image/png:https://theauldshebeenva.com/wp-content/uploads/Transit-final-deluxe-high-res-for-sticker.png
END:VEVENT
BEGIN:VEVENT
DTSTART;TZID=America/New_York:20280115T120000
DTEND;TZID=America/New_York:20280115T150000
DTSTAMP:20260425T113541
CREATED:20240726T163428Z
LAST-MODIFIED:20240726T163527Z
UID:10001645-1831550400-1831561200@theauldshebeenva.com
SUMMARY:Ceoltas Ceoltoiri Eireann Session Players
DESCRIPTION:Enjoy brunch or lunch while you listen to a traditional Irish session by local CCE members every Saturday from noon- 3pm.
URL:https://theauldshebeenva.com/event/ceoltas-ceoltoiri-eireann-session-players/2028-01-15/
LOCATION:VA
CATEGORIES:Live Music,Other Entertainment
ATTACH;FMTTYPE=image/jpeg:https://theauldshebeenva.com/wp-content/uploads/003-scaled.jpg
END:VEVENT
BEGIN:VEVENT
DTSTART;TZID=America/New_York:20280118T193000
DTEND;TZID=America/New_York:20280118T213000
DTSTAMP:20260425T113541
CREATED:20240726T161020Z
LAST-MODIFIED:20260225T194609Z
UID:10000862-1831836600-1831843800@theauldshebeenva.com
SUMMARY:Pub Quiz - Trivia Night and Chefs Taco Specials
DESCRIPTION:Enjoy our weekly pub Quiz hosted by Sporcle\, games at 7.30pm and 8.30pm\, win gift cards to the pub! Always a fun night with friends or family!
URL:https://theauldshebeenva.com/event/pub-quiz-trivia-night/2028-01-18/
LOCATION:VA
CATEGORIES:Other Entertainment
ATTACH;FMTTYPE=image/png:https://theauldshebeenva.com/wp-content/uploads/Sporcle-1.png
END:VEVENT
BEGIN:VEVENT
DTSTART;TZID=America/New_York:20280119T160000
DTEND;TZID=America/New_York:20280119T220000
DTSTAMP:20260425T113541
CREATED:20250423T181043Z
LAST-MODIFIED:20250423T183539Z
UID:10002095-1831910400-1831932000@theauldshebeenva.com
SUMMARY:Pie and Pint Night $20.95
DESCRIPTION:Enjoy one of our Chicken Pot Pies\, Steak and Mushroom Ale Pie or Shepherd’s Pies and a pint of your choice for $20.95!
URL:https://theauldshebeenva.com/event/pie-and-pint-night/2028-01-19/
LOCATION:VA
CATEGORIES:Menu Specials,Other Entertainment
ATTACH;FMTTYPE=image/jpeg:https://theauldshebeenva.com/wp-content/uploads/Pie-and-Pint.jpg
END:VEVENT
BEGIN:VEVENT
DTSTART;TZID=America/New_York:20280119T210000
DTEND;TZID=America/New_York:20280120T013000
DTSTAMP:20260425T113541
CREATED:20240726T161846Z
LAST-MODIFIED:20240726T162603Z
UID:10001384-1831928400-1831944600@theauldshebeenva.com
SUMMARY:EDM Night hosted by Transit (Cellar Event)
DESCRIPTION:TRANSIT – The longest running dance party in the DMV area. Hear the best of the underground with great DJs in our Cellar.
URL:https://theauldshebeenva.com/event/edm-night-hosted-by-transit-cellar-event/2028-01-19/
LOCATION:VA
CATEGORIES:Other Entertainment
ATTACH;FMTTYPE=image/png:https://theauldshebeenva.com/wp-content/uploads/Transit-final-deluxe-high-res-for-sticker.png
END:VEVENT
BEGIN:VEVENT
DTSTART;TZID=America/New_York:20280122T120000
DTEND;TZID=America/New_York:20280122T150000
DTSTAMP:20260425T113541
CREATED:20240726T163428Z
LAST-MODIFIED:20240726T163527Z
UID:10001646-1832155200-1832166000@theauldshebeenva.com
SUMMARY:Ceoltas Ceoltoiri Eireann Session Players
DESCRIPTION:Enjoy brunch or lunch while you listen to a traditional Irish session by local CCE members every Saturday from noon- 3pm.
URL:https://theauldshebeenva.com/event/ceoltas-ceoltoiri-eireann-session-players/2028-01-22/
LOCATION:VA
CATEGORIES:Live Music,Other Entertainment
ATTACH;FMTTYPE=image/jpeg:https://theauldshebeenva.com/wp-content/uploads/003-scaled.jpg
END:VEVENT
BEGIN:VEVENT
DTSTART;TZID=America/New_York:20280125T193000
DTEND;TZID=America/New_York:20280125T213000
DTSTAMP:20260425T113541
CREATED:20240726T161020Z
LAST-MODIFIED:20260225T194609Z
UID:10000863-1832441400-1832448600@theauldshebeenva.com
SUMMARY:Pub Quiz - Trivia Night and Chefs Taco Specials
DESCRIPTION:Enjoy our weekly pub Quiz hosted by Sporcle\, games at 7.30pm and 8.30pm\, win gift cards to the pub! Always a fun night with friends or family!
URL:https://theauldshebeenva.com/event/pub-quiz-trivia-night/2028-01-25/
LOCATION:VA
CATEGORIES:Other Entertainment
ATTACH;FMTTYPE=image/png:https://theauldshebeenva.com/wp-content/uploads/Sporcle-1.png
END:VEVENT
BEGIN:VEVENT
DTSTART;TZID=America/New_York:20280126T160000
DTEND;TZID=America/New_York:20280126T220000
DTSTAMP:20260425T113541
CREATED:20250423T181043Z
LAST-MODIFIED:20250423T183539Z
UID:10002096-1832515200-1832536800@theauldshebeenva.com
SUMMARY:Pie and Pint Night $20.95
DESCRIPTION:Enjoy one of our Chicken Pot Pies\, Steak and Mushroom Ale Pie or Shepherd’s Pies and a pint of your choice for $20.95!
URL:https://theauldshebeenva.com/event/pie-and-pint-night/2028-01-26/
LOCATION:VA
CATEGORIES:Menu Specials,Other Entertainment
ATTACH;FMTTYPE=image/jpeg:https://theauldshebeenva.com/wp-content/uploads/Pie-and-Pint.jpg
END:VEVENT
BEGIN:VEVENT
DTSTART;TZID=America/New_York:20280126T210000
DTEND;TZID=America/New_York:20280127T013000
DTSTAMP:20260425T113541
CREATED:20240726T161846Z
LAST-MODIFIED:20240726T162603Z
UID:10001385-1832533200-1832549400@theauldshebeenva.com
SUMMARY:EDM Night hosted by Transit (Cellar Event)
DESCRIPTION:TRANSIT – The longest running dance party in the DMV area. Hear the best of the underground with great DJs in our Cellar.
URL:https://theauldshebeenva.com/event/edm-night-hosted-by-transit-cellar-event/2028-01-26/
LOCATION:VA
CATEGORIES:Other Entertainment
ATTACH;FMTTYPE=image/png:https://theauldshebeenva.com/wp-content/uploads/Transit-final-deluxe-high-res-for-sticker.png
END:VEVENT
BEGIN:VEVENT
DTSTART;TZID=America/New_York:20280129T120000
DTEND;TZID=America/New_York:20280129T150000
DTSTAMP:20260425T113541
CREATED:20240726T163428Z
LAST-MODIFIED:20240726T163527Z
UID:10001647-1832760000-1832770800@theauldshebeenva.com
SUMMARY:Ceoltas Ceoltoiri Eireann Session Players
DESCRIPTION:Enjoy brunch or lunch while you listen to a traditional Irish session by local CCE members every Saturday from noon- 3pm.
URL:https://theauldshebeenva.com/event/ceoltas-ceoltoiri-eireann-session-players/2028-01-29/
LOCATION:VA
CATEGORIES:Live Music,Other Entertainment
ATTACH;FMTTYPE=image/jpeg:https://theauldshebeenva.com/wp-content/uploads/003-scaled.jpg
END:VEVENT
END:VCALENDAR