BEGIN:VCALENDAR
VERSION:2.0
PRODID:-//The Auld Shebeen - ECPv6.15.20//NONSGML v1.0//EN
CALSCALE:GREGORIAN
METHOD:PUBLISH
X-WR-CALNAME:The Auld Shebeen
X-ORIGINAL-URL:https://theauldshebeenva.com
X-WR-CALDESC:Events for The Auld Shebeen
REFRESH-INTERVAL;VALUE=DURATION:PT1H
X-Robots-Tag:noindex
X-PUBLISHED-TTL:PT1H
BEGIN:VTIMEZONE
TZID:America/New_York
BEGIN:DAYLIGHT
TZOFFSETFROM:-0500
TZOFFSETTO:-0400
TZNAME:EDT
DTSTART:20270314T070000
END:DAYLIGHT
BEGIN:STANDARD
TZOFFSETFROM:-0400
TZOFFSETTO:-0500
TZNAME:EST
DTSTART:20271107T060000
END:STANDARD
BEGIN:DAYLIGHT
TZOFFSETFROM:-0500
TZOFFSETTO:-0400
TZNAME:EDT
DTSTART:20280312T070000
END:DAYLIGHT
BEGIN:STANDARD
TZOFFSETFROM:-0400
TZOFFSETTO:-0500
TZNAME:EST
DTSTART:20281105T060000
END:STANDARD
BEGIN:DAYLIGHT
TZOFFSETFROM:-0500
TZOFFSETTO:-0400
TZNAME:EDT
DTSTART:20290311T070000
END:DAYLIGHT
BEGIN:STANDARD
TZOFFSETFROM:-0400
TZOFFSETTO:-0500
TZNAME:EST
DTSTART:20291104T060000
END:STANDARD
END:VTIMEZONE
BEGIN:VEVENT
DTSTART;TZID=America/New_York:20280802T160000
DTEND;TZID=America/New_York:20280802T220000
DTSTAMP:20260425T205835
CREATED:20250423T181043Z
LAST-MODIFIED:20250423T183539Z
UID:10002123-1848844800-1848866400@theauldshebeenva.com
SUMMARY:Pie and Pint Night $20.95
DESCRIPTION:Enjoy one of our Chicken Pot Pies\, Steak and Mushroom Ale Pie or Shepherd’s Pies and a pint of your choice for $20.95!
URL:https://theauldshebeenva.com/event/pie-and-pint-night/2028-08-02/
LOCATION:VA
CATEGORIES:Menu Specials,Other Entertainment
ATTACH;FMTTYPE=image/jpeg:https://theauldshebeenva.com/wp-content/uploads/Pie-and-Pint.jpg
END:VEVENT
BEGIN:VEVENT
DTSTART;TZID=America/New_York:20280803T160000
DTEND;TZID=America/New_York:20280803T213000
DTSTAMP:20260425T205835
CREATED:20250423T185024Z
LAST-MODIFIED:20250423T185024Z
UID:10002419-1848931200-1848951000@theauldshebeenva.com
SUMMARY:Thursday\, Teres Major Steak Special
DESCRIPTION:Every Thursday enjoy our Teres Major Steak Special for $20.95. \n8oz Teres Major (shoulder tenderloin) cut of beef with chimichurri sauce (South American style sauce with chili flakes\, garlic\, parsley\, olive oil and vinegar). Served with pub fries and a small Shebeen salad. \n 
URL:https://theauldshebeenva.com/event/thursday-teres-major-steak-special/2028-08-03/
LOCATION:The Auld Shebeen\, 3971 Chain Bridge Road\, Fairfax\, VA\, 22030
CATEGORIES:Menu Specials,Special Events
ATTACH;FMTTYPE=image/jpeg:https://theauldshebeenva.com/wp-content/uploads/Teres-Major-1-1.jpg
END:VEVENT
BEGIN:VEVENT
DTSTART;TZID=America/New_York:20280809T160000
DTEND;TZID=America/New_York:20280809T220000
DTSTAMP:20260425T205835
CREATED:20250423T181043Z
LAST-MODIFIED:20250423T183539Z
UID:10002124-1849449600-1849471200@theauldshebeenva.com
SUMMARY:Pie and Pint Night $20.95
DESCRIPTION:Enjoy one of our Chicken Pot Pies\, Steak and Mushroom Ale Pie or Shepherd’s Pies and a pint of your choice for $20.95!
URL:https://theauldshebeenva.com/event/pie-and-pint-night/2028-08-09/
LOCATION:VA
CATEGORIES:Menu Specials,Other Entertainment
ATTACH;FMTTYPE=image/jpeg:https://theauldshebeenva.com/wp-content/uploads/Pie-and-Pint.jpg
END:VEVENT
BEGIN:VEVENT
DTSTART;TZID=America/New_York:20280810T160000
DTEND;TZID=America/New_York:20280810T213000
DTSTAMP:20260425T205835
CREATED:20250423T185024Z
LAST-MODIFIED:20250423T185024Z
UID:10002420-1849536000-1849555800@theauldshebeenva.com
SUMMARY:Thursday\, Teres Major Steak Special
DESCRIPTION:Every Thursday enjoy our Teres Major Steak Special for $20.95. \n8oz Teres Major (shoulder tenderloin) cut of beef with chimichurri sauce (South American style sauce with chili flakes\, garlic\, parsley\, olive oil and vinegar). Served with pub fries and a small Shebeen salad. \n 
URL:https://theauldshebeenva.com/event/thursday-teres-major-steak-special/2028-08-10/
LOCATION:The Auld Shebeen\, 3971 Chain Bridge Road\, Fairfax\, VA\, 22030
CATEGORIES:Menu Specials,Special Events
ATTACH;FMTTYPE=image/jpeg:https://theauldshebeenva.com/wp-content/uploads/Teres-Major-1-1.jpg
END:VEVENT
BEGIN:VEVENT
DTSTART;TZID=America/New_York:20280816T160000
DTEND;TZID=America/New_York:20280816T220000
DTSTAMP:20260425T205835
CREATED:20250423T181043Z
LAST-MODIFIED:20250423T183539Z
UID:10002125-1850054400-1850076000@theauldshebeenva.com
SUMMARY:Pie and Pint Night $20.95
DESCRIPTION:Enjoy one of our Chicken Pot Pies\, Steak and Mushroom Ale Pie or Shepherd’s Pies and a pint of your choice for $20.95!
URL:https://theauldshebeenva.com/event/pie-and-pint-night/2028-08-16/
LOCATION:VA
CATEGORIES:Menu Specials,Other Entertainment
ATTACH;FMTTYPE=image/jpeg:https://theauldshebeenva.com/wp-content/uploads/Pie-and-Pint.jpg
END:VEVENT
BEGIN:VEVENT
DTSTART;TZID=America/New_York:20280817T160000
DTEND;TZID=America/New_York:20280817T213000
DTSTAMP:20260425T205835
CREATED:20250423T185024Z
LAST-MODIFIED:20250423T185024Z
UID:10002421-1850140800-1850160600@theauldshebeenva.com
SUMMARY:Thursday\, Teres Major Steak Special
DESCRIPTION:Every Thursday enjoy our Teres Major Steak Special for $20.95. \n8oz Teres Major (shoulder tenderloin) cut of beef with chimichurri sauce (South American style sauce with chili flakes\, garlic\, parsley\, olive oil and vinegar). Served with pub fries and a small Shebeen salad. \n 
URL:https://theauldshebeenva.com/event/thursday-teres-major-steak-special/2028-08-17/
LOCATION:The Auld Shebeen\, 3971 Chain Bridge Road\, Fairfax\, VA\, 22030
CATEGORIES:Menu Specials,Special Events
ATTACH;FMTTYPE=image/jpeg:https://theauldshebeenva.com/wp-content/uploads/Teres-Major-1-1.jpg
END:VEVENT
BEGIN:VEVENT
DTSTART;TZID=America/New_York:20280823T160000
DTEND;TZID=America/New_York:20280823T220000
DTSTAMP:20260425T205835
CREATED:20250423T181043Z
LAST-MODIFIED:20250423T183539Z
UID:10002126-1850659200-1850680800@theauldshebeenva.com
SUMMARY:Pie and Pint Night $20.95
DESCRIPTION:Enjoy one of our Chicken Pot Pies\, Steak and Mushroom Ale Pie or Shepherd’s Pies and a pint of your choice for $20.95!
URL:https://theauldshebeenva.com/event/pie-and-pint-night/2028-08-23/
LOCATION:VA
CATEGORIES:Menu Specials,Other Entertainment
ATTACH;FMTTYPE=image/jpeg:https://theauldshebeenva.com/wp-content/uploads/Pie-and-Pint.jpg
END:VEVENT
BEGIN:VEVENT
DTSTART;TZID=America/New_York:20280824T160000
DTEND;TZID=America/New_York:20280824T213000
DTSTAMP:20260425T205835
CREATED:20250423T185024Z
LAST-MODIFIED:20250423T185024Z
UID:10002422-1850745600-1850765400@theauldshebeenva.com
SUMMARY:Thursday\, Teres Major Steak Special
DESCRIPTION:Every Thursday enjoy our Teres Major Steak Special for $20.95. \n8oz Teres Major (shoulder tenderloin) cut of beef with chimichurri sauce (South American style sauce with chili flakes\, garlic\, parsley\, olive oil and vinegar). Served with pub fries and a small Shebeen salad. \n 
URL:https://theauldshebeenva.com/event/thursday-teres-major-steak-special/2028-08-24/
LOCATION:The Auld Shebeen\, 3971 Chain Bridge Road\, Fairfax\, VA\, 22030
CATEGORIES:Menu Specials,Special Events
ATTACH;FMTTYPE=image/jpeg:https://theauldshebeenva.com/wp-content/uploads/Teres-Major-1-1.jpg
END:VEVENT
BEGIN:VEVENT
DTSTART;TZID=America/New_York:20280830T160000
DTEND;TZID=America/New_York:20280830T220000
DTSTAMP:20260425T205835
CREATED:20250423T181043Z
LAST-MODIFIED:20250423T183539Z
UID:10002127-1851264000-1851285600@theauldshebeenva.com
SUMMARY:Pie and Pint Night $20.95
DESCRIPTION:Enjoy one of our Chicken Pot Pies\, Steak and Mushroom Ale Pie or Shepherd’s Pies and a pint of your choice for $20.95!
URL:https://theauldshebeenva.com/event/pie-and-pint-night/2028-08-30/
LOCATION:VA
CATEGORIES:Menu Specials,Other Entertainment
ATTACH;FMTTYPE=image/jpeg:https://theauldshebeenva.com/wp-content/uploads/Pie-and-Pint.jpg
END:VEVENT
BEGIN:VEVENT
DTSTART;TZID=America/New_York:20280831T160000
DTEND;TZID=America/New_York:20280831T213000
DTSTAMP:20260425T205835
CREATED:20250423T185024Z
LAST-MODIFIED:20250423T185024Z
UID:10002423-1851350400-1851370200@theauldshebeenva.com
SUMMARY:Thursday\, Teres Major Steak Special
DESCRIPTION:Every Thursday enjoy our Teres Major Steak Special for $20.95. \n8oz Teres Major (shoulder tenderloin) cut of beef with chimichurri sauce (South American style sauce with chili flakes\, garlic\, parsley\, olive oil and vinegar). Served with pub fries and a small Shebeen salad. \n 
URL:https://theauldshebeenva.com/event/thursday-teres-major-steak-special/2028-08-31/
LOCATION:The Auld Shebeen\, 3971 Chain Bridge Road\, Fairfax\, VA\, 22030
CATEGORIES:Menu Specials,Special Events
ATTACH;FMTTYPE=image/jpeg:https://theauldshebeenva.com/wp-content/uploads/Teres-Major-1-1.jpg
END:VEVENT
BEGIN:VEVENT
DTSTART;TZID=America/New_York:20280906T160000
DTEND;TZID=America/New_York:20280906T220000
DTSTAMP:20260425T205835
CREATED:20250423T181043Z
LAST-MODIFIED:20250423T183539Z
UID:10002128-1851868800-1851890400@theauldshebeenva.com
SUMMARY:Pie and Pint Night $20.95
DESCRIPTION:Enjoy one of our Chicken Pot Pies\, Steak and Mushroom Ale Pie or Shepherd’s Pies and a pint of your choice for $20.95!
URL:https://theauldshebeenva.com/event/pie-and-pint-night/2028-09-06/
LOCATION:VA
CATEGORIES:Menu Specials,Other Entertainment
ATTACH;FMTTYPE=image/jpeg:https://theauldshebeenva.com/wp-content/uploads/Pie-and-Pint.jpg
END:VEVENT
BEGIN:VEVENT
DTSTART;TZID=America/New_York:20280907T160000
DTEND;TZID=America/New_York:20280907T213000
DTSTAMP:20260425T205835
CREATED:20250423T185024Z
LAST-MODIFIED:20250423T185024Z
UID:10002424-1851955200-1851975000@theauldshebeenva.com
SUMMARY:Thursday\, Teres Major Steak Special
DESCRIPTION:Every Thursday enjoy our Teres Major Steak Special for $20.95. \n8oz Teres Major (shoulder tenderloin) cut of beef with chimichurri sauce (South American style sauce with chili flakes\, garlic\, parsley\, olive oil and vinegar). Served with pub fries and a small Shebeen salad. \n 
URL:https://theauldshebeenva.com/event/thursday-teres-major-steak-special/2028-09-07/
LOCATION:The Auld Shebeen\, 3971 Chain Bridge Road\, Fairfax\, VA\, 22030
CATEGORIES:Menu Specials,Special Events
ATTACH;FMTTYPE=image/jpeg:https://theauldshebeenva.com/wp-content/uploads/Teres-Major-1-1.jpg
END:VEVENT
BEGIN:VEVENT
DTSTART;TZID=America/New_York:20280913T160000
DTEND;TZID=America/New_York:20280913T220000
DTSTAMP:20260425T205835
CREATED:20250423T181043Z
LAST-MODIFIED:20250423T183539Z
UID:10002129-1852473600-1852495200@theauldshebeenva.com
SUMMARY:Pie and Pint Night $20.95
DESCRIPTION:Enjoy one of our Chicken Pot Pies\, Steak and Mushroom Ale Pie or Shepherd’s Pies and a pint of your choice for $20.95!
URL:https://theauldshebeenva.com/event/pie-and-pint-night/2028-09-13/
LOCATION:VA
CATEGORIES:Menu Specials,Other Entertainment
ATTACH;FMTTYPE=image/jpeg:https://theauldshebeenva.com/wp-content/uploads/Pie-and-Pint.jpg
END:VEVENT
BEGIN:VEVENT
DTSTART;TZID=America/New_York:20280914T160000
DTEND;TZID=America/New_York:20280914T213000
DTSTAMP:20260425T205835
CREATED:20250423T185024Z
LAST-MODIFIED:20250423T185024Z
UID:10002425-1852560000-1852579800@theauldshebeenva.com
SUMMARY:Thursday\, Teres Major Steak Special
DESCRIPTION:Every Thursday enjoy our Teres Major Steak Special for $20.95. \n8oz Teres Major (shoulder tenderloin) cut of beef with chimichurri sauce (South American style sauce with chili flakes\, garlic\, parsley\, olive oil and vinegar). Served with pub fries and a small Shebeen salad. \n 
URL:https://theauldshebeenva.com/event/thursday-teres-major-steak-special/2028-09-14/
LOCATION:The Auld Shebeen\, 3971 Chain Bridge Road\, Fairfax\, VA\, 22030
CATEGORIES:Menu Specials,Special Events
ATTACH;FMTTYPE=image/jpeg:https://theauldshebeenva.com/wp-content/uploads/Teres-Major-1-1.jpg
END:VEVENT
BEGIN:VEVENT
DTSTART;TZID=America/New_York:20280920T160000
DTEND;TZID=America/New_York:20280920T220000
DTSTAMP:20260425T205835
CREATED:20250423T181043Z
LAST-MODIFIED:20250423T183539Z
UID:10002130-1853078400-1853100000@theauldshebeenva.com
SUMMARY:Pie and Pint Night $20.95
DESCRIPTION:Enjoy one of our Chicken Pot Pies\, Steak and Mushroom Ale Pie or Shepherd’s Pies and a pint of your choice for $20.95!
URL:https://theauldshebeenva.com/event/pie-and-pint-night/2028-09-20/
LOCATION:VA
CATEGORIES:Menu Specials,Other Entertainment
ATTACH;FMTTYPE=image/jpeg:https://theauldshebeenva.com/wp-content/uploads/Pie-and-Pint.jpg
END:VEVENT
BEGIN:VEVENT
DTSTART;TZID=America/New_York:20280921T160000
DTEND;TZID=America/New_York:20280921T213000
DTSTAMP:20260425T205835
CREATED:20250423T185024Z
LAST-MODIFIED:20250423T185024Z
UID:10002426-1853164800-1853184600@theauldshebeenva.com
SUMMARY:Thursday\, Teres Major Steak Special
DESCRIPTION:Every Thursday enjoy our Teres Major Steak Special for $20.95. \n8oz Teres Major (shoulder tenderloin) cut of beef with chimichurri sauce (South American style sauce with chili flakes\, garlic\, parsley\, olive oil and vinegar). Served with pub fries and a small Shebeen salad. \n 
URL:https://theauldshebeenva.com/event/thursday-teres-major-steak-special/2028-09-21/
LOCATION:The Auld Shebeen\, 3971 Chain Bridge Road\, Fairfax\, VA\, 22030
CATEGORIES:Menu Specials,Special Events
ATTACH;FMTTYPE=image/jpeg:https://theauldshebeenva.com/wp-content/uploads/Teres-Major-1-1.jpg
END:VEVENT
BEGIN:VEVENT
DTSTART;TZID=America/New_York:20280927T160000
DTEND;TZID=America/New_York:20280927T220000
DTSTAMP:20260425T205835
CREATED:20250423T181043Z
LAST-MODIFIED:20250423T183539Z
UID:10002131-1853683200-1853704800@theauldshebeenva.com
SUMMARY:Pie and Pint Night $20.95
DESCRIPTION:Enjoy one of our Chicken Pot Pies\, Steak and Mushroom Ale Pie or Shepherd’s Pies and a pint of your choice for $20.95!
URL:https://theauldshebeenva.com/event/pie-and-pint-night/2028-09-27/
LOCATION:VA
CATEGORIES:Menu Specials,Other Entertainment
ATTACH;FMTTYPE=image/jpeg:https://theauldshebeenva.com/wp-content/uploads/Pie-and-Pint.jpg
END:VEVENT
BEGIN:VEVENT
DTSTART;TZID=America/New_York:20280928T160000
DTEND;TZID=America/New_York:20280928T213000
DTSTAMP:20260425T205835
CREATED:20250423T185024Z
LAST-MODIFIED:20250423T185024Z
UID:10002427-1853769600-1853789400@theauldshebeenva.com
SUMMARY:Thursday\, Teres Major Steak Special
DESCRIPTION:Every Thursday enjoy our Teres Major Steak Special for $20.95. \n8oz Teres Major (shoulder tenderloin) cut of beef with chimichurri sauce (South American style sauce with chili flakes\, garlic\, parsley\, olive oil and vinegar). Served with pub fries and a small Shebeen salad. \n 
URL:https://theauldshebeenva.com/event/thursday-teres-major-steak-special/2028-09-28/
LOCATION:The Auld Shebeen\, 3971 Chain Bridge Road\, Fairfax\, VA\, 22030
CATEGORIES:Menu Specials,Special Events
ATTACH;FMTTYPE=image/jpeg:https://theauldshebeenva.com/wp-content/uploads/Teres-Major-1-1.jpg
END:VEVENT
BEGIN:VEVENT
DTSTART;TZID=America/New_York:20281004T160000
DTEND;TZID=America/New_York:20281004T220000
DTSTAMP:20260425T205835
CREATED:20250423T181043Z
LAST-MODIFIED:20250423T183539Z
UID:10002132-1854288000-1854309600@theauldshebeenva.com
SUMMARY:Pie and Pint Night $20.95
DESCRIPTION:Enjoy one of our Chicken Pot Pies\, Steak and Mushroom Ale Pie or Shepherd’s Pies and a pint of your choice for $20.95!
URL:https://theauldshebeenva.com/event/pie-and-pint-night/2028-10-04/
LOCATION:VA
CATEGORIES:Menu Specials,Other Entertainment
ATTACH;FMTTYPE=image/jpeg:https://theauldshebeenva.com/wp-content/uploads/Pie-and-Pint.jpg
END:VEVENT
BEGIN:VEVENT
DTSTART;TZID=America/New_York:20281005T160000
DTEND;TZID=America/New_York:20281005T213000
DTSTAMP:20260425T205835
CREATED:20250423T185024Z
LAST-MODIFIED:20250423T185024Z
UID:10002428-1854374400-1854394200@theauldshebeenva.com
SUMMARY:Thursday\, Teres Major Steak Special
DESCRIPTION:Every Thursday enjoy our Teres Major Steak Special for $20.95. \n8oz Teres Major (shoulder tenderloin) cut of beef with chimichurri sauce (South American style sauce with chili flakes\, garlic\, parsley\, olive oil and vinegar). Served with pub fries and a small Shebeen salad. \n 
URL:https://theauldshebeenva.com/event/thursday-teres-major-steak-special/2028-10-05/
LOCATION:The Auld Shebeen\, 3971 Chain Bridge Road\, Fairfax\, VA\, 22030
CATEGORIES:Menu Specials,Special Events
ATTACH;FMTTYPE=image/jpeg:https://theauldshebeenva.com/wp-content/uploads/Teres-Major-1-1.jpg
END:VEVENT
BEGIN:VEVENT
DTSTART;TZID=America/New_York:20281011T160000
DTEND;TZID=America/New_York:20281011T220000
DTSTAMP:20260425T205835
CREATED:20250423T181043Z
LAST-MODIFIED:20250423T183539Z
UID:10002133-1854892800-1854914400@theauldshebeenva.com
SUMMARY:Pie and Pint Night $20.95
DESCRIPTION:Enjoy one of our Chicken Pot Pies\, Steak and Mushroom Ale Pie or Shepherd’s Pies and a pint of your choice for $20.95!
URL:https://theauldshebeenva.com/event/pie-and-pint-night/2028-10-11/
LOCATION:VA
CATEGORIES:Menu Specials,Other Entertainment
ATTACH;FMTTYPE=image/jpeg:https://theauldshebeenva.com/wp-content/uploads/Pie-and-Pint.jpg
END:VEVENT
BEGIN:VEVENT
DTSTART;TZID=America/New_York:20281012T160000
DTEND;TZID=America/New_York:20281012T213000
DTSTAMP:20260425T205835
CREATED:20250423T185024Z
LAST-MODIFIED:20250423T185024Z
UID:10002429-1854979200-1854999000@theauldshebeenva.com
SUMMARY:Thursday\, Teres Major Steak Special
DESCRIPTION:Every Thursday enjoy our Teres Major Steak Special for $20.95. \n8oz Teres Major (shoulder tenderloin) cut of beef with chimichurri sauce (South American style sauce with chili flakes\, garlic\, parsley\, olive oil and vinegar). Served with pub fries and a small Shebeen salad. \n 
URL:https://theauldshebeenva.com/event/thursday-teres-major-steak-special/2028-10-12/
LOCATION:The Auld Shebeen\, 3971 Chain Bridge Road\, Fairfax\, VA\, 22030
CATEGORIES:Menu Specials,Special Events
ATTACH;FMTTYPE=image/jpeg:https://theauldshebeenva.com/wp-content/uploads/Teres-Major-1-1.jpg
END:VEVENT
BEGIN:VEVENT
DTSTART;TZID=America/New_York:20281018T160000
DTEND;TZID=America/New_York:20281018T220000
DTSTAMP:20260425T205835
CREATED:20250423T181043Z
LAST-MODIFIED:20250423T183539Z
UID:10002134-1855497600-1855519200@theauldshebeenva.com
SUMMARY:Pie and Pint Night $20.95
DESCRIPTION:Enjoy one of our Chicken Pot Pies\, Steak and Mushroom Ale Pie or Shepherd’s Pies and a pint of your choice for $20.95!
URL:https://theauldshebeenva.com/event/pie-and-pint-night/2028-10-18/
LOCATION:VA
CATEGORIES:Menu Specials,Other Entertainment
ATTACH;FMTTYPE=image/jpeg:https://theauldshebeenva.com/wp-content/uploads/Pie-and-Pint.jpg
END:VEVENT
BEGIN:VEVENT
DTSTART;TZID=America/New_York:20281019T160000
DTEND;TZID=America/New_York:20281019T213000
DTSTAMP:20260425T205835
CREATED:20250423T185024Z
LAST-MODIFIED:20250423T185024Z
UID:10002430-1855584000-1855603800@theauldshebeenva.com
SUMMARY:Thursday\, Teres Major Steak Special
DESCRIPTION:Every Thursday enjoy our Teres Major Steak Special for $20.95. \n8oz Teres Major (shoulder tenderloin) cut of beef with chimichurri sauce (South American style sauce with chili flakes\, garlic\, parsley\, olive oil and vinegar). Served with pub fries and a small Shebeen salad. \n 
URL:https://theauldshebeenva.com/event/thursday-teres-major-steak-special/2028-10-19/
LOCATION:The Auld Shebeen\, 3971 Chain Bridge Road\, Fairfax\, VA\, 22030
CATEGORIES:Menu Specials,Special Events
ATTACH;FMTTYPE=image/jpeg:https://theauldshebeenva.com/wp-content/uploads/Teres-Major-1-1.jpg
END:VEVENT
BEGIN:VEVENT
DTSTART;TZID=America/New_York:20281025T160000
DTEND;TZID=America/New_York:20281025T220000
DTSTAMP:20260425T205835
CREATED:20250423T181043Z
LAST-MODIFIED:20250423T183539Z
UID:10002135-1856102400-1856124000@theauldshebeenva.com
SUMMARY:Pie and Pint Night $20.95
DESCRIPTION:Enjoy one of our Chicken Pot Pies\, Steak and Mushroom Ale Pie or Shepherd’s Pies and a pint of your choice for $20.95!
URL:https://theauldshebeenva.com/event/pie-and-pint-night/2028-10-25/
LOCATION:VA
CATEGORIES:Menu Specials,Other Entertainment
ATTACH;FMTTYPE=image/jpeg:https://theauldshebeenva.com/wp-content/uploads/Pie-and-Pint.jpg
END:VEVENT
BEGIN:VEVENT
DTSTART;TZID=America/New_York:20281026T160000
DTEND;TZID=America/New_York:20281026T213000
DTSTAMP:20260425T205835
CREATED:20250423T185024Z
LAST-MODIFIED:20250423T185024Z
UID:10002431-1856188800-1856208600@theauldshebeenva.com
SUMMARY:Thursday\, Teres Major Steak Special
DESCRIPTION:Every Thursday enjoy our Teres Major Steak Special for $20.95. \n8oz Teres Major (shoulder tenderloin) cut of beef with chimichurri sauce (South American style sauce with chili flakes\, garlic\, parsley\, olive oil and vinegar). Served with pub fries and a small Shebeen salad. \n 
URL:https://theauldshebeenva.com/event/thursday-teres-major-steak-special/2028-10-26/
LOCATION:The Auld Shebeen\, 3971 Chain Bridge Road\, Fairfax\, VA\, 22030
CATEGORIES:Menu Specials,Special Events
ATTACH;FMTTYPE=image/jpeg:https://theauldshebeenva.com/wp-content/uploads/Teres-Major-1-1.jpg
END:VEVENT
BEGIN:VEVENT
DTSTART;TZID=America/New_York:20281101T160000
DTEND;TZID=America/New_York:20281101T220000
DTSTAMP:20260425T205835
CREATED:20250423T181043Z
LAST-MODIFIED:20250423T183539Z
UID:10002136-1856707200-1856728800@theauldshebeenva.com
SUMMARY:Pie and Pint Night $20.95
DESCRIPTION:Enjoy one of our Chicken Pot Pies\, Steak and Mushroom Ale Pie or Shepherd’s Pies and a pint of your choice for $20.95!
URL:https://theauldshebeenva.com/event/pie-and-pint-night/2028-11-01/
LOCATION:VA
CATEGORIES:Menu Specials,Other Entertainment
ATTACH;FMTTYPE=image/jpeg:https://theauldshebeenva.com/wp-content/uploads/Pie-and-Pint.jpg
END:VEVENT
BEGIN:VEVENT
DTSTART;TZID=America/New_York:20281102T160000
DTEND;TZID=America/New_York:20281102T213000
DTSTAMP:20260425T205835
CREATED:20250423T185024Z
LAST-MODIFIED:20250423T185024Z
UID:10002432-1856793600-1856813400@theauldshebeenva.com
SUMMARY:Thursday\, Teres Major Steak Special
DESCRIPTION:Every Thursday enjoy our Teres Major Steak Special for $20.95. \n8oz Teres Major (shoulder tenderloin) cut of beef with chimichurri sauce (South American style sauce with chili flakes\, garlic\, parsley\, olive oil and vinegar). Served with pub fries and a small Shebeen salad. \n 
URL:https://theauldshebeenva.com/event/thursday-teres-major-steak-special/2028-11-02/
LOCATION:The Auld Shebeen\, 3971 Chain Bridge Road\, Fairfax\, VA\, 22030
CATEGORIES:Menu Specials,Special Events
ATTACH;FMTTYPE=image/jpeg:https://theauldshebeenva.com/wp-content/uploads/Teres-Major-1-1.jpg
END:VEVENT
BEGIN:VEVENT
DTSTART;TZID=America/New_York:20281108T160000
DTEND;TZID=America/New_York:20281108T220000
DTSTAMP:20260425T205835
CREATED:20250423T181043Z
LAST-MODIFIED:20250423T183539Z
UID:10002137-1857312000-1857333600@theauldshebeenva.com
SUMMARY:Pie and Pint Night $20.95
DESCRIPTION:Enjoy one of our Chicken Pot Pies\, Steak and Mushroom Ale Pie or Shepherd’s Pies and a pint of your choice for $20.95!
URL:https://theauldshebeenva.com/event/pie-and-pint-night/2028-11-08/
LOCATION:VA
CATEGORIES:Menu Specials,Other Entertainment
ATTACH;FMTTYPE=image/jpeg:https://theauldshebeenva.com/wp-content/uploads/Pie-and-Pint.jpg
END:VEVENT
BEGIN:VEVENT
DTSTART;TZID=America/New_York:20281109T160000
DTEND;TZID=America/New_York:20281109T213000
DTSTAMP:20260425T205835
CREATED:20250423T185024Z
LAST-MODIFIED:20250423T185024Z
UID:10002433-1857398400-1857418200@theauldshebeenva.com
SUMMARY:Thursday\, Teres Major Steak Special
DESCRIPTION:Every Thursday enjoy our Teres Major Steak Special for $20.95. \n8oz Teres Major (shoulder tenderloin) cut of beef with chimichurri sauce (South American style sauce with chili flakes\, garlic\, parsley\, olive oil and vinegar). Served with pub fries and a small Shebeen salad. \n 
URL:https://theauldshebeenva.com/event/thursday-teres-major-steak-special/2028-11-09/
LOCATION:The Auld Shebeen\, 3971 Chain Bridge Road\, Fairfax\, VA\, 22030
CATEGORIES:Menu Specials,Special Events
ATTACH;FMTTYPE=image/jpeg:https://theauldshebeenva.com/wp-content/uploads/Teres-Major-1-1.jpg
END:VEVENT
END:VCALENDAR