BEGIN:VCALENDAR
VERSION:2.0
PRODID:-//The Auld Shebeen - ECPv6.15.20//NONSGML v1.0//EN
CALSCALE:GREGORIAN
METHOD:PUBLISH
X-ORIGINAL-URL:https://theauldshebeenva.com
X-WR-CALDESC:Events for The Auld Shebeen
REFRESH-INTERVAL;VALUE=DURATION:PT1H
X-Robots-Tag:noindex
X-PUBLISHED-TTL:PT1H
BEGIN:VTIMEZONE
TZID:America/New_York
BEGIN:DAYLIGHT
TZOFFSETFROM:-0500
TZOFFSETTO:-0400
TZNAME:EDT
DTSTART:20260308T070000
END:DAYLIGHT
BEGIN:STANDARD
TZOFFSETFROM:-0400
TZOFFSETTO:-0500
TZNAME:EST
DTSTART:20261101T060000
END:STANDARD
BEGIN:DAYLIGHT
TZOFFSETFROM:-0500
TZOFFSETTO:-0400
TZNAME:EDT
DTSTART:20270314T070000
END:DAYLIGHT
BEGIN:STANDARD
TZOFFSETFROM:-0400
TZOFFSETTO:-0500
TZNAME:EST
DTSTART:20271107T060000
END:STANDARD
BEGIN:DAYLIGHT
TZOFFSETFROM:-0500
TZOFFSETTO:-0400
TZNAME:EDT
DTSTART:20280312T070000
END:DAYLIGHT
BEGIN:STANDARD
TZOFFSETFROM:-0400
TZOFFSETTO:-0500
TZNAME:EST
DTSTART:20281105T060000
END:STANDARD
BEGIN:DAYLIGHT
TZOFFSETFROM:-0500
TZOFFSETTO:-0400
TZNAME:EDT
DTSTART:20290311T070000
END:DAYLIGHT
BEGIN:STANDARD
TZOFFSETFROM:-0400
TZOFFSETTO:-0500
TZNAME:EST
DTSTART:20291104T060000
END:STANDARD
END:VTIMEZONE
BEGIN:VEVENT
DTSTART;TZID=America/New_York:20271222T160000
DTEND;TZID=America/New_York:20271222T220000
DTSTAMP:20260425T112844
CREATED:20250423T181043Z
LAST-MODIFIED:20250423T183539Z
UID:10002091-1829491200-1829512800@theauldshebeenva.com
SUMMARY:Pie and Pint Night $20.95
DESCRIPTION:Enjoy one of our Chicken Pot Pies\, Steak and Mushroom Ale Pie or Shepherd’s Pies and a pint of your choice for $20.95!
URL:https://theauldshebeenva.com/event/pie-and-pint-night/2027-12-22/
LOCATION:VA
CATEGORIES:Menu Specials,Other Entertainment
ATTACH;FMTTYPE=image/jpeg:https://theauldshebeenva.com/wp-content/uploads/Pie-and-Pint.jpg
END:VEVENT
BEGIN:VEVENT
DTSTART;TZID=America/New_York:20271223T160000
DTEND;TZID=America/New_York:20271223T213000
DTSTAMP:20260425T112844
CREATED:20250423T185024Z
LAST-MODIFIED:20250423T185024Z
UID:10002387-1829577600-1829597400@theauldshebeenva.com
SUMMARY:Thursday\, Teres Major Steak Special
DESCRIPTION:Every Thursday enjoy our Teres Major Steak Special for $20.95. \n8oz Teres Major (shoulder tenderloin) cut of beef with chimichurri sauce (South American style sauce with chili flakes\, garlic\, parsley\, olive oil and vinegar). Served with pub fries and a small Shebeen salad. \n 
URL:https://theauldshebeenva.com/event/thursday-teres-major-steak-special/2027-12-23/
LOCATION:The Auld Shebeen\, 3971 Chain Bridge Road\, Fairfax\, VA\, 22030
CATEGORIES:Menu Specials,Special Events
ATTACH;FMTTYPE=image/jpeg:https://theauldshebeenva.com/wp-content/uploads/Teres-Major-1-1.jpg
END:VEVENT
BEGIN:VEVENT
DTSTART;TZID=America/New_York:20271229T160000
DTEND;TZID=America/New_York:20271229T220000
DTSTAMP:20260425T112844
CREATED:20250423T181043Z
LAST-MODIFIED:20250423T183539Z
UID:10002092-1830096000-1830117600@theauldshebeenva.com
SUMMARY:Pie and Pint Night $20.95
DESCRIPTION:Enjoy one of our Chicken Pot Pies\, Steak and Mushroom Ale Pie or Shepherd’s Pies and a pint of your choice for $20.95!
URL:https://theauldshebeenva.com/event/pie-and-pint-night/2027-12-29/
LOCATION:VA
CATEGORIES:Menu Specials,Other Entertainment
ATTACH;FMTTYPE=image/jpeg:https://theauldshebeenva.com/wp-content/uploads/Pie-and-Pint.jpg
END:VEVENT
BEGIN:VEVENT
DTSTART;TZID=America/New_York:20271230T160000
DTEND;TZID=America/New_York:20271230T213000
DTSTAMP:20260425T112844
CREATED:20250423T185024Z
LAST-MODIFIED:20250423T185024Z
UID:10002388-1830182400-1830202200@theauldshebeenva.com
SUMMARY:Thursday\, Teres Major Steak Special
DESCRIPTION:Every Thursday enjoy our Teres Major Steak Special for $20.95. \n8oz Teres Major (shoulder tenderloin) cut of beef with chimichurri sauce (South American style sauce with chili flakes\, garlic\, parsley\, olive oil and vinegar). Served with pub fries and a small Shebeen salad. \n 
URL:https://theauldshebeenva.com/event/thursday-teres-major-steak-special/2027-12-30/
LOCATION:The Auld Shebeen\, 3971 Chain Bridge Road\, Fairfax\, VA\, 22030
CATEGORIES:Menu Specials,Special Events
ATTACH;FMTTYPE=image/jpeg:https://theauldshebeenva.com/wp-content/uploads/Teres-Major-1-1.jpg
END:VEVENT
BEGIN:VEVENT
DTSTART;TZID=America/New_York:20280105T160000
DTEND;TZID=America/New_York:20280105T220000
DTSTAMP:20260425T112844
CREATED:20250423T181043Z
LAST-MODIFIED:20250423T183539Z
UID:10002093-1830700800-1830722400@theauldshebeenva.com
SUMMARY:Pie and Pint Night $20.95
DESCRIPTION:Enjoy one of our Chicken Pot Pies\, Steak and Mushroom Ale Pie or Shepherd’s Pies and a pint of your choice for $20.95!
URL:https://theauldshebeenva.com/event/pie-and-pint-night/2028-01-05/
LOCATION:VA
CATEGORIES:Menu Specials,Other Entertainment
ATTACH;FMTTYPE=image/jpeg:https://theauldshebeenva.com/wp-content/uploads/Pie-and-Pint.jpg
END:VEVENT
BEGIN:VEVENT
DTSTART;TZID=America/New_York:20280106T160000
DTEND;TZID=America/New_York:20280106T213000
DTSTAMP:20260425T112844
CREATED:20250423T185024Z
LAST-MODIFIED:20250423T185024Z
UID:10002389-1830787200-1830807000@theauldshebeenva.com
SUMMARY:Thursday\, Teres Major Steak Special
DESCRIPTION:Every Thursday enjoy our Teres Major Steak Special for $20.95. \n8oz Teres Major (shoulder tenderloin) cut of beef with chimichurri sauce (South American style sauce with chili flakes\, garlic\, parsley\, olive oil and vinegar). Served with pub fries and a small Shebeen salad. \n 
URL:https://theauldshebeenva.com/event/thursday-teres-major-steak-special/2028-01-06/
LOCATION:The Auld Shebeen\, 3971 Chain Bridge Road\, Fairfax\, VA\, 22030
CATEGORIES:Menu Specials,Special Events
ATTACH;FMTTYPE=image/jpeg:https://theauldshebeenva.com/wp-content/uploads/Teres-Major-1-1.jpg
END:VEVENT
BEGIN:VEVENT
DTSTART;TZID=America/New_York:20280112T160000
DTEND;TZID=America/New_York:20280112T220000
DTSTAMP:20260425T112844
CREATED:20250423T181043Z
LAST-MODIFIED:20250423T183539Z
UID:10002094-1831305600-1831327200@theauldshebeenva.com
SUMMARY:Pie and Pint Night $20.95
DESCRIPTION:Enjoy one of our Chicken Pot Pies\, Steak and Mushroom Ale Pie or Shepherd’s Pies and a pint of your choice for $20.95!
URL:https://theauldshebeenva.com/event/pie-and-pint-night/2028-01-12/
LOCATION:VA
CATEGORIES:Menu Specials,Other Entertainment
ATTACH;FMTTYPE=image/jpeg:https://theauldshebeenva.com/wp-content/uploads/Pie-and-Pint.jpg
END:VEVENT
BEGIN:VEVENT
DTSTART;TZID=America/New_York:20280113T160000
DTEND;TZID=America/New_York:20280113T213000
DTSTAMP:20260425T112844
CREATED:20250423T185024Z
LAST-MODIFIED:20250423T185024Z
UID:10002390-1831392000-1831411800@theauldshebeenva.com
SUMMARY:Thursday\, Teres Major Steak Special
DESCRIPTION:Every Thursday enjoy our Teres Major Steak Special for $20.95. \n8oz Teres Major (shoulder tenderloin) cut of beef with chimichurri sauce (South American style sauce with chili flakes\, garlic\, parsley\, olive oil and vinegar). Served with pub fries and a small Shebeen salad. \n 
URL:https://theauldshebeenva.com/event/thursday-teres-major-steak-special/2028-01-13/
LOCATION:The Auld Shebeen\, 3971 Chain Bridge Road\, Fairfax\, VA\, 22030
CATEGORIES:Menu Specials,Special Events
ATTACH;FMTTYPE=image/jpeg:https://theauldshebeenva.com/wp-content/uploads/Teres-Major-1-1.jpg
END:VEVENT
BEGIN:VEVENT
DTSTART;TZID=America/New_York:20280119T160000
DTEND;TZID=America/New_York:20280119T220000
DTSTAMP:20260425T112844
CREATED:20250423T181043Z
LAST-MODIFIED:20250423T183539Z
UID:10002095-1831910400-1831932000@theauldshebeenva.com
SUMMARY:Pie and Pint Night $20.95
DESCRIPTION:Enjoy one of our Chicken Pot Pies\, Steak and Mushroom Ale Pie or Shepherd’s Pies and a pint of your choice for $20.95!
URL:https://theauldshebeenva.com/event/pie-and-pint-night/2028-01-19/
LOCATION:VA
CATEGORIES:Menu Specials,Other Entertainment
ATTACH;FMTTYPE=image/jpeg:https://theauldshebeenva.com/wp-content/uploads/Pie-and-Pint.jpg
END:VEVENT
BEGIN:VEVENT
DTSTART;TZID=America/New_York:20280120T160000
DTEND;TZID=America/New_York:20280120T213000
DTSTAMP:20260425T112844
CREATED:20250423T185024Z
LAST-MODIFIED:20250423T185024Z
UID:10002391-1831996800-1832016600@theauldshebeenva.com
SUMMARY:Thursday\, Teres Major Steak Special
DESCRIPTION:Every Thursday enjoy our Teres Major Steak Special for $20.95. \n8oz Teres Major (shoulder tenderloin) cut of beef with chimichurri sauce (South American style sauce with chili flakes\, garlic\, parsley\, olive oil and vinegar). Served with pub fries and a small Shebeen salad. \n 
URL:https://theauldshebeenva.com/event/thursday-teres-major-steak-special/2028-01-20/
LOCATION:The Auld Shebeen\, 3971 Chain Bridge Road\, Fairfax\, VA\, 22030
CATEGORIES:Menu Specials,Special Events
ATTACH;FMTTYPE=image/jpeg:https://theauldshebeenva.com/wp-content/uploads/Teres-Major-1-1.jpg
END:VEVENT
BEGIN:VEVENT
DTSTART;TZID=America/New_York:20280126T160000
DTEND;TZID=America/New_York:20280126T220000
DTSTAMP:20260425T112844
CREATED:20250423T181043Z
LAST-MODIFIED:20250423T183539Z
UID:10002096-1832515200-1832536800@theauldshebeenva.com
SUMMARY:Pie and Pint Night $20.95
DESCRIPTION:Enjoy one of our Chicken Pot Pies\, Steak and Mushroom Ale Pie or Shepherd’s Pies and a pint of your choice for $20.95!
URL:https://theauldshebeenva.com/event/pie-and-pint-night/2028-01-26/
LOCATION:VA
CATEGORIES:Menu Specials,Other Entertainment
ATTACH;FMTTYPE=image/jpeg:https://theauldshebeenva.com/wp-content/uploads/Pie-and-Pint.jpg
END:VEVENT
BEGIN:VEVENT
DTSTART;TZID=America/New_York:20280127T160000
DTEND;TZID=America/New_York:20280127T213000
DTSTAMP:20260425T112844
CREATED:20250423T185024Z
LAST-MODIFIED:20250423T185024Z
UID:10002392-1832601600-1832621400@theauldshebeenva.com
SUMMARY:Thursday\, Teres Major Steak Special
DESCRIPTION:Every Thursday enjoy our Teres Major Steak Special for $20.95. \n8oz Teres Major (shoulder tenderloin) cut of beef with chimichurri sauce (South American style sauce with chili flakes\, garlic\, parsley\, olive oil and vinegar). Served with pub fries and a small Shebeen salad. \n 
URL:https://theauldshebeenva.com/event/thursday-teres-major-steak-special/2028-01-27/
LOCATION:The Auld Shebeen\, 3971 Chain Bridge Road\, Fairfax\, VA\, 22030
CATEGORIES:Menu Specials,Special Events
ATTACH;FMTTYPE=image/jpeg:https://theauldshebeenva.com/wp-content/uploads/Teres-Major-1-1.jpg
END:VEVENT
BEGIN:VEVENT
DTSTART;TZID=America/New_York:20280202T160000
DTEND;TZID=America/New_York:20280202T220000
DTSTAMP:20260425T112844
CREATED:20250423T181043Z
LAST-MODIFIED:20250423T183539Z
UID:10002097-1833120000-1833141600@theauldshebeenva.com
SUMMARY:Pie and Pint Night $20.95
DESCRIPTION:Enjoy one of our Chicken Pot Pies\, Steak and Mushroom Ale Pie or Shepherd’s Pies and a pint of your choice for $20.95!
URL:https://theauldshebeenva.com/event/pie-and-pint-night/2028-02-02/
LOCATION:VA
CATEGORIES:Menu Specials,Other Entertainment
ATTACH;FMTTYPE=image/jpeg:https://theauldshebeenva.com/wp-content/uploads/Pie-and-Pint.jpg
END:VEVENT
BEGIN:VEVENT
DTSTART;TZID=America/New_York:20280203T160000
DTEND;TZID=America/New_York:20280203T213000
DTSTAMP:20260425T112844
CREATED:20250423T185024Z
LAST-MODIFIED:20250423T185024Z
UID:10002393-1833206400-1833226200@theauldshebeenva.com
SUMMARY:Thursday\, Teres Major Steak Special
DESCRIPTION:Every Thursday enjoy our Teres Major Steak Special for $20.95. \n8oz Teres Major (shoulder tenderloin) cut of beef with chimichurri sauce (South American style sauce with chili flakes\, garlic\, parsley\, olive oil and vinegar). Served with pub fries and a small Shebeen salad. \n 
URL:https://theauldshebeenva.com/event/thursday-teres-major-steak-special/2028-02-03/
LOCATION:The Auld Shebeen\, 3971 Chain Bridge Road\, Fairfax\, VA\, 22030
CATEGORIES:Menu Specials,Special Events
ATTACH;FMTTYPE=image/jpeg:https://theauldshebeenva.com/wp-content/uploads/Teres-Major-1-1.jpg
END:VEVENT
BEGIN:VEVENT
DTSTART;TZID=America/New_York:20280209T160000
DTEND;TZID=America/New_York:20280209T220000
DTSTAMP:20260425T112844
CREATED:20250423T181043Z
LAST-MODIFIED:20250423T183539Z
UID:10002098-1833724800-1833746400@theauldshebeenva.com
SUMMARY:Pie and Pint Night $20.95
DESCRIPTION:Enjoy one of our Chicken Pot Pies\, Steak and Mushroom Ale Pie or Shepherd’s Pies and a pint of your choice for $20.95!
URL:https://theauldshebeenva.com/event/pie-and-pint-night/2028-02-09/
LOCATION:VA
CATEGORIES:Menu Specials,Other Entertainment
ATTACH;FMTTYPE=image/jpeg:https://theauldshebeenva.com/wp-content/uploads/Pie-and-Pint.jpg
END:VEVENT
BEGIN:VEVENT
DTSTART;TZID=America/New_York:20280210T160000
DTEND;TZID=America/New_York:20280210T213000
DTSTAMP:20260425T112844
CREATED:20250423T185024Z
LAST-MODIFIED:20250423T185024Z
UID:10002394-1833811200-1833831000@theauldshebeenva.com
SUMMARY:Thursday\, Teres Major Steak Special
DESCRIPTION:Every Thursday enjoy our Teres Major Steak Special for $20.95. \n8oz Teres Major (shoulder tenderloin) cut of beef with chimichurri sauce (South American style sauce with chili flakes\, garlic\, parsley\, olive oil and vinegar). Served with pub fries and a small Shebeen salad. \n 
URL:https://theauldshebeenva.com/event/thursday-teres-major-steak-special/2028-02-10/
LOCATION:The Auld Shebeen\, 3971 Chain Bridge Road\, Fairfax\, VA\, 22030
CATEGORIES:Menu Specials,Special Events
ATTACH;FMTTYPE=image/jpeg:https://theauldshebeenva.com/wp-content/uploads/Teres-Major-1-1.jpg
END:VEVENT
BEGIN:VEVENT
DTSTART;TZID=America/New_York:20280216T160000
DTEND;TZID=America/New_York:20280216T220000
DTSTAMP:20260425T112844
CREATED:20250423T181043Z
LAST-MODIFIED:20250423T183539Z
UID:10002099-1834329600-1834351200@theauldshebeenva.com
SUMMARY:Pie and Pint Night $20.95
DESCRIPTION:Enjoy one of our Chicken Pot Pies\, Steak and Mushroom Ale Pie or Shepherd’s Pies and a pint of your choice for $20.95!
URL:https://theauldshebeenva.com/event/pie-and-pint-night/2028-02-16/
LOCATION:VA
CATEGORIES:Menu Specials,Other Entertainment
ATTACH;FMTTYPE=image/jpeg:https://theauldshebeenva.com/wp-content/uploads/Pie-and-Pint.jpg
END:VEVENT
BEGIN:VEVENT
DTSTART;TZID=America/New_York:20280217T160000
DTEND;TZID=America/New_York:20280217T213000
DTSTAMP:20260425T112844
CREATED:20250423T185024Z
LAST-MODIFIED:20250423T185024Z
UID:10002395-1834416000-1834435800@theauldshebeenva.com
SUMMARY:Thursday\, Teres Major Steak Special
DESCRIPTION:Every Thursday enjoy our Teres Major Steak Special for $20.95. \n8oz Teres Major (shoulder tenderloin) cut of beef with chimichurri sauce (South American style sauce with chili flakes\, garlic\, parsley\, olive oil and vinegar). Served with pub fries and a small Shebeen salad. \n 
URL:https://theauldshebeenva.com/event/thursday-teres-major-steak-special/2028-02-17/
LOCATION:The Auld Shebeen\, 3971 Chain Bridge Road\, Fairfax\, VA\, 22030
CATEGORIES:Menu Specials,Special Events
ATTACH;FMTTYPE=image/jpeg:https://theauldshebeenva.com/wp-content/uploads/Teres-Major-1-1.jpg
END:VEVENT
BEGIN:VEVENT
DTSTART;TZID=America/New_York:20280223T160000
DTEND;TZID=America/New_York:20280223T220000
DTSTAMP:20260425T112844
CREATED:20250423T181043Z
LAST-MODIFIED:20250423T183539Z
UID:10002100-1834934400-1834956000@theauldshebeenva.com
SUMMARY:Pie and Pint Night $20.95
DESCRIPTION:Enjoy one of our Chicken Pot Pies\, Steak and Mushroom Ale Pie or Shepherd’s Pies and a pint of your choice for $20.95!
URL:https://theauldshebeenva.com/event/pie-and-pint-night/2028-02-23/
LOCATION:VA
CATEGORIES:Menu Specials,Other Entertainment
ATTACH;FMTTYPE=image/jpeg:https://theauldshebeenva.com/wp-content/uploads/Pie-and-Pint.jpg
END:VEVENT
BEGIN:VEVENT
DTSTART;TZID=America/New_York:20280224T160000
DTEND;TZID=America/New_York:20280224T213000
DTSTAMP:20260425T112844
CREATED:20250423T185024Z
LAST-MODIFIED:20250423T185024Z
UID:10002396-1835020800-1835040600@theauldshebeenva.com
SUMMARY:Thursday\, Teres Major Steak Special
DESCRIPTION:Every Thursday enjoy our Teres Major Steak Special for $20.95. \n8oz Teres Major (shoulder tenderloin) cut of beef with chimichurri sauce (South American style sauce with chili flakes\, garlic\, parsley\, olive oil and vinegar). Served with pub fries and a small Shebeen salad. \n 
URL:https://theauldshebeenva.com/event/thursday-teres-major-steak-special/2028-02-24/
LOCATION:The Auld Shebeen\, 3971 Chain Bridge Road\, Fairfax\, VA\, 22030
CATEGORIES:Menu Specials,Special Events
ATTACH;FMTTYPE=image/jpeg:https://theauldshebeenva.com/wp-content/uploads/Teres-Major-1-1.jpg
END:VEVENT
BEGIN:VEVENT
DTSTART;TZID=America/New_York:20280301T160000
DTEND;TZID=America/New_York:20280301T220000
DTSTAMP:20260425T112844
CREATED:20250423T181043Z
LAST-MODIFIED:20250423T183539Z
UID:10002101-1835539200-1835560800@theauldshebeenva.com
SUMMARY:Pie and Pint Night $20.95
DESCRIPTION:Enjoy one of our Chicken Pot Pies\, Steak and Mushroom Ale Pie or Shepherd’s Pies and a pint of your choice for $20.95!
URL:https://theauldshebeenva.com/event/pie-and-pint-night/2028-03-01/
LOCATION:VA
CATEGORIES:Menu Specials,Other Entertainment
ATTACH;FMTTYPE=image/jpeg:https://theauldshebeenva.com/wp-content/uploads/Pie-and-Pint.jpg
END:VEVENT
BEGIN:VEVENT
DTSTART;TZID=America/New_York:20280302T160000
DTEND;TZID=America/New_York:20280302T213000
DTSTAMP:20260425T112844
CREATED:20250423T185024Z
LAST-MODIFIED:20250423T185024Z
UID:10002397-1835625600-1835645400@theauldshebeenva.com
SUMMARY:Thursday\, Teres Major Steak Special
DESCRIPTION:Every Thursday enjoy our Teres Major Steak Special for $20.95. \n8oz Teres Major (shoulder tenderloin) cut of beef with chimichurri sauce (South American style sauce with chili flakes\, garlic\, parsley\, olive oil and vinegar). Served with pub fries and a small Shebeen salad. \n 
URL:https://theauldshebeenva.com/event/thursday-teres-major-steak-special/2028-03-02/
LOCATION:The Auld Shebeen\, 3971 Chain Bridge Road\, Fairfax\, VA\, 22030
CATEGORIES:Menu Specials,Special Events
ATTACH;FMTTYPE=image/jpeg:https://theauldshebeenva.com/wp-content/uploads/Teres-Major-1-1.jpg
END:VEVENT
BEGIN:VEVENT
DTSTART;TZID=America/New_York:20280308T160000
DTEND;TZID=America/New_York:20280308T220000
DTSTAMP:20260425T112844
CREATED:20250423T181043Z
LAST-MODIFIED:20250423T183539Z
UID:10002102-1836144000-1836165600@theauldshebeenva.com
SUMMARY:Pie and Pint Night $20.95
DESCRIPTION:Enjoy one of our Chicken Pot Pies\, Steak and Mushroom Ale Pie or Shepherd’s Pies and a pint of your choice for $20.95!
URL:https://theauldshebeenva.com/event/pie-and-pint-night/2028-03-08/
LOCATION:VA
CATEGORIES:Menu Specials,Other Entertainment
ATTACH;FMTTYPE=image/jpeg:https://theauldshebeenva.com/wp-content/uploads/Pie-and-Pint.jpg
END:VEVENT
BEGIN:VEVENT
DTSTART;TZID=America/New_York:20280309T160000
DTEND;TZID=America/New_York:20280309T213000
DTSTAMP:20260425T112844
CREATED:20250423T185024Z
LAST-MODIFIED:20250423T185024Z
UID:10002398-1836230400-1836250200@theauldshebeenva.com
SUMMARY:Thursday\, Teres Major Steak Special
DESCRIPTION:Every Thursday enjoy our Teres Major Steak Special for $20.95. \n8oz Teres Major (shoulder tenderloin) cut of beef with chimichurri sauce (South American style sauce with chili flakes\, garlic\, parsley\, olive oil and vinegar). Served with pub fries and a small Shebeen salad. \n 
URL:https://theauldshebeenva.com/event/thursday-teres-major-steak-special/2028-03-09/
LOCATION:The Auld Shebeen\, 3971 Chain Bridge Road\, Fairfax\, VA\, 22030
CATEGORIES:Menu Specials,Special Events
ATTACH;FMTTYPE=image/jpeg:https://theauldshebeenva.com/wp-content/uploads/Teres-Major-1-1.jpg
END:VEVENT
BEGIN:VEVENT
DTSTART;TZID=America/New_York:20280315T160000
DTEND;TZID=America/New_York:20280315T220000
DTSTAMP:20260425T112844
CREATED:20250423T181043Z
LAST-MODIFIED:20250423T183539Z
UID:10002103-1836748800-1836770400@theauldshebeenva.com
SUMMARY:Pie and Pint Night $20.95
DESCRIPTION:Enjoy one of our Chicken Pot Pies\, Steak and Mushroom Ale Pie or Shepherd’s Pies and a pint of your choice for $20.95!
URL:https://theauldshebeenva.com/event/pie-and-pint-night/2028-03-15/
LOCATION:VA
CATEGORIES:Menu Specials,Other Entertainment
ATTACH;FMTTYPE=image/jpeg:https://theauldshebeenva.com/wp-content/uploads/Pie-and-Pint.jpg
END:VEVENT
BEGIN:VEVENT
DTSTART;TZID=America/New_York:20280316T160000
DTEND;TZID=America/New_York:20280316T213000
DTSTAMP:20260425T112844
CREATED:20250423T185024Z
LAST-MODIFIED:20250423T185024Z
UID:10002399-1836835200-1836855000@theauldshebeenva.com
SUMMARY:Thursday\, Teres Major Steak Special
DESCRIPTION:Every Thursday enjoy our Teres Major Steak Special for $20.95. \n8oz Teres Major (shoulder tenderloin) cut of beef with chimichurri sauce (South American style sauce with chili flakes\, garlic\, parsley\, olive oil and vinegar). Served with pub fries and a small Shebeen salad. \n 
URL:https://theauldshebeenva.com/event/thursday-teres-major-steak-special/2028-03-16/
LOCATION:The Auld Shebeen\, 3971 Chain Bridge Road\, Fairfax\, VA\, 22030
CATEGORIES:Menu Specials,Special Events
ATTACH;FMTTYPE=image/jpeg:https://theauldshebeenva.com/wp-content/uploads/Teres-Major-1-1.jpg
END:VEVENT
BEGIN:VEVENT
DTSTART;TZID=America/New_York:20280322T160000
DTEND;TZID=America/New_York:20280322T220000
DTSTAMP:20260425T112844
CREATED:20250423T181043Z
LAST-MODIFIED:20250423T183539Z
UID:10002104-1837353600-1837375200@theauldshebeenva.com
SUMMARY:Pie and Pint Night $20.95
DESCRIPTION:Enjoy one of our Chicken Pot Pies\, Steak and Mushroom Ale Pie or Shepherd’s Pies and a pint of your choice for $20.95!
URL:https://theauldshebeenva.com/event/pie-and-pint-night/2028-03-22/
LOCATION:VA
CATEGORIES:Menu Specials,Other Entertainment
ATTACH;FMTTYPE=image/jpeg:https://theauldshebeenva.com/wp-content/uploads/Pie-and-Pint.jpg
END:VEVENT
BEGIN:VEVENT
DTSTART;TZID=America/New_York:20280323T160000
DTEND;TZID=America/New_York:20280323T213000
DTSTAMP:20260425T112844
CREATED:20250423T185024Z
LAST-MODIFIED:20250423T185024Z
UID:10002400-1837440000-1837459800@theauldshebeenva.com
SUMMARY:Thursday\, Teres Major Steak Special
DESCRIPTION:Every Thursday enjoy our Teres Major Steak Special for $20.95. \n8oz Teres Major (shoulder tenderloin) cut of beef with chimichurri sauce (South American style sauce with chili flakes\, garlic\, parsley\, olive oil and vinegar). Served with pub fries and a small Shebeen salad. \n 
URL:https://theauldshebeenva.com/event/thursday-teres-major-steak-special/2028-03-23/
LOCATION:The Auld Shebeen\, 3971 Chain Bridge Road\, Fairfax\, VA\, 22030
CATEGORIES:Menu Specials,Special Events
ATTACH;FMTTYPE=image/jpeg:https://theauldshebeenva.com/wp-content/uploads/Teres-Major-1-1.jpg
END:VEVENT
BEGIN:VEVENT
DTSTART;TZID=America/New_York:20280329T160000
DTEND;TZID=America/New_York:20280329T220000
DTSTAMP:20260425T112844
CREATED:20250423T181043Z
LAST-MODIFIED:20250423T183539Z
UID:10002105-1837958400-1837980000@theauldshebeenva.com
SUMMARY:Pie and Pint Night $20.95
DESCRIPTION:Enjoy one of our Chicken Pot Pies\, Steak and Mushroom Ale Pie or Shepherd’s Pies and a pint of your choice for $20.95!
URL:https://theauldshebeenva.com/event/pie-and-pint-night/2028-03-29/
LOCATION:VA
CATEGORIES:Menu Specials,Other Entertainment
ATTACH;FMTTYPE=image/jpeg:https://theauldshebeenva.com/wp-content/uploads/Pie-and-Pint.jpg
END:VEVENT
BEGIN:VEVENT
DTSTART;TZID=America/New_York:20280330T160000
DTEND;TZID=America/New_York:20280330T213000
DTSTAMP:20260425T112844
CREATED:20250423T185024Z
LAST-MODIFIED:20250423T185024Z
UID:10002401-1838044800-1838064600@theauldshebeenva.com
SUMMARY:Thursday\, Teres Major Steak Special
DESCRIPTION:Every Thursday enjoy our Teres Major Steak Special for $20.95. \n8oz Teres Major (shoulder tenderloin) cut of beef with chimichurri sauce (South American style sauce with chili flakes\, garlic\, parsley\, olive oil and vinegar). Served with pub fries and a small Shebeen salad. \n 
URL:https://theauldshebeenva.com/event/thursday-teres-major-steak-special/2028-03-30/
LOCATION:The Auld Shebeen\, 3971 Chain Bridge Road\, Fairfax\, VA\, 22030
CATEGORIES:Menu Specials,Special Events
ATTACH;FMTTYPE=image/jpeg:https://theauldshebeenva.com/wp-content/uploads/Teres-Major-1-1.jpg
END:VEVENT
END:VCALENDAR