BEGIN:VCALENDAR
VERSION:2.0
PRODID:-//The Auld Shebeen - ECPv6.15.20//NONSGML v1.0//EN
CALSCALE:GREGORIAN
METHOD:PUBLISH
X-WR-CALNAME:The Auld Shebeen
X-ORIGINAL-URL:https://theauldshebeenva.com
X-WR-CALDESC:Events for The Auld Shebeen
REFRESH-INTERVAL;VALUE=DURATION:PT1H
X-Robots-Tag:noindex
X-PUBLISHED-TTL:PT1H
BEGIN:VTIMEZONE
TZID:America/New_York
BEGIN:DAYLIGHT
TZOFFSETFROM:-0500
TZOFFSETTO:-0400
TZNAME:EDT
DTSTART:20250309T070000
END:DAYLIGHT
BEGIN:STANDARD
TZOFFSETFROM:-0400
TZOFFSETTO:-0500
TZNAME:EST
DTSTART:20251102T060000
END:STANDARD
BEGIN:DAYLIGHT
TZOFFSETFROM:-0500
TZOFFSETTO:-0400
TZNAME:EDT
DTSTART:20260308T070000
END:DAYLIGHT
BEGIN:STANDARD
TZOFFSETFROM:-0400
TZOFFSETTO:-0500
TZNAME:EST
DTSTART:20261101T060000
END:STANDARD
BEGIN:DAYLIGHT
TZOFFSETFROM:-0500
TZOFFSETTO:-0400
TZNAME:EDT
DTSTART:20270314T070000
END:DAYLIGHT
BEGIN:STANDARD
TZOFFSETFROM:-0400
TZOFFSETTO:-0500
TZNAME:EST
DTSTART:20271107T060000
END:STANDARD
END:VTIMEZONE
BEGIN:VEVENT
DTSTART;TZID=America/New_York:20260404T120000
DTEND;TZID=America/New_York:20260404T150000
DTSTAMP:20260423T125820
CREATED:20240726T163428Z
LAST-MODIFIED:20240726T163527Z
UID:10001552-1775304000-1775314800@theauldshebeenva.com
SUMMARY:Ceoltas Ceoltoiri Eireann Session Players
DESCRIPTION:Enjoy brunch or lunch while you listen to a traditional Irish session by local CCE members every Saturday from noon- 3pm.
URL:https://theauldshebeenva.com/event/ceoltas-ceoltoiri-eireann-session-players/2026-04-04/
LOCATION:VA
CATEGORIES:Live Music,Other Entertainment
ATTACH;FMTTYPE=image/jpeg:https://theauldshebeenva.com/wp-content/uploads/003-scaled.jpg
END:VEVENT
BEGIN:VEVENT
DTSTART;TZID=America/New_York:20260404T193000
DTEND;TZID=America/New_York:20260404T213000
DTSTAMP:20260423T125820
CREATED:20180709T184138Z
LAST-MODIFIED:20251028T151216Z
UID:10002754-1775331000-1775338200@theauldshebeenva.com
SUMMARY:Sean Fleming
DESCRIPTION:Sean Fleming has talent that is as wide and varied as his lifestyle\, from his birth in a Golf Club House (“….it’s no wonder I’m a golf nut\,” says Sean) on the shores of the beautiful Lakes of Killarney to his many\, many appearances in the United States such as in Philadelphia at the Robin Hood Dell where he performed to an audience of 9\,000\, on the Merv Griffin Show and as the Headliner at Carnegie Hall to a sold out house. \nSean began playing traditional Irish music in Irish dance halls and then his ambition as a singer began to take shape and he formed the Rocketeers Irish Showband. The Rocketeers toured through out the U.S. and Canada playing in major cities such as Chicago\, Boston\, New York\, San Francisco and Toronto. Sean’s first big break came through the help of someone that holds a special place in Sean’s memory\, Merv Griffin. Sean was chosen from the audience to perform on Merv’s Show which consequently led to several more appearances over the next couple of years on the Merv Griffin Show. Sean shared the spotlight with such artists as the Beach Boys\, David Soul\, Della Reese and Rodney Dangerfield. The shape of his career was becoming quite definite when he signed with MGM records and MGM motion pictures. However\, it took an abrupt twist when he was called by Uncle Sam. \nAfter serving Uncle Sam\, Sean found himself back in New York starting all over again. His beginnings this time were spent working in small clubs and bars\, which eventually led to many concert performances\, including the one he gave in Philadelphia to 9\,000 people. Other appearances include: the Irish Cultural Center in San Francisco and Southern Florida; Warner Brothers Theatre\, Ohio; Westchester Country Club\, New York; Flanagan’s in New York\, and his own bar in New York City through 1994\, Ireland’s Four Provinces and Cellar Door Productions in Washington D.C.(The Bayou)and Alexandria\, Virginia’s Birchmere\, Music Fest Bethleham\, PA and all over the united states with the Irish Tourist Board . Also to his credit are many radio shows and television appearances (including the PBS  “Out of Ireland” series) throughout the United States\, Ireland\, Japan\, Argentina\, the Philippines and the Czech Republic.
URL:https://theauldshebeenva.com/event/sean-fleming/2026-04-04/
LOCATION:The Auld Shebeen\, 3971 Chain Bridge Road\, Fairfax\, VA\, 22030
CATEGORIES:Live Music,Other Entertainment
ATTACH;FMTTYPE=image/jpeg:https://theauldshebeenva.com/wp-content/uploads/Sean-Fleming-2025.jpeg
END:VEVENT
END:VCALENDAR